Workbook

Sheet RESUMEN 
A1: MINISTERIO DE SALUD
A2: SERVICIO DE SALUD COQUIMBO
A3: SUBDIRECCION DE GESTION ASISTENCIAL
A4: SUBDEPTO DE ESTADÍSTICA Y GESTIÓN DE LA INFORMACIÓN
A5: COMUNA | B5: RESUMEN DE CUMPLIMIENTO DE METAS A ABRIL 2017
B6: CORTE A ABRIL
B8: METAS COMPONENTE ESTRATEGIA RISS, PRODUCCIÓN,COBERTURA EFECTIVA E IMPACTO SANITARIO
B9: META Nº2 | C9: META Nº3.1 | D9: META Nº5 | E9: META Nº6 | F9: META Nº7 | G9: META Nº8.1 | H9: META Nº8.2 | I9: META Nº8.3 | J9: META Nº9 | K9: META Nº10 | L9: META Nº11 | M9: META Nº12 | N9: META Nº13 | O9: META Nº14 | P9: META Nº17 | Q9: META Nº18 | R9: META Nº19 | S9: META Nº20 | T9: META Nº21 | U9: CUMPLIMIENTO GENERAL | V9: CUMPLIMIENTO META GES
B10: Familias Evaluadas según riesgo (*) | C10: Gestion de Reclamos APS | D10: Consultas de Morbilidad y Controles Médicos | E10: SIC derivadas desde la APS al Nivel Secundario | F10: Visita domiciliaria integral | G10: EMP hombres 20 a 64 años | H10: EMP mujeres de 45 a 64 años | I10: EMP 65 y mas años | J10: Evaluación del desarrollo Psicomotor de niños/as de 12 a 23 meses bajo control | K10: Control de salud integral adolescentes de 10 a 14 años | L10: Alta odontologica menores de 20 años | M10: Cobertura de Atención Integral de trastornos mentales en personas de 5 y más años | N10: Cobertura de Atención de Asma en Población general y EPOC en personas de 40 años y más | O10: Capacitación a Cuidadores de personas con Dependencia Severa con Pago de Estipendio (*) | P10: Control embarazada | Q10: Cobertura de Métodos Anticonceptivos en Adolescentes (*) | R10: Cobertura DM2 en personas de 15 y mas años (*) | S10: Cobertutra HTA en personas de 15 y mas años (*) | T10: Proporción de Niñas y Niños de 3 años libre de Caries
A12: HOSPITAL ANDACOLLO | B12: N/A | C12: =+'META 3.1'!C12 -> 1.0188487 | D12: =+'META 5 '!C12 -> 1.8093426 | E12: =+'META 6'!C12 -> 0.97766497 | F12: =+'META 7'!C12 -> 1.1614972 | G12: =+'META 8.1'!C12 -> 0.46175851 | H12: =+'META 8.2'!C12 -> 2.2463448 | I12: =+'META 8.3'!C12 -> 2.1666039 | J12: =+'META 9'!C12 -> 0.29461279 | K12: =+'META 10'!C12 -> 1.9613381 | L12: =+'META 11'!C12 -> 1.2226397 | M12: =+'META 12'!C12 -> 0.69833296 | N12: =+'META 13'!C12 -> 0.72121064 | O12: N/A | P12: =+'META 17'!C12 -> 0.98709465 | Q12: =+'META 18'!C12 -> 7.9067193 | R12: N/A | S12: N/A | T12: =+'META 21'!C12 -> SI | U12: =C37*3%+D37*6%+E37*3%+F37*5%+G37*5%+H37*5%+I37*5%+J37*4%+K37*4%+L37*4%+M37*4%+N37*4%+P37*4%+T37*3% -> 0.51046792 | V12: =+META_GES!C12 -> 0.99667774
A13: HOSPITAL VICUÑA | B13: N/A | C13: =+'META 3.1'!C13 -> 0.97066072 | D13: =+'META 5 '!C13 -> 1.6964711 | E13: =+'META 6'!C13 -> 0.96832413 | F13: =+'META 7'!C13 -> 1.0889925 | G13: =+'META 8.1'!C13 -> 0.6235682 | H13: =+'META 8.2'!C13 -> 0.76611841 | I13: =+'META 8.3'!C13 -> 0.70693706 | J13: =+'META 9'!C13 -> 0.17736046 | K13: =+'META 10'!C13 -> 0 | L13: =+'META 11'!C13 -> 0.81699346 | M13: =+'META 12'!C13 -> 0.95844825 | N13: =+'META 13'!C13 -> 0.88398905 | O13: N/A | P13: =+'META 17'!C13 -> 1.1206057 | Q13: =+'META 18'!C13 -> 6.4097251 | R13: N/A | S13: N/A | T13: =+'META 21'!C13 -> SI | U13: =C38*3%+D38*6%+E38*3%+F38*5%+G38*5%+H38*5%+I38*5%+J38*4%+K38*4%+L38*4%+M38*4%+N38*4%+P38*4%+T38*3% -> 0.45647238 | V13: =+META_GES!C13 -> 1
A14: HOSPITAL ILLAPEL | B14: N/A | C14: =+'META 3.1'!C14 -> 1.0028149 | D14: =+'META 5 '!C14 -> 2.1752612 | E14: =+'META 6'!C14 -> 0.64407039 | F14: =+'META 7'!C14 -> 1.9719725 | G14: =+'META 8.1'!C14 -> 1.6951006 | H14: =+'META 8.2'!C14 -> 1.4026382 | I14: =+'META 8.3'!C14 -> 5.2870829 | J14: =+'META 9'!C14 -> 0.3483887 | K14: =+'META 10'!C14 -> 0 | L14: =+'META 11'!C14 -> 1.7250768 | M14: =+'META 12'!C14 -> 1.2985197 | N14: =+'META 13'!C14 -> 0.91631787 | O14: N/A | P14: =+'META 17'!C14 -> 0.86669401 | Q14: =+'META 18'!C14 -> 4.8572916 | R14: N/A | S14: N/A | T14: =+'META 21'!C14 -> SI | U14: =C39*3%+D39*6%+E39*3%+F39*5%+G39*5%+H39*5%+I39*5%+J39*4%+K39*4%+L39*4%+M39*4%+N39*4%+P39*4%+T39*3% -> 0.50457813 | V14: =+META_GES!C14 -> 1
A15: HOSPITAL LOS VILOS | B15: N/A | C15: =+'META 3.1'!C15 -> 1.019368 | D15: =+'META 5 '!C15 -> 2.2040635 | E15: =+'META 6'!C15 -> 2.0260982 | F15: =+'META 7'!C15 -> 3.2405194 | G15: =+'META 8.1'!C15 -> 0.64363574 | H15: =+'META 8.2'!C15 -> 0.62998745 | I15: =+'META 8.3'!C15 -> 2.3987327 | J15: =+'META 9'!C15 -> 0.34542314 | K15: =+'META 10'!C15 -> 0.40415246 | L15: =+'META 11'!C15 -> 0.70226863 | M15: =+'META 12'!C15 -> 0.95135024 | N15: =+'META 13'!C15 -> 0.59370775 | O15: N/A | P15: =+'META 17'!C15 -> 0.82970338 | Q15: =+'META 18'!C15 -> 6.6650881 | R15: N/A | S15: N/A | T15: =+'META 21'!C15 -> SI | U15: =C40*3%+D40*6%+E40*3%+F40*5%+G40*5%+H40*5%+I40*5%+J40*4%+K40*4%+L40*4%+M40*4%+N40*4%+P40*4%+T40*3% -> 0.46674538 | V15: =+META_GES!C15 -> 1
A16: HOSPITAL SALAMANCA | B16: N/A | C16: =+'META 3.1'!C16 -> 0.77287876 | D16: =+'META 5 '!C16 -> 1.804173 | E16: =+'META 6'!C16 -> 0.99847512 | F16: =+'META 7'!C16 -> 0.21437212 | G16: =+'META 8.1'!C16 -> 0.72349351 | H16: =+'META 8.2'!C16 -> 2.2102099 | I16: =+'META 8.3'!C16 -> 0.85390947 | J16: =+'META 9'!C16 -> 0.23492063 | K16: =+'META 10'!C16 -> 0 | L16: =+'META 11'!C16 -> 2.9057368 | M16: =+'META 12'!C16 -> 0.5856496 | N16: =+'META 13'!C16 -> 0.67029288 | O16: N/A | P16: =+'META 17'!C16 -> 0.8731171 | Q16: =+'META 18'!C16 -> 7.00056 | R16: N/A | S16: N/A | T16: =+'META 21'!C16 -> SI | U16: =C41*3%+D41*6%+E41*3%+F41*5%+G41*5%+H41*5%+I41*5%+J41*4%+K41*4%+L41*4%+M41*4%+N41*4%+P41*4%+T41*3% -> 0.41728858 | V16: =+META_GES!C16 -> 1
A17: HOSPITAL COMBARBALÁ | B17: N/A | C17: =+'META 3.1'!C17 -> 1.0194719 | D17: =+'META 5 '!C17 -> 4.0107775 | E17: =+'META 6'!C17 -> 2.7290476 | F17: =+'META 7'!C17 -> 2.9025681 | G17: =+'META 8.1'!C17 -> 2.1888006 | H17: =+'META 8.2'!C17 -> 0.48106157 | I17: =+'META 8.3'!C17 -> 1.3992604 | J17: =+'META 9'!C17 -> 0.41878891 | K17: =+'META 10'!C17 -> 0 | L17: =+'META 11'!C17 -> 1.6511952 | M17: =+'META 12'!C17 -> 1.21621 | N17: =+'META 13'!C17 -> 0.8521275 | O17: N/A | P17: =+'META 17'!C17 -> 0.96538492 | Q17: =+'META 18'!C17 -> 23.204827 | R17: N/A | S17: N/A | T17: =+'META 21'!C17 -> SI | U17: =C42*3%+D42*6%+E42*3%+F42*5%+G42*5%+H42*5%+I42*5%+J42*4%+K42*4%+L42*4%+M42*4%+N42*4%+P42*4%+T42*3% -> 0.49350513 | V17: =+META_GES!C17 -> 1
A18: (*) Metas a Evaluar con Serie P de Junio 2017
A25: MINISTERIO DE SALUD
A26: SERVICIO DE SALUD COQUIMBO
A27: SUBDIRECCION DE GESTION ASISTENCIAL
A28: SUBDEPTO DE ESTADÍSTICA Y GESTIÓN DE LA INFORMACIÓN
A30: COMUNA | B30: RESUMEN DE CUMPLIMIENTO DE METAS A ABRIL 2017
B31: CORTE A MARZO
B33: METAS COMPONENTE ESTRATEGIA RISS, PRODUCCIÓN,COBERTURA EFECTIVA E IMPACTO SANITARIO
B34: META Nº2 | C34: META Nº3.1 | D34: META Nº5 | E34: META Nº6 | F34: META Nº7 | G34: META Nº8.1 | H34: META Nº8.2 | I34: META Nº8.3 | J34: META Nº9 | K34: META Nº10 | L34: META Nº11 | M34: META Nº12 | N34: META Nº13 | O34: META Nº14 | P34: META Nº17 | Q34: META Nº18 | R34: META Nº19 | S34: META Nº20 | T34: META Nº21
B35: Familias Evaluadas según riesgo | C35: Gestion de Reclamos APS | D35: Consultas de Morbilidad y Controles Médicos | E35: SIC derivadas desde la APS al Nivel Secundario | F35: Visita domiciliaria integral | G35: EMP hombres 20 a 64 años | H35: EMP mujeres de 45 a 64 años | I35: EMP 65 y mas años | J35: Evaluación del desarrollo Psicomotor de niños/as de 12 a 23 meses bajo control | K35: Control de salud integral adolescentes de 10 a 14 años | L35: Alta odontologica menores de 20 años | M35: Cobertura de Atención Integral de trastornos mentales en personas de 5 y más años | N35: Cobertura de Atención de Asma en Población general y EPOC en personas de 40 años y más | O35: Capacitación a Cuidadores de personas con Dependencia Severa con Pago de Estipendio | P35: Control embarazada | Q35: Cobertura de Métodos Anticonceptivos en Adolescentes | R35: Cobertura DM2 en personas de 15 y mas años | S35: Cobertutra HTA en personas de 15 y mas años | T35: Proporción de Niñas y Niños de 3 años libre de Caries
A37: LA SERENA | B37: =IF(B12="n/a","n/a",IF(B12="","",IF(B12>1,1,B12))) -> n/a | C37: =IF(C12="n/a","n/a",IF(C12="","",IF(C12>1,1,C12))) -> 1 | D37: =IF(D12="n/a","n/a",IF(D12="","",IF(D12>1,1,D12))) -> 1 | E37: =IF(E12="n/a","n/a",IF(E12="","",IF(E12>1,1,E12))) -> 0.97766497 | F37: =IF(F12="n/a","n/a",IF(F12="","",IF(F12>1,1,F12))) -> 1 | G37: =IF(G12="n/a","n/a",IF(G12="","",IF(G12>1,1,G12))) -> 0.46175851 | H37: =IF(H12="n/a","n/a",IF(H12="","",IF(H12>1,1,H12))) -> 1 | I37: =IF(I12="n/a","n/a",IF(I12="","",IF(I12>1,1,I12))) -> 1 | ... S37: =IF(S12="n/a","n/a",IF(S12="","",IF(S12>1,1,S12))) -> n/a | T37: =IF(T12="n/a","n/a",IF(T12="SI",1,0)) -> 1
A38: COQUIMBO | B38: =IF(B13="n/a","n/a",IF(B13="","",IF(B13>1,1,B13))) -> n/a | C38: =IF(C13="n/a","n/a",IF(C13="","",IF(C13>1,1,C13))) -> 0.97066072 | D38: =IF(D13="n/a","n/a",IF(D13="","",IF(D13>1,1,D13))) -> 1 | E38: =IF(E13="n/a","n/a",IF(E13="","",IF(E13>1,1,E13))) -> 0.96832413 | F38: =IF(F13="n/a","n/a",IF(F13="","",IF(F13>1,1,F13))) -> 1 | G38: =IF(G13="n/a","n/a",IF(G13="","",IF(G13>1,1,G13))) -> 0.6235682 | H38: =IF(H13="n/a","n/a",IF(H13="","",IF(H13>1,1,H13))) -> 0.76611841 | I38: =IF(I13="n/a","n/a",IF(I13="","",IF(I13>1,1,I13))) -> 0.70693706 | ... S38: =IF(S13="n/a","n/a",IF(S13="","",IF(S13>1,1,S13))) -> n/a | T38: =IF(T13="n/a","n/a",IF(T13="SI",1,0)) -> 1
A39: VICUÑA | B39: =IF(B14="n/a","n/a",IF(B14="","",IF(B14>1,1,B14))) -> n/a | C39: =IF(C14="n/a","n/a",IF(C14="","",IF(C14>1,1,C14))) -> 1 | D39: =IF(D14="n/a","n/a",IF(D14="","",IF(D14>1,1,D14))) -> 1 | E39: =IF(E14="n/a","n/a",IF(E14="","",IF(E14>1,1,E14))) -> 0.64407039 | F39: =IF(F14="n/a","n/a",IF(F14="","",IF(F14>1,1,F14))) -> 1 | G39: =IF(G14="n/a","n/a",IF(G14="","",IF(G14>1,1,G14))) -> 1 | H39: =IF(H14="n/a","n/a",IF(H14="","",IF(H14>1,1,H14))) -> 1 | I39: =IF(I14="n/a","n/a",IF(I14="","",IF(I14>1,1,I14))) -> 1 | ... S39: =IF(S14="n/a","n/a",IF(S14="","",IF(S14>1,1,S14))) -> n/a | T39: =IF(T14="n/a","n/a",IF(T14="SI",1,0)) -> 1
A40: ILLAPEL | B40: =IF(B15="n/a","n/a",IF(B15="","",IF(B15>1,1,B15))) -> n/a | C40: =IF(C15="n/a","n/a",IF(C15="","",IF(C15>1,1,C15))) -> 1 | D40: =IF(D15="n/a","n/a",IF(D15="","",IF(D15>1,1,D15))) -> 1 | E40: =IF(E15="n/a","n/a",IF(E15="","",IF(E15>1,1,E15))) -> 1 | F40: =IF(F15="n/a","n/a",IF(F15="","",IF(F15>1,1,F15))) -> 1 | G40: =IF(G15="n/a","n/a",IF(G15="","",IF(G15>1,1,G15))) -> 0.64363574 | H40: =IF(H15="n/a","n/a",IF(H15="","",IF(H15>1,1,H15))) -> 0.62998745 | I40: =IF(I15="n/a","n/a",IF(I15="","",IF(I15>1,1,I15))) -> 1 | ... S40: =IF(S15="n/a","n/a",IF(S15="","",IF(S15>1,1,S15))) -> n/a | T40: =IF(T15="n/a","n/a",IF(T15="SI",1,0)) -> 1
A41: CANELA | B41: =IF(B16="n/a","n/a",IF(B16="","",IF(B16>1,1,B16))) -> n/a | C41: =IF(C16="n/a","n/a",IF(C16="","",IF(C16>1,1,C16))) -> 0.77287876 | D41: =IF(D16="n/a","n/a",IF(D16="","",IF(D16>1,1,D16))) -> 1 | E41: =IF(E16="n/a","n/a",IF(E16="","",IF(E16>1,1,E16))) -> 0.99847512 | F41: =IF(F16="n/a","n/a",IF(F16="","",IF(F16>1,1,F16))) -> 0.21437212 | G41: =IF(G16="n/a","n/a",IF(G16="","",IF(G16>1,1,G16))) -> 0.72349351 | H41: =IF(H16="n/a","n/a",IF(H16="","",IF(H16>1,1,H16))) -> 1 | I41: =IF(I16="n/a","n/a",IF(I16="","",IF(I16>1,1,I16))) -> 0.85390947 | ... S41: =IF(S16="n/a","n/a",IF(S16="","",IF(S16>1,1,S16))) -> n/a | T41: =IF(T16="n/a","n/a",IF(T16="SI",1,0)) -> 1
A42: LOS VILOS | B42: =IF(B17="n/a","n/a",IF(B17="","",IF(B17>1,1,B17))) -> n/a | C42: =IF(C17="n/a","n/a",IF(C17="","",IF(C17>1,1,C17))) -> 1 | D42: =IF(D17="n/a","n/a",IF(D17="","",IF(D17>1,1,D17))) -> 1 | E42: =IF(E17="n/a","n/a",IF(E17="","",IF(E17>1,1,E17))) -> 1 | F42: =IF(F17="n/a","n/a",IF(F17="","",IF(F17>1,1,F17))) -> 1 | G42: =IF(G17="n/a","n/a",IF(G17="","",IF(G17>1,1,G17))) -> 1 | H42: =IF(H17="n/a","n/a",IF(H17="","",IF(H17>1,1,H17))) -> 0.48106157 | I42: =IF(I17="n/a","n/a",IF(I17="","",IF(I17>1,1,I17))) -> 1 | ... S42: =IF(S17="n/a","n/a",IF(S17="","",IF(S17>1,1,S17))) -> n/a | T42: =IF(T17="n/a","n/a",IF(T17="SI",1,0)) -> 1
A43: SALAMANCA | B43: =IF(#REF!="n/a","n/a",IF(#REF!="","",IF(#REF!>1,1,#REF!))) -> #REF! | C43: =IF(#REF!="n/a","n/a",IF(#REF!="","",IF(#REF!>1,1,#REF!))) -> #REF! | D43: =IF(#REF!="n/a","n/a",IF(#REF!="","",IF(#REF!>1,1,#REF!))) -> #REF! | E43: =IF(#REF!="n/a","n/a",IF(#REF!="","",IF(#REF!>1,1,#REF!))) -> #REF! | F43: =IF(#REF!="n/a","n/a",IF(#REF!="","",IF(#REF!>1,1,#REF!))) -> #REF! | G43: =IF(#REF!="n/a","n/a",IF(#REF!="","",IF(#REF!>1,1,#REF!))) -> #REF! | H43: =IF(#REF!="n/a","n/a",IF(#REF!="","",IF(#REF!>1,1,#REF!))) -> #REF! | I43: =IF(#REF!="n/a","n/a",IF(#REF!="","",IF(#REF!>1,1,#REF!))) -> #REF! | ... S43: =IF(#REF!="n/a","n/a",IF(#REF!="","",IF(#REF!>1,1,#REF!))) -> #REF! | T43: =IF(#REF!="n/a","n/a",IF(#REF!="SI",1,0)) -> #REF!
A44: OVALLE | B44: =IF(#REF!="n/a","n/a",IF(#REF!="","",IF(#REF!>1,1,#REF!))) -> #REF! | C44: =IF(#REF!="n/a","n/a",IF(#REF!="","",IF(#REF!>1,1,#REF!))) -> #REF! | D44: =IF(#REF!="n/a","n/a",IF(#REF!="","",IF(#REF!>1,1,#REF!))) -> #REF! | E44: =IF(#REF!="n/a","n/a",IF(#REF!="","",IF(#REF!>1,1,#REF!))) -> #REF! | F44: =IF(#REF!="n/a","n/a",IF(#REF!="","",IF(#REF!>1,1,#REF!))) -> #REF! | G44: =IF(#REF!="n/a","n/a",IF(#REF!="","",IF(#REF!>1,1,#REF!))) -> #REF! | H44: =IF(#REF!="n/a","n/a",IF(#REF!="","",IF(#REF!>1,1,#REF!))) -> #REF! | I44: =IF(#REF!="n/a","n/a",IF(#REF!="","",IF(#REF!>1,1,#REF!))) -> #REF! | ... S44: =IF(#REF!="n/a","n/a",IF(#REF!="","",IF(#REF!>1,1,#REF!))) -> #REF! | T44: =IF(#REF!="n/a","n/a",IF(#REF!="SI",1,0)) -> #REF!
A45: COMBARBALÁ | B45: =IF(#REF!="n/a","n/a",IF(#REF!="","",IF(#REF!>1,1,#REF!))) -> #REF! | C45: =IF(#REF!="n/a","n/a",IF(#REF!="","",IF(#REF!>1,1,#REF!))) -> #REF! | D45: =IF(#REF!="n/a","n/a",IF(#REF!="","",IF(#REF!>1,1,#REF!))) -> #REF! | E45: =IF(#REF!="n/a","n/a",IF(#REF!="","",IF(#REF!>1,1,#REF!))) -> #REF! | F45: =IF(#REF!="n/a","n/a",IF(#REF!="","",IF(#REF!>1,1,#REF!))) -> #REF! | G45: =IF(#REF!="n/a","n/a",IF(#REF!="","",IF(#REF!>1,1,#REF!))) -> #REF! | H45: =IF(#REF!="n/a","n/a",IF(#REF!="","",IF(#REF!>1,1,#REF!))) -> #REF! | I45: =IF(#REF!="n/a","n/a",IF(#REF!="","",IF(#REF!>1,1,#REF!))) -> #REF! | ... S45: =IF(#REF!="n/a","n/a",IF(#REF!="","",IF(#REF!>1,1,#REF!))) -> #REF! | T45: =IF(#REF!="n/a","n/a",IF(#REF!="SI",1,0)) -> #REF!
A46: MONTE PATRIA | B46: =IF(#REF!="n/a","n/a",IF(#REF!="","",IF(#REF!>1,1,#REF!))) -> #REF! | C46: =IF(#REF!="n/a","n/a",IF(#REF!="","",IF(#REF!>1,1,#REF!))) -> #REF! | D46: =IF(#REF!="n/a","n/a",IF(#REF!="","",IF(#REF!>1,1,#REF!))) -> #REF! | E46: =IF(#REF!="n/a","n/a",IF(#REF!="","",IF(#REF!>1,1,#REF!))) -> #REF! | F46: =IF(#REF!="n/a","n/a",IF(#REF!="","",IF(#REF!>1,1,#REF!))) -> #REF! | G46: =IF(#REF!="n/a","n/a",IF(#REF!="","",IF(#REF!>1,1,#REF!))) -> #REF! | H46: =IF(#REF!="n/a","n/a",IF(#REF!="","",IF(#REF!>1,1,#REF!))) -> #REF! | I46: =IF(#REF!="n/a","n/a",IF(#REF!="","",IF(#REF!>1,1,#REF!))) -> #REF! | ... S46: =IF(#REF!="n/a","n/a",IF(#REF!="","",IF(#REF!>1,1,#REF!))) -> #REF! | T46: =IF(#REF!="n/a","n/a",IF(#REF!="SI",1,0)) -> #REF!
A47: PUNITAQUI | B47: =IF(#REF!="n/a","n/a",IF(#REF!="","",IF(#REF!>1,1,#REF!))) -> #REF! | C47: =IF(#REF!="n/a","n/a",IF(#REF!="","",IF(#REF!>1,1,#REF!))) -> #REF! | D47: =IF(#REF!="n/a","n/a",IF(#REF!="","",IF(#REF!>1,1,#REF!))) -> #REF! | E47: =IF(#REF!="n/a","n/a",IF(#REF!="","",IF(#REF!>1,1,#REF!))) -> #REF! | F47: =IF(#REF!="n/a","n/a",IF(#REF!="","",IF(#REF!>1,1,#REF!))) -> #REF! | G47: =IF(#REF!="n/a","n/a",IF(#REF!="","",IF(#REF!>1,1,#REF!))) -> #REF! | H47: =IF(#REF!="n/a","n/a",IF(#REF!="","",IF(#REF!>1,1,#REF!))) -> #REF! | I47: =IF(#REF!="n/a","n/a",IF(#REF!="","",IF(#REF!>1,1,#REF!))) -> #REF! | ... S47: =IF(#REF!="n/a","n/a",IF(#REF!="","",IF(#REF!>1,1,#REF!))) -> #REF! | T47: =IF(#REF!="n/a","n/a",IF(#REF!="SI",1,0)) -> #REF!
A48: RIO HURTADO | B48: =IF(#REF!="n/a","n/a",IF(#REF!="","",IF(#REF!>1,1,#REF!))) -> #REF! | C48: =IF(#REF!="n/a","n/a",IF(#REF!="","",IF(#REF!>1,1,#REF!))) -> #REF! | D48: =IF(#REF!="n/a","n/a",IF(#REF!="","",IF(#REF!>1,1,#REF!))) -> #REF! | E48: =IF(#REF!="n/a","n/a",IF(#REF!="","",IF(#REF!>1,1,#REF!))) -> #REF! | F48: =IF(#REF!="n/a","n/a",IF(#REF!="","",IF(#REF!>1,1,#REF!))) -> #REF! | G48: =IF(#REF!="n/a","n/a",IF(#REF!="","",IF(#REF!>1,1,#REF!))) -> #REF! | H48: =IF(#REF!="n/a","n/a",IF(#REF!="","",IF(#REF!>1,1,#REF!))) -> #REF! | I48: =IF(#REF!="n/a","n/a",IF(#REF!="","",IF(#REF!>1,1,#REF!))) -> #REF! | ... S48: =IF(#REF!="n/a","n/a",IF(#REF!="","",IF(#REF!>1,1,#REF!))) -> #REF! | T48: =IF(#REF!="n/a","n/a",IF(#REF!="SI",1,0)) -> #REF!

Sheet META 2
A1: COMUNA | B1: ESTABLECIMIENTO | C1: CUMPLIMIENTO | D1: Indicador | E1: META 2 : FAMILIAS EVALUADAS SEGÚN RIESGO FAMILIAR
E2: NUMERADOR | G2: DENOMINADOR
E10: Nº de familias evaluadas según riesgo familiar | G10: Total de familias Insciritas (población estimada/3,3)
D11: Resultado | E11: A JUNIO | F11: A DICBRE
A12: 04103-ANDACOLLO | B12: 105106-HOSPITAL ANDACOLLO | D12: =+E12/G12 -> 0 | G12: 2264
A13: 04106-VICUÑA | B13: 105107-HOSPITAL VICUÑA | D13: =+E13/G13 -> 0 | G13: 4174
A14: 04201-ILLAPEL | B14: 105103-HOSPITAL ILLAPEL | D14: =+E14/G14 -> 0 | G14: 5584
A15: 04203-LOS VILOS | B15: 105108-HOSPITAL LOS VILOS | D15: =+E15/G15 -> 0 | G15: 3993
A16: 04204-SALAMANCA | B16: 105104-HOSPITAL SALAMANCA | D16: =+E16/G16 -> 0 | G16: 3958
A17: 04302-COMBARBALÁ | B17: 105105-HOSPITAL COMBARBALA | D17: =+E17/G17 -> 0 | G17: 1443
B18: TOTAL HOSPITALES | E18: =SUM(E12:E17) -> 0 | F18: =SUM(F12:F17) -> 0 | G18: =SUM(G12:G17) -> 21416

Sheet META 3.1
A1: COMUNA | B1: ESTABLECIMIENTO | C1: CUMPLIMIENTO | D1: Indicador | E1: META 3.1: GESTION DE RECLAMOS EN APS
E2: NUMERADOR | R2: DENOMINADOR
E10: Nº total de reclamos respondidos con solución dentro de los plazos legales establecidos (15 días hábiles) | R10: Nº total de reclamos
D11: Resultado | E11: ENERO | F11: FEBRERO | G11: MARZO | H11: ABRIL | I11: MAYO | J11: JUNIO | K11: JULIO | L11: AGOSTO | M11: SEPBRE | N11: OCTBRE | O11: NOVBRE | P11: DICBRE | Q11: TOTAL | R11: ENERO | S11: FEBRERO | T11: MARZO | U11: ABRIL | V11: MAYO | W11: JUNIO | X11: JULIO | Y11: AGOSTO | Z11: SEPBRE | AA11: OCTBRE | AB11: NOVBRE | AC11: DICBRE | AD11: TOTAL
A12: 04103-ANDACOLLO | B12: 105106-HOSPITAL ANDACOLLO | C12: =+D12/Metas!H40 -> 1.0188487 | D12: =+Q12/AD12 -> 1 | E12: =IFERROR(VLOOKUP($B12,[1]NUM3.1!$H$3:$M$74,2,FALSE),0) -> 0 | F12: =IFERROR(VLOOKUP($B12,[1]NUM3.1!$H$3:$M$74,3,FALSE),0) -> 5 | G12: =IFERROR(VLOOKUP($B12,[1]NUM3.1!$H$3:$M$74,4,FALSE),0) -> 4 | H12: =IFERROR(VLOOKUP($B12,[1]NUM3.1!$H$3:$M$74,5,FALSE),0) -> 0 | Q12: =SUM(E12:P12) -> 9 | R12: =IFERROR(VLOOKUP($B12,[1]DEN3.1!$H$3:$M$74,2,FALSE),0) -> 0 | S12: =IFERROR(VLOOKUP($B12,[1]DEN3.1!$H$3:$M$74,3,FALSE),0) -> 5 | T12: =IFERROR(VLOOKUP($B12,[1]DEN3.1!$H$3:$M$74,4,FALSE),0) -> 4 | U12: =IFERROR(VLOOKUP($B12,[1]DEN3.1!$H$3:$M$74,5,FALSE),0) -> 0 | AD12: =SUM(R12:AC12) -> 9
A13: 04106-VICUÑA | B13: 105107-HOSPITAL VICUÑA | C13: =+D13/Metas!H41 -> 0.97066072 | D13: =+Q13/AD13 -> 0.95833333 | E13: =IFERROR(VLOOKUP($B13,[1]NUM3.1!$H$3:$M$74,2,FALSE),0) -> 28 | F13: =IFERROR(VLOOKUP($B13,[1]NUM3.1!$H$3:$M$74,3,FALSE),0) -> 28 | G13: =IFERROR(VLOOKUP($B13,[1]NUM3.1!$H$3:$M$74,4,FALSE),0) -> 4 | H13: =IFERROR(VLOOKUP($B13,[1]NUM3.1!$H$3:$M$74,5,FALSE),0) -> 9 | Q13: =SUM(E13:P13) -> 69 | R13: =IFERROR(VLOOKUP($B13,[1]DEN3.1!$H$3:$M$74,2,FALSE),0) -> 29 | S13: =IFERROR(VLOOKUP($B13,[1]DEN3.1!$H$3:$M$74,3,FALSE),0) -> 29 | T13: =IFERROR(VLOOKUP($B13,[1]DEN3.1!$H$3:$M$74,4,FALSE),0) -> 5 | U13: =IFERROR(VLOOKUP($B13,[1]DEN3.1!$H$3:$M$74,5,FALSE),0) -> 9 | AD13: =SUM(R13:AC13) -> 72
A14: 04201-ILLAPEL | B14: 105103-HOSPITAL ILLAPEL | C14: =+D14/Metas!H42 -> 1.0028149 | D14: =+Q14/AD14 -> 0.98275862 | E14: =IFERROR(VLOOKUP($B14,[1]NUM3.1!$H$3:$M$74,2,FALSE),0) -> 12 | F14: =IFERROR(VLOOKUP($B14,[1]NUM3.1!$H$3:$M$74,3,FALSE),0) -> 16 | G14: =IFERROR(VLOOKUP($B14,[1]NUM3.1!$H$3:$M$74,4,FALSE),0) -> 19 | H14: =IFERROR(VLOOKUP($B14,[1]NUM3.1!$H$3:$M$74,5,FALSE),0) -> 10 | Q14: =SUM(E14:P14) -> 57 | R14: =IFERROR(VLOOKUP($B14,[1]DEN3.1!$H$3:$M$74,2,FALSE),0) -> 13 | S14: =IFERROR(VLOOKUP($B14,[1]DEN3.1!$H$3:$M$74,3,FALSE),0) -> 16 | T14: =IFERROR(VLOOKUP($B14,[1]DEN3.1!$H$3:$M$74,4,FALSE),0) -> 19 | U14: =IFERROR(VLOOKUP($B14,[1]DEN3.1!$H$3:$M$74,5,FALSE),0) -> 10 | AD14: =SUM(R14:AC14) -> 58
A15: 04203-LOS VILOS | B15: 105108-HOSPITAL LOS VILOS | C15: =+D15/Metas!H43 -> 1.019368 | D15: =+Q15/AD15 -> 1 | E15: =IFERROR(VLOOKUP($B15,[1]NUM3.1!$H$3:$M$74,2,FALSE),0) -> 12 | F15: =IFERROR(VLOOKUP($B15,[1]NUM3.1!$H$3:$M$74,3,FALSE),0) -> 7 | G15: =IFERROR(VLOOKUP($B15,[1]NUM3.1!$H$3:$M$74,4,FALSE),0) -> 8 | H15: =IFERROR(VLOOKUP($B15,[1]NUM3.1!$H$3:$M$74,5,FALSE),0) -> 30 | Q15: =SUM(E15:P15) -> 57 | R15: =IFERROR(VLOOKUP($B15,[1]DEN3.1!$H$3:$M$74,2,FALSE),0) -> 12 | S15: =IFERROR(VLOOKUP($B15,[1]DEN3.1!$H$3:$M$74,3,FALSE),0) -> 7 | T15: =IFERROR(VLOOKUP($B15,[1]DEN3.1!$H$3:$M$74,4,FALSE),0) -> 8 | U15: =IFERROR(VLOOKUP($B15,[1]DEN3.1!$H$3:$M$74,5,FALSE),0) -> 30 | AD15: =SUM(R15:AC15) -> 57
A16: 04204-SALAMANCA | B16: 105104-HOSPITAL SALAMANCA | C16: =+D16/Metas!H44 -> 0.77287876 | D16: =+Q16/AD16 -> 0.75757576 | E16: =IFERROR(VLOOKUP($B16,[1]NUM3.1!$H$3:$M$74,2,FALSE),0) -> 4 | F16: =IFERROR(VLOOKUP($B16,[1]NUM3.1!$H$3:$M$74,3,FALSE),0) -> 6 | G16: =IFERROR(VLOOKUP($B16,[1]NUM3.1!$H$3:$M$74,4,FALSE),0) -> 14 | H16: =IFERROR(VLOOKUP($B16,[1]NUM3.1!$H$3:$M$74,5,FALSE),0) -> 1 | Q16: =SUM(E16:P16) -> 25 | R16: =IFERROR(VLOOKUP($B16,[1]DEN3.1!$H$3:$M$74,2,FALSE),0) -> 8 | S16: =IFERROR(VLOOKUP($B16,[1]DEN3.1!$H$3:$M$74,3,FALSE),0) -> 7 | T16: =IFERROR(VLOOKUP($B16,[1]DEN3.1!$H$3:$M$74,4,FALSE),0) -> 16 | U16: =IFERROR(VLOOKUP($B16,[1]DEN3.1!$H$3:$M$74,5,FALSE),0) -> 2 | AD16: =SUM(R16:AC16) -> 33
A17: 04302-COMBARBALÁ | B17: 105105-HOSPITAL COMBARBALA | C17: =+D17/Metas!H45 -> 1.0194719 | D17: =+Q17/AD17 -> 1 | E17: =IFERROR(VLOOKUP($B17,[1]NUM3.1!$H$3:$M$74,2,FALSE),0) -> 20 | F17: =IFERROR(VLOOKUP($B17,[1]NUM3.1!$H$3:$M$74,3,FALSE),0) -> 20 | G17: =IFERROR(VLOOKUP($B17,[1]NUM3.1!$H$3:$M$74,4,FALSE),0) -> 7 | H17: =IFERROR(VLOOKUP($B17,[1]NUM3.1!$H$3:$M$74,5,FALSE),0) -> 10 | Q17: =SUM(E17:P17) -> 57 | R17: =IFERROR(VLOOKUP($B17,[1]DEN3.1!$H$3:$M$74,2,FALSE),0) -> 20 | S17: =IFERROR(VLOOKUP($B17,[1]DEN3.1!$H$3:$M$74,3,FALSE),0) -> 20 | T17: =IFERROR(VLOOKUP($B17,[1]DEN3.1!$H$3:$M$74,4,FALSE),0) -> 7 | U17: =IFERROR(VLOOKUP($B17,[1]DEN3.1!$H$3:$M$74,5,FALSE),0) -> 10 | AD17: =SUM(R17:AC17) -> 57
B18: TOTAL HOSPITALES | E18: =SUM(E12:E17) -> 76 | F18: =SUM(F12:F17) -> 82 | G18: =SUM(G12:G17) -> 56 | H18: =SUM(H12:H17) -> 60 | I18: =SUM(I12:I17) -> 0 | J18: =SUM(J12:J17) -> 0 | K18: =SUM(K12:K17) -> 0 | L18: =SUM(L12:L17) -> 0 | ... AD18: =SUM(AD12:AD17) -> 286

Sheet META 5 
A1: COMUNA | B1: ESTABLECIMIENTO | C1: CUMPLIMIENTO | D1: Indicador | E1: META 5: TASA DE CONSULTAS DE MORBILIDAD Y CONTROLES MEDICOS POR HABITANTE/AÑO
E2: NUMERADOR | R2: DENOMINADOR
E10: Nº de consultas de morbilidad y controles médicos realizadas | R10: Población estimada
D11: Resultado | E11: ENERO | F11: FEBRERO | G11: MARZO | H11: ABRIL | I11: MAYO | J11: JUNIO | K11: JULIO | L11: AGOSTO | M11: SEPBRE | N11: OCTBRE | O11: NOVBRE | P11: DICBRE | Q11: TOTAL
A12: 04103-ANDACOLLO | B12: 105106-HOSPITAL ANDACOLLO | C12: =+D12/Metas!I40 -> 1.8093426 | D12: =+Q12/R12 -> 0.51566265 | E12: =VLOOKUP($B12,'[1]NUM 5 NUEVO '!$H$3:$M$162,2,FALSE) -> 831 | F12: =VLOOKUP($B12,'[1]NUM 5 NUEVO '!$H$3:$M$162,3,FALSE) -> 819 | G12: =VLOOKUP($B12,'[1]NUM 5 NUEVO '!$H$3:$M$162,4,FALSE) -> 1054 | H12: =VLOOKUP($B12,'[1]NUM 5 NUEVO '!$H$3:$M$162,5,FALSE) -> 1148 | Q12: =SUM(E12:P12) -> 3852 | R12: 7470
A13: 04106-VICUÑA | B13: 105107-HOSPITAL VICUÑA | C13: =+D13/Metas!I41 -> 1.6964711 | D13: =+Q13/R13 -> 0.38170599 | E13: =VLOOKUP($B13,'[1]NUM 5 NUEVO '!$H$3:$M$162,2,FALSE) -> 1547 | F13: =VLOOKUP($B13,'[1]NUM 5 NUEVO '!$H$3:$M$162,3,FALSE) -> 1467 | G13: =VLOOKUP($B13,'[1]NUM 5 NUEVO '!$H$3:$M$162,4,FALSE) -> 1080 | H13: =VLOOKUP($B13,'[1]NUM 5 NUEVO '!$H$3:$M$162,5,FALSE) -> 1164 | Q13: =SUM(E13:P13) -> 5258 | R13: 13775
A14: 04201-ILLAPEL | B14: 105103-HOSPITAL ILLAPEL | C14: =+D14/Metas!I42 -> 2.1752612 | D14: =+Q14/R14 -> 0.45680486 | E14: =VLOOKUP($B14,'[1]NUM 5 NUEVO '!$H$3:$M$162,2,FALSE) -> 2083 | F14: =VLOOKUP($B14,'[1]NUM 5 NUEVO '!$H$3:$M$162,3,FALSE) -> 1746 | G14: =VLOOKUP($B14,'[1]NUM 5 NUEVO '!$H$3:$M$162,4,FALSE) -> 2559 | H14: =VLOOKUP($B14,'[1]NUM 5 NUEVO '!$H$3:$M$162,5,FALSE) -> 2030 | Q14: =SUM(E14:P14) -> 8418 | R14: 18428
A15: 04203-LOS VILOS | B15: 105108-HOSPITAL LOS VILOS | C15: =+D15/Metas!I43 -> 2.2040635 | D15: =+Q15/R15 -> 0.59509715 | E15: =VLOOKUP($B15,'[1]NUM 5 NUEVO '!$H$3:$M$162,2,FALSE) -> 1731 | F15: =VLOOKUP($B15,'[1]NUM 5 NUEVO '!$H$3:$M$162,3,FALSE) -> 2006 | G15: =VLOOKUP($B15,'[1]NUM 5 NUEVO '!$H$3:$M$162,4,FALSE) -> 2322 | H15: =VLOOKUP($B15,'[1]NUM 5 NUEVO '!$H$3:$M$162,5,FALSE) -> 1782 | Q15: =SUM(E15:P15) -> 7841 | R15: 13176
A16: 04204-SALAMANCA | B16: 105104-HOSPITAL SALAMANCA | C16: =+D16/Metas!I44 -> 1.804173 | D16: =+Q16/R16 -> 0.43300153 | E16: =VLOOKUP($B16,'[1]NUM 5 NUEVO '!$H$3:$M$162,2,FALSE) -> 1566 | F16: =VLOOKUP($B16,'[1]NUM 5 NUEVO '!$H$3:$M$162,3,FALSE) -> 1451 | G16: =VLOOKUP($B16,'[1]NUM 5 NUEVO '!$H$3:$M$162,4,FALSE) -> 1331 | H16: =VLOOKUP($B16,'[1]NUM 5 NUEVO '!$H$3:$M$162,5,FALSE) -> 1307 | Q16: =SUM(E16:P16) -> 5655 | R16: 13060
A17: 04302-COMBARBALÁ | B17: 105105-HOSPITAL COMBARBALA | C17: =+D17/Metas!I45 -> 4.0107775 | D17: =+Q17/R17 -> 1.2032333 | E17: =VLOOKUP($B17,'[1]NUM 5 NUEVO '!$H$3:$M$162,2,FALSE) -> 1884 | F17: =VLOOKUP($B17,'[1]NUM 5 NUEVO '!$H$3:$M$162,3,FALSE) -> 1511 | G17: =VLOOKUP($B17,'[1]NUM 5 NUEVO '!$H$3:$M$162,4,FALSE) -> 1154 | H17: =VLOOKUP($B17,'[1]NUM 5 NUEVO '!$H$3:$M$162,5,FALSE) -> 1182 | Q17: =SUM(E17:P17) -> 5731 | R17: 4763
B18: TOTAL HOSPITALES | E18: =SUM(E12:E17) -> 9642 | F18: =SUM(F12:F17) -> 9000 | G18: =SUM(G12:G17) -> 9500 | H18: =SUM(H12:H17) -> 8613 | I18: =SUM(I12:I17) -> 0 | J18: =SUM(J12:J17) -> 0 | K18: =SUM(K12:K17) -> 0 | L18: =SUM(L12:L17) -> 0 | ... Q18: =SUM(Q12:Q17) -> 36755 | R18: =SUM(R12:S17) -> 70672

Sheet META 6
A1: COMUNA | B1: ESTABLECIMIENTO | C1: CUMPLIMIENTO | D1: Indicador | E1: META 6: SOLICITUDES DE INTERCONSULTAS A ESPECIALIDAD NIVEL SECUNDARIO DESDE LA APS
E2: NUMERADOR | R2: DENOMINADOR
E10: Nº de SIC a especialidad médica en el nivel secundario | R10: N° Total de Consultas y Controles Médicos en APS
D11: Resultado | E11: ENERO | F11: FEBRERO | G11: MARZO | H11: ABRIL | I11: MAYO | J11: JUNIO | K11: JULIO | L11: AGOSTO | M11: SEPBRE | N11: OCTBRE | O11: NOVBRE | P11: DICBRE | Q11: TOTAL | R11: ENERO | S11: FEBRERO | T11: MARZO | U11: ABRIL | V11: MAYO | W11: JUNIO | X11: JULIO | Y11: AGOSTO | Z11: SEPBRE | AA11: OCTBRE | AB11: NOVBRE | AC11: DICBRE | AD11: TOTAL
A12: 04103-ANDACOLLO | B12: 105106-HOSPITAL ANDACOLLO | C12: =Metas!J40/D12 -> 0.97766497 | D12: =+Q12/AD12 -> 0.10228453 | E12: =IFERROR(VLOOKUP($B12,[1]NUM6!$H$3:$M$138,2,FALSE),0) -> 84 | F12: =IFERROR(VLOOKUP($B12,[1]NUM6!$H$3:$M$138,3,FALSE),0) -> 93 | G12: =IFERROR(VLOOKUP($B12,[1]NUM6!$H$3:$M$138,4,FALSE),0) -> 129 | H12: =IFERROR(VLOOKUP($B12,[1]NUM6!$H$3:$M$138,5,FALSE),0) -> 88 | Q12: =SUM(E12:P12) -> 394 | R12: =VLOOKUP($B12,'[1]NUM 5 NUEVO '!$H$3:$M$162,2,FALSE) -> 831 | S12: =VLOOKUP($B12,'[1]NUM 5 NUEVO '!$H$3:$M$162,3,FALSE) -> 819 | T12: =VLOOKUP($B12,'[1]NUM 5 NUEVO '!$H$3:$M$162,4,FALSE) -> 1054 | U12: =VLOOKUP($B12,'[1]NUM 5 NUEVO '!$H$3:$M$162,5,FALSE) -> 1148 | AD12: =SUM(R12:AC12) -> 3852
A13: 04106-VICUÑA | B13: 105107-HOSPITAL VICUÑA | C13: =Metas!J41/D13 -> 0.96832413 | D13: =+Q13/AD13 -> 0.10327121 | E13: =IFERROR(VLOOKUP($B13,[1]NUM6!$H$3:$M$138,2,FALSE),0) -> 166 | F13: =IFERROR(VLOOKUP($B13,[1]NUM6!$H$3:$M$138,3,FALSE),0) -> 147 | G13: =IFERROR(VLOOKUP($B13,[1]NUM6!$H$3:$M$138,4,FALSE),0) -> 115 | H13: =IFERROR(VLOOKUP($B13,[1]NUM6!$H$3:$M$138,5,FALSE),0) -> 115 | Q13: =SUM(E13:P13) -> 543 | R13: =VLOOKUP($B13,'[1]NUM 5 NUEVO '!$H$3:$M$162,2,FALSE) -> 1547 | S13: =VLOOKUP($B13,'[1]NUM 5 NUEVO '!$H$3:$M$162,3,FALSE) -> 1467 | T13: =VLOOKUP($B13,'[1]NUM 5 NUEVO '!$H$3:$M$162,4,FALSE) -> 1080 | U13: =VLOOKUP($B13,'[1]NUM 5 NUEVO '!$H$3:$M$162,5,FALSE) -> 1164 | AD13: =SUM(R13:AC13) -> 5258
A14: 04201-ILLAPEL | B14: 105103-HOSPITAL ILLAPEL | C14: =Metas!J42/D14 -> 0.64407039 | D14: =+Q14/AD14 -> 0.15526253 | E14: =IFERROR(VLOOKUP($B14,[1]NUM6!$H$3:$M$138,2,FALSE),0) -> 545 | F14: =IFERROR(VLOOKUP($B14,[1]NUM6!$H$3:$M$138,3,FALSE),0) -> 429 | G14: =IFERROR(VLOOKUP($B14,[1]NUM6!$H$3:$M$138,4,FALSE),0) -> 162 | H14: =IFERROR(VLOOKUP($B14,[1]NUM6!$H$3:$M$138,5,FALSE),0) -> 171 | Q14: =SUM(E14:P14) -> 1307 | R14: =VLOOKUP($B14,'[1]NUM 5 NUEVO '!$H$3:$M$162,2,FALSE) -> 2083 | S14: =VLOOKUP($B14,'[1]NUM 5 NUEVO '!$H$3:$M$162,3,FALSE) -> 1746 | T14: =VLOOKUP($B14,'[1]NUM 5 NUEVO '!$H$3:$M$162,4,FALSE) -> 2559 | U14: =VLOOKUP($B14,'[1]NUM 5 NUEVO '!$H$3:$M$162,5,FALSE) -> 2030 | AD14: =SUM(R14:AC14) -> 8418
A15: 04203-LOS VILOS | B15: 105108-HOSPITAL LOS VILOS | C15: =Metas!J43/D15 -> 2.0260982 | D15: =+Q15/AD15 -> 0.049355949 | E15: =IFERROR(VLOOKUP($B15,[1]NUM6!$H$3:$M$138,2,FALSE),0) -> 131 | F15: =IFERROR(VLOOKUP($B15,[1]NUM6!$H$3:$M$138,3,FALSE),0) -> 142 | G15: =IFERROR(VLOOKUP($B15,[1]NUM6!$H$3:$M$138,4,FALSE),0) -> 14 | H15: =IFERROR(VLOOKUP($B15,[1]NUM6!$H$3:$M$138,5,FALSE),0) -> 100 | Q15: =SUM(E15:P15) -> 387 | R15: =VLOOKUP($B15,'[1]NUM 5 NUEVO '!$H$3:$M$162,2,FALSE) -> 1731 | S15: =VLOOKUP($B15,'[1]NUM 5 NUEVO '!$H$3:$M$162,3,FALSE) -> 2006 | T15: =VLOOKUP($B15,'[1]NUM 5 NUEVO '!$H$3:$M$162,4,FALSE) -> 2322 | U15: =VLOOKUP($B15,'[1]NUM 5 NUEVO '!$H$3:$M$162,5,FALSE) -> 1782 | AD15: =SUM(R15:AC15) -> 7841
A16: 04204-SALAMANCA | B16: 105104-HOSPITAL SALAMANCA | C16: =Metas!J44/D16 -> 0.99847512 | D16: =+Q16/AD16 -> 0.11016799 | E16: =IFERROR(VLOOKUP($B16,[1]NUM6!$H$3:$M$138,2,FALSE),0) -> 165 | F16: =IFERROR(VLOOKUP($B16,[1]NUM6!$H$3:$M$138,3,FALSE),0) -> 173 | G16: =IFERROR(VLOOKUP($B16,[1]NUM6!$H$3:$M$138,4,FALSE),0) -> 175 | H16: =IFERROR(VLOOKUP($B16,[1]NUM6!$H$3:$M$138,5,FALSE),0) -> 110 | Q16: =SUM(E16:P16) -> 623 | R16: =VLOOKUP($B16,'[1]NUM 5 NUEVO '!$H$3:$M$162,2,FALSE) -> 1566 | S16: =VLOOKUP($B16,'[1]NUM 5 NUEVO '!$H$3:$M$162,3,FALSE) -> 1451 | T16: =VLOOKUP($B16,'[1]NUM 5 NUEVO '!$H$3:$M$162,4,FALSE) -> 1331 | U16: =VLOOKUP($B16,'[1]NUM 5 NUEVO '!$H$3:$M$162,5,FALSE) -> 1307 | AD16: =SUM(R16:AC16) -> 5655
A17: 04302-COMBARBALÁ | B17: 105105-HOSPITAL COMBARBALA | C17: =Metas!J45/D17 -> 2.7290476 | D17: =+Q17/AD17 -> 0.03664282 | E17: =IFERROR(VLOOKUP($B17,[1]NUM6!$H$3:$M$138,2,FALSE),0) -> 76 | F17: =IFERROR(VLOOKUP($B17,[1]NUM6!$H$3:$M$138,3,FALSE),0) -> 48 | G17: =IFERROR(VLOOKUP($B17,[1]NUM6!$H$3:$M$138,4,FALSE),0) -> 44 | H17: =IFERROR(VLOOKUP($B17,[1]NUM6!$H$3:$M$138,5,FALSE),0) -> 42 | Q17: =SUM(E17:P17) -> 210 | R17: =VLOOKUP($B17,'[1]NUM 5 NUEVO '!$H$3:$M$162,2,FALSE) -> 1884 | S17: =VLOOKUP($B17,'[1]NUM 5 NUEVO '!$H$3:$M$162,3,FALSE) -> 1511 | T17: =VLOOKUP($B17,'[1]NUM 5 NUEVO '!$H$3:$M$162,4,FALSE) -> 1154 | U17: =VLOOKUP($B17,'[1]NUM 5 NUEVO '!$H$3:$M$162,5,FALSE) -> 1182 | AD17: =SUM(R17:AC17) -> 5731
B18: TOTAL HOSPITALES | E18: =SUM(E12:E17) -> 1167 | F18: =SUM(F12:F17) -> 1032 | G18: =SUM(G12:G17) -> 639 | H18: =SUM(H12:H17) -> 626 | I18: =SUM(I12:I17) -> 0 | J18: =SUM(J12:J17) -> 0 | K18: =SUM(K12:K17) -> 0 | L18: =SUM(L12:L17) -> 0 | ... AD18: =SUM(AD12:AD17) -> 36755

Sheet META 7
A1: COMUNA | B1: ESTABLECIMIENTO | C1: CUMPLIMIENTO | D1: Indicador | E1: META 7: TASA DE VISITA DOMICILIARIA INTEGRAL
E2: NUMERADOR | R2: DENOMINADOR
E10: Nº de visitas domiciliarias integrales realizadas | R10: Nº de familias (población estimada / 4)
D11: Resultado | E11: ENERO | F11: FEBRERO | G11: MARZO | H11: ABRIL | I11: MAYO | J11: JUNIO | K11: JULIO | L11: AGOSTO | M11: SEPBRE | N11: OCTBRE | O11: NOVBRE | P11: DICBRE | Q11: TOTAL
A12: 04103-ANDACOLLO | B12: 105106-HOSPITAL ANDACOLLO | C12: =+D12/Metas!K40 -> 1.1614972 | D12: =+Q12/R12 -> 0.1254417 | E12: =IFERROR(VLOOKUP($B12,[1]NUM7!$H$3:$M$147,2,FALSE),0) -> 85 | F12: =IFERROR(VLOOKUP($B12,[1]NUM7!$H$3:$M$147,3,FALSE),0) -> 57 | G12: =IFERROR(VLOOKUP($B12,[1]NUM7!$H$3:$M$147,4,FALSE),0) -> 68 | H12: =IFERROR(VLOOKUP($B12,[1]NUM7!$H$3:$M$147,5,FALSE),0) -> 74 | Q12: =SUM(E12:P12) -> 284 | R12: 2264
A13: 04106-VICUÑA | B13: 105107-HOSPITAL VICUÑA | C13: =+D13/Metas!K41 -> 1.0889925 | D13: =+Q13/R13 -> 0.035936751 | E13: =IFERROR(VLOOKUP($B13,[1]NUM7!$H$3:$M$147,2,FALSE),0) -> 44 | F13: =IFERROR(VLOOKUP($B13,[1]NUM7!$H$3:$M$147,3,FALSE),0) -> 32 | G13: =IFERROR(VLOOKUP($B13,[1]NUM7!$H$3:$M$147,4,FALSE),0) -> 37 | H13: =IFERROR(VLOOKUP($B13,[1]NUM7!$H$3:$M$147,5,FALSE),0) -> 37 | Q13: =SUM(E13:P13) -> 150 | R13: 4174
A14: 04201-ILLAPEL | B14: 105103-HOSPITAL ILLAPEL | C14: =+D14/Metas!K42 -> 1.9719725 | D14: =+Q14/R14 -> 0.085780802 | E14: =IFERROR(VLOOKUP($B14,[1]NUM7!$H$3:$M$147,2,FALSE),0) -> 129 | F14: =IFERROR(VLOOKUP($B14,[1]NUM7!$H$3:$M$147,3,FALSE),0) -> 162 | G14: =IFERROR(VLOOKUP($B14,[1]NUM7!$H$3:$M$147,4,FALSE),0) -> 109 | H14: =IFERROR(VLOOKUP($B14,[1]NUM7!$H$3:$M$147,5,FALSE),0) -> 79 | Q14: =SUM(E14:P14) -> 479 | R14: 5584
A15: 04203-LOS VILOS | B15: 105108-HOSPITAL LOS VILOS | C15: =+D15/Metas!K43 -> 3.2405194 | D15: =+Q15/R15 -> 0.10693714 | E15: =IFERROR(VLOOKUP($B15,[1]NUM7!$H$3:$M$147,2,FALSE),0) -> 81 | F15: =IFERROR(VLOOKUP($B15,[1]NUM7!$H$3:$M$147,3,FALSE),0) -> 92 | G15: =IFERROR(VLOOKUP($B15,[1]NUM7!$H$3:$M$147,4,FALSE),0) -> 164 | H15: =IFERROR(VLOOKUP($B15,[1]NUM7!$H$3:$M$147,5,FALSE),0) -> 90 | Q15: =SUM(E15:P15) -> 427 | R15: 3993
A16: 04204-SALAMANCA | B16: 105104-HOSPITAL SALAMANCA | C16: =+D16/Metas!K44 -> 0.21437212 | D16: =+Q16/R16 -> 0.0070742799 | E16: =IFERROR(VLOOKUP($B16,[1]NUM7!$H$3:$M$147,2,FALSE),0) -> 7 | F16: =IFERROR(VLOOKUP($B16,[1]NUM7!$H$3:$M$147,3,FALSE),0) -> 7 | G16: =IFERROR(VLOOKUP($B16,[1]NUM7!$H$3:$M$147,4,FALSE),0) -> 10 | H16: =IFERROR(VLOOKUP($B16,[1]NUM7!$H$3:$M$147,5,FALSE),0) -> 4 | Q16: =SUM(E16:P16) -> 28 | R16: 3958
A17: 04302-COMBARBALÁ | B17: 105105-HOSPITAL COMBARBALA | C17: =+D17/Metas!K45 -> 2.9025681 | D17: =+Q17/R17 -> 0.2002772 | E17: =IFERROR(VLOOKUP($B17,[1]NUM7!$H$3:$M$147,2,FALSE),0) -> 62 | F17: =IFERROR(VLOOKUP($B17,[1]NUM7!$H$3:$M$147,3,FALSE),0) -> 75 | G17: =IFERROR(VLOOKUP($B17,[1]NUM7!$H$3:$M$147,4,FALSE),0) -> 94 | H17: =IFERROR(VLOOKUP($B17,[1]NUM7!$H$3:$M$147,5,FALSE),0) -> 58 | Q17: =SUM(E17:P17) -> 289 | R17: 1443
B18: TOTAL HOSPITALES | E18: =SUM(E12:E17) -> 408 | F18: =SUM(F12:F17) -> 425 | G18: =SUM(G12:G17) -> 482 | H18: =SUM(H12:H17) -> 342 | I18: =SUM(I12:I17) -> 0 | J18: =SUM(J12:J17) -> 0 | K18: =SUM(K12:K17) -> 0 | L18: =SUM(L12:L17) -> 0 | ... Q18: =SUM(Q12:Q17) -> 1657 | R18: =SUM(R12:S17) -> 21416

Sheet META 8.1
A1: COMUNA | B1: ESTABLECIMIENTO | C1: CUMPLIMIENTO | D1: Indicador | E1: META 8.1: COBERTURA EXAMEN DE MEDICINA PREVENTIVA (EMP), EN HOMBRES DE 20 A 64 AÑOS
E2: NUMERADOR | R2: DENOMINADOR
E10: Nº Examen de Medicina Preventiva (EMP) realizado en población masculina de 20 a 64 años | R10: Población masculina de 20 a 64 años estimada, menos población bajo control en Programa Salud Cardiovascular | S10: Población masculina de 20 a 64 años bajo control en programa de salud cardiovascular | Y10: Población masculina de 20 a 64 años estimada | Z10: Ingresos de población masculina al PSCV de 20 y 64 años | AM10: Egresos de población masculina al PSCV de 20 y 64 años
D11: Resultado | E11: ENERO | F11: FEBRERO | G11: MARZO | H11: ABRIL | I11: MAYO | J11: JUNIO | K11: JULIO | L11: AGOSTO | M11: SEPBRE | N11: OCTBRE | O11: NOVBRE | P11: DICBRE | Q11: TOTAL | S11: A DIC 2016 | T11: A ABRIL | U11: A JUNIO | V11: A JULIO | W11: A OCTBRE | X11: A DICBRE | Y11: AÑO 2016 | Z11: ENERO | AA11: FEBRERO | AB11: MARZO | AC11: ABRIL | AD11: MAYO | AE11: JUNIO | AF11: JULIO | AG11: AGOSTO | AH11: SEPBRE | AI11: OCTBRE | AJ11: NOVBRE | AK11: DICBRE | AL11: TOTAL | AM11: ENERO | AN11: FEBRERO | AO11: MARZO | AP11: ABRIL | AQ11: MAYO | AR11: JUNIO | AS11: JULIO | AT11: AGOSTO | AU11: SEPBRE | AV11: OCTBRE | AW11: NOVBRE | AX11: DICBRE | AY11: TOTAL
A12: 04103-ANDACOLLO | B12: 105106-HOSPITAL ANDACOLLO | C12: =+D12/Metas!L40 -> 0.46175851 | D12: =+Q12/R12 -> 0.023549684 | E12: =IFERROR(VLOOKUP($B12,[1]NUM8.1!$H$3:$M$157,2,FALSE),0) -> 9 | F12: =IFERROR(VLOOKUP($B12,[1]NUM8.1!$H$3:$M$157,3,FALSE),0) -> 4 | G12: =IFERROR(VLOOKUP($B12,[1]NUM8.1!$H$3:$M$157,4,FALSE),0) -> 8 | H12: =IFERROR(VLOOKUP($B12,[1]NUM8.1!$H$3:$M$157,5,FALSE),0) -> 20 | Q12: =SUM(E12:P12) -> 41 | R12: =+Y12-T12 -> 1741 | S12: =IFERROR(VLOOKUP($B12,[1]DEN8.1!$H$3:$J$159,2,FALSE),0) -> 258 | T12: =+S12+(Z12+AA12+AB12+AC12)-(AM12+AN12+AO12+AP12) -> 268 | V12: =+U12+(AF12)-(AS12) -> 0 | W12: =+U12+(AF12+AG12+AH12+AI12)-(AS12+AT12+AU12+AV12) -> 0 | Y12: 2009 | Z12: =IFERROR(VLOOKUP($B12,'[1]ACT DEN8.1'!$H$3:$M$117,2,FALSE),0) -> 6 | AA12: =IFERROR(VLOOKUP($B12,'[1]ACT DEN8.1'!$H$3:$M$117,3,FALSE),0) -> 3 | AB12: =IFERROR(VLOOKUP($B12,'[1]ACT DEN8.1'!$H$3:$M$117,4,FALSE),0) -> 5 | AC12: =IFERROR(VLOOKUP($B12,'[1]ACT DEN8.1'!$H$3:$M$117,5,FALSE),0) -> 4 | AL12: =SUM(Z12:AK12) -> 18 | AM12: =IFERROR(VLOOKUP($B12,'[1]ACT DEN8.1'!$AA$3:$AF$90,2,FALSE),0) -> 3 | AN12: =IFERROR(VLOOKUP($B12,'[1]ACT DEN8.1'!$AA$3:$AF$90,3,FALSE),0) -> 1 | AO12: =IFERROR(VLOOKUP($B12,'[1]ACT DEN8.1'!$AA$3:$AF$90,4,FALSE),0) -> 1 | AP12: =IFERROR(VLOOKUP($B12,'[1]ACT DEN8.1'!$AA$3:$AF$90,5,FALSE),0) -> 3 | AY12: =SUM(AM12:AX12) -> 8
A13: 04106-VICUÑA | B13: 105107-HOSPITAL VICUÑA | C13: =+D13/Metas!L41 -> 0.6235682 | D13: =+Q13/R13 -> 0.012168933 | E13: =IFERROR(VLOOKUP($B13,[1]NUM8.1!$H$3:$M$157,2,FALSE),0) -> 11 | F13: =IFERROR(VLOOKUP($B13,[1]NUM8.1!$H$3:$M$157,3,FALSE),0) -> 6 | G13: =IFERROR(VLOOKUP($B13,[1]NUM8.1!$H$3:$M$157,4,FALSE),0) -> 10 | H13: =IFERROR(VLOOKUP($B13,[1]NUM8.1!$H$3:$M$157,5,FALSE),0) -> 7 | Q13: =SUM(E13:P13) -> 34 | R13: =+Y13-T13 -> 2794 | S13: =IFERROR(VLOOKUP($B13,[1]DEN8.1!$H$3:$J$159,2,FALSE),0) -> 341 | T13: =+S13+(Z13+AA13+AB13+AC13)-(AM13+AN13+AO13+AP13) -> 353 | V13: =+U13+(AF13)-(AS13) -> 0 | W13: =+U13+(AF13+AG13+AH13+AI13)-(AS13+AT13+AU13+AV13) -> 0 | Y13: 3147 | Z13: =IFERROR(VLOOKUP($B13,'[1]ACT DEN8.1'!$H$3:$M$117,2,FALSE),0) -> 3 | AA13: =IFERROR(VLOOKUP($B13,'[1]ACT DEN8.1'!$H$3:$M$117,3,FALSE),0) -> 2 | AB13: =IFERROR(VLOOKUP($B13,'[1]ACT DEN8.1'!$H$3:$M$117,4,FALSE),0) -> 4 | AC13: =IFERROR(VLOOKUP($B13,'[1]ACT DEN8.1'!$H$3:$M$117,5,FALSE),0) -> 3 | AL13: =SUM(Z13:AK13) -> 12 | AM13: =IFERROR(VLOOKUP($B13,'[1]ACT DEN8.1'!$AA$3:$AF$90,2,FALSE),0) -> 0 | AN13: =IFERROR(VLOOKUP($B13,'[1]ACT DEN8.1'!$AA$3:$AF$90,3,FALSE),0) -> 0 | AO13: =IFERROR(VLOOKUP($B13,'[1]ACT DEN8.1'!$AA$3:$AF$90,4,FALSE),0) -> 0 | AP13: =IFERROR(VLOOKUP($B13,'[1]ACT DEN8.1'!$AA$3:$AF$90,5,FALSE),0) -> 0 | AY13: =SUM(AM13:AX13) -> 0
A14: 04201-ILLAPEL | B14: 105103-HOSPITAL ILLAPEL | C14: =+D14/Metas!L42 -> 1.6951006 | D14: =+Q14/R14 -> 0.040682415 | E14: =IFERROR(VLOOKUP($B14,[1]NUM8.1!$H$3:$M$157,2,FALSE),0) -> 56 | F14: =IFERROR(VLOOKUP($B14,[1]NUM8.1!$H$3:$M$157,3,FALSE),0) -> 27 | G14: =IFERROR(VLOOKUP($B14,[1]NUM8.1!$H$3:$M$157,4,FALSE),0) -> 58 | H14: =IFERROR(VLOOKUP($B14,[1]NUM8.1!$H$3:$M$157,5,FALSE),0) -> 45 | Q14: =SUM(E14:P14) -> 186 | R14: =+Y14-T14 -> 4572 | S14: =IFERROR(VLOOKUP($B14,[1]DEN8.1!$H$3:$J$159,2,FALSE),0) -> 456 | T14: =+S14+(Z14+AA14+AB14+AC14)-(AM14+AN14+AO14+AP14) -> 453 | V14: =+U14+(AF14)-(AS14) -> 0 | W14: =+U14+(AF14+AG14+AH14+AI14)-(AS14+AT14+AU14+AV14) -> 0 | Y14: 5025 | Z14: =IFERROR(VLOOKUP($B14,'[1]ACT DEN8.1'!$H$3:$M$117,2,FALSE),0) -> 5 | AA14: =IFERROR(VLOOKUP($B14,'[1]ACT DEN8.1'!$H$3:$M$117,3,FALSE),0) -> 2 | AB14: =IFERROR(VLOOKUP($B14,'[1]ACT DEN8.1'!$H$3:$M$117,4,FALSE),0) -> 1 | AC14: =IFERROR(VLOOKUP($B14,'[1]ACT DEN8.1'!$H$3:$M$117,5,FALSE),0) -> 2 | AL14: =SUM(Z14:AK14) -> 10 | AM14: =IFERROR(VLOOKUP($B14,'[1]ACT DEN8.1'!$AA$3:$AF$90,2,FALSE),0) -> 4 | AN14: =IFERROR(VLOOKUP($B14,'[1]ACT DEN8.1'!$AA$3:$AF$90,3,FALSE),0) -> 3 | AO14: =IFERROR(VLOOKUP($B14,'[1]ACT DEN8.1'!$AA$3:$AF$90,4,FALSE),0) -> 6 | AP14: =IFERROR(VLOOKUP($B14,'[1]ACT DEN8.1'!$AA$3:$AF$90,5,FALSE),0) -> 0 | AY14: =SUM(AM14:AX14) -> 13
A15: 04203-LOS VILOS | B15: 105108-HOSPITAL LOS VILOS | C15: =+D15/Metas!L43 -> 0.64363574 | D15: =+Q15/R15 -> 0.012570206 | E15: =IFERROR(VLOOKUP($B15,[1]NUM8.1!$H$3:$M$157,2,FALSE),0) -> 6 | F15: =IFERROR(VLOOKUP($B15,[1]NUM8.1!$H$3:$M$157,3,FALSE),0) -> 5 | G15: =IFERROR(VLOOKUP($B15,[1]NUM8.1!$H$3:$M$157,4,FALSE),0) -> 28 | H15: =IFERROR(VLOOKUP($B15,[1]NUM8.1!$H$3:$M$157,5,FALSE),0) -> 8 | Q15: =SUM(E15:P15) -> 47 | R15: =+Y15-T15 -> 3739 | S15: =IFERROR(VLOOKUP($B15,[1]DEN8.1!$H$3:$J$159,2,FALSE),0) -> 357 | T15: =+S15+(Z15+AA15+AB15+AC15)-(AM15+AN15+AO15+AP15) -> 358 | V15: =+U15+(AF15)-(AS15) -> 0 | W15: =+U15+(AF15+AG15+AH15+AI15)-(AS15+AT15+AU15+AV15) -> 0 | Y15: 4097 | Z15: =IFERROR(VLOOKUP($B15,'[1]ACT DEN8.1'!$H$3:$M$117,2,FALSE),0) -> 3 | AA15: =IFERROR(VLOOKUP($B15,'[1]ACT DEN8.1'!$H$3:$M$117,3,FALSE),0) -> 2 | AB15: =IFERROR(VLOOKUP($B15,'[1]ACT DEN8.1'!$H$3:$M$117,4,FALSE),0) -> 5 | AC15: =IFERROR(VLOOKUP($B15,'[1]ACT DEN8.1'!$H$3:$M$117,5,FALSE),0) -> 5 | AL15: =SUM(Z15:AK15) -> 15 | AM15: =IFERROR(VLOOKUP($B15,'[1]ACT DEN8.1'!$AA$3:$AF$90,2,FALSE),0) -> 3 | AN15: =IFERROR(VLOOKUP($B15,'[1]ACT DEN8.1'!$AA$3:$AF$90,3,FALSE),0) -> 6 | AO15: =IFERROR(VLOOKUP($B15,'[1]ACT DEN8.1'!$AA$3:$AF$90,4,FALSE),0) -> 5 | AP15: =IFERROR(VLOOKUP($B15,'[1]ACT DEN8.1'!$AA$3:$AF$90,5,FALSE),0) -> 0 | AY15: =SUM(AM15:AX15) -> 14
A16: 04204-SALAMANCA | B16: 105104-HOSPITAL SALAMANCA | C16: =+D16/Metas!L44 -> 0.72349351 | D16: =+Q16/R16 -> 0.014118976 | E16: =IFERROR(VLOOKUP($B16,[1]NUM8.1!$H$3:$M$157,2,FALSE),0) -> 25 | F16: =IFERROR(VLOOKUP($B16,[1]NUM8.1!$H$3:$M$157,3,FALSE),0) -> 7 | G16: =IFERROR(VLOOKUP($B16,[1]NUM8.1!$H$3:$M$157,4,FALSE),0) -> 19 | H16: =IFERROR(VLOOKUP($B16,[1]NUM8.1!$H$3:$M$157,5,FALSE),0) -> 24 | Q16: =SUM(E16:P16) -> 75 | R16: =+Y16-T16 -> 5312 | S16: =IFERROR(VLOOKUP($B16,[1]DEN8.1!$H$3:$J$159,2,FALSE),0) -> 239 | T16: =+S16+(Z16+AA16+AB16+AC16)-(AM16+AN16+AO16+AP16) -> 255 | V16: =+U16+(AF16)-(AS16) -> 0 | W16: =+U16+(AF16+AG16+AH16+AI16)-(AS16+AT16+AU16+AV16) -> 0 | Y16: 5567 | Z16: =IFERROR(VLOOKUP($B16,'[1]ACT DEN8.1'!$H$3:$M$117,2,FALSE),0) -> 11 | AA16: =IFERROR(VLOOKUP($B16,'[1]ACT DEN8.1'!$H$3:$M$117,3,FALSE),0) -> 6 | AB16: =IFERROR(VLOOKUP($B16,'[1]ACT DEN8.1'!$H$3:$M$117,4,FALSE),0) -> 5 | AC16: =IFERROR(VLOOKUP($B16,'[1]ACT DEN8.1'!$H$3:$M$117,5,FALSE),0) -> 5 | AL16: =SUM(Z16:AK16) -> 27 | AM16: =IFERROR(VLOOKUP($B16,'[1]ACT DEN8.1'!$AA$3:$AF$90,2,FALSE),0) -> 0 | AN16: =IFERROR(VLOOKUP($B16,'[1]ACT DEN8.1'!$AA$3:$AF$90,3,FALSE),0) -> 4 | AO16: =IFERROR(VLOOKUP($B16,'[1]ACT DEN8.1'!$AA$3:$AF$90,4,FALSE),0) -> 6 | AP16: =IFERROR(VLOOKUP($B16,'[1]ACT DEN8.1'!$AA$3:$AF$90,5,FALSE),0) -> 1 | AY16: =SUM(AM16:AX16) -> 11
A17: 04302-COMBARBALÁ | B17: 105105-HOSPITAL COMBARBALA | C17: =+D17/Metas!L45 -> 2.1888006 | D17: =+Q17/R17 -> 0.049445005 | E17: =IFERROR(VLOOKUP($B17,[1]NUM8.1!$H$3:$M$157,2,FALSE),0) -> 29 | F17: =IFERROR(VLOOKUP($B17,[1]NUM8.1!$H$3:$M$157,3,FALSE),0) -> 5 | G17: =IFERROR(VLOOKUP($B17,[1]NUM8.1!$H$3:$M$157,4,FALSE),0) -> 10 | H17: =IFERROR(VLOOKUP($B17,[1]NUM8.1!$H$3:$M$157,5,FALSE),0) -> 5 | Q17: =SUM(E17:P17) -> 49 | R17: =+Y17-T17 -> 991 | S17: =IFERROR(VLOOKUP($B17,[1]DEN8.1!$H$3:$J$159,2,FALSE),0) -> 206 | T17: =+S17+(Z17+AA17+AB17+AC17)-(AM17+AN17+AO17+AP17) -> 211 | V17: =+U17+(AF17)-(AS17) -> 0 | W17: =+U17+(AF17+AG17+AH17+AI17)-(AS17+AT17+AU17+AV17) -> 0 | Y17: 1202 | Z17: =IFERROR(VLOOKUP($B17,'[1]ACT DEN8.1'!$H$3:$M$117,2,FALSE),0) -> 5 | AA17: =IFERROR(VLOOKUP($B17,'[1]ACT DEN8.1'!$H$3:$M$117,3,FALSE),0) -> 5 | AB17: =IFERROR(VLOOKUP($B17,'[1]ACT DEN8.1'!$H$3:$M$117,4,FALSE),0) -> 2 | AC17: =IFERROR(VLOOKUP($B17,'[1]ACT DEN8.1'!$H$3:$M$117,5,FALSE),0) -> 2 | AL17: =SUM(Z17:AK17) -> 14 | AM17: =IFERROR(VLOOKUP($B17,'[1]ACT DEN8.1'!$AA$3:$AF$90,2,FALSE),0) -> 2 | AN17: =IFERROR(VLOOKUP($B17,'[1]ACT DEN8.1'!$AA$3:$AF$90,3,FALSE),0) -> 0 | AO17: =IFERROR(VLOOKUP($B17,'[1]ACT DEN8.1'!$AA$3:$AF$90,4,FALSE),0) -> 6 | AP17: =IFERROR(VLOOKUP($B17,'[1]ACT DEN8.1'!$AA$3:$AF$90,5,FALSE),0) -> 1 | AY17: =SUM(AM17:AX17) -> 9
B18: TOTAL HOSPITALES | E18: =SUM(E12:E17) -> 136 | F18: =SUM(F12:F17) -> 54 | G18: =SUM(G12:G17) -> 133 | H18: =SUM(H12:H17) -> 109 | I18: =SUM(I12:I17) -> 0 | J18: =SUM(J12:J17) -> 0 | K18: =SUM(K12:K17) -> 0 | L18: =SUM(L12:L17) -> 0 | ... AY18: =SUM(AY12:AY17) -> 55

Sheet META 8.2
A1: COMUNA | B1: ESTABLECIMIENTO | C1: CUMPLIMIENTO | D1: Indicador | E1: META 8.2: COBERTURA EXAMEN DE MEDICINA PREVENTIVA (EMP), EN MUJERES DE 45 A 64 AÑOS
E2: NUMERADOR | R2: DENOMINADOR
E10: Nº Examen de Medicina Preventiva (EMP) realizado en población femenina de 45 a 64 años | R10: Población femenina de 45 a 64 años estimada, menos población bajo control en Programa Salud Cardiovascular | S10: Población femenina de 45 a 64 años bajo control en Programa Salud Cardiovascular | Y10: Población femenina de 45 a 64 años estimada | Z10: Ingresos de población femenina al PSCV de 45 y 65 años | AM10: Egresos de población Femenina al PSCV de 45 a 65 años
D11: Resultado | E11: ENERO | F11: FEBRERO | G11: MARZO | H11: ABRIL | I11: MAYO | J11: JUNIO | K11: JULIO | L11: AGOSTO | M11: SEPBRE | N11: OCTBRE | O11: NOVBRE | P11: DICBRE | Q11: TOTAL | S11: A DIC 2016 | T11: A ABRIL | U11: A JUNIO | V11: A JULIO | W11: A OCTBRE | X11: A DICBRE | Y11: AÑO 2016 | Z11: ENERO | AA11: FEBRERO | AB11: MARZO | AC11: ABRIL | AD11: MAYO | AE11: JUNIO | AF11: JULIO | AG11: AGOSTO | AH11: SEPBRE | AI11: OCTBRE | AJ11: NOVBRE | AK11: DICBRE | AL11: TOTAL | AM11: ENERO | AN11: FEBRERO | AO11: MARZO | AP11: ABRIL | AQ11: MAYO | AR11: JUNIO | AS11: JULIO | AT11: AGOSTO | AU11: SEPBRE | AV11: OCTBRE | AW11: NOVBRE | AX11: DICBRE | AY11: TOTAL
A12: 04103-ANDACOLLO | B12: 105106-HOSPITAL ANDACOLLO | C12: =+D12/Metas!M40 -> 2.2463448 | D12: =+Q12/R12 -> 0.10785824 | E12: =IFERROR(VLOOKUP($B12,[1]NUM8.2!$H$3:$M$157,2,FALSE),0) -> 16 | F12: =IFERROR(VLOOKUP($B12,[1]NUM8.2!$H$3:$M$157,3,FALSE),0) -> 17 | G12: =IFERROR(VLOOKUP($B12,[1]NUM8.2!$H$3:$M$157,4,FALSE),0) -> 11 | H12: =IFERROR(VLOOKUP($B12,[1]NUM8.2!$H$3:$M$157,5,FALSE),0) -> 26 | Q12: =SUM(E12:P12) -> 70 | R12: =+Y12-T12 -> 649 | S12: =IFERROR(VLOOKUP($B12,[2]DEN8.2!$H$3:$J$159,2,FALSE),0) -> 378 | T12: =+S12+(Z12+AA12+AB12+AC12)-(AM12+AN12+AO12+AP12) -> 385 | V12: =+U12+(AF12)-(AS12) -> 0 | W12: =+U12+(AF12+AG12+AH12+AI12)-(AS12+AT12+AU12+AV12) -> 0 | Y12: 1034 | Z12: =IFERROR(VLOOKUP($B12,'[1]ACT DEN8.2'!$H$3:$M$117,2,FALSE),0) -> 1 | AA12: =IFERROR(VLOOKUP($B12,'[1]ACT DEN8.2'!$H$3:$M$117,3,FALSE),0) -> 2 | AB12: =IFERROR(VLOOKUP($B12,'[1]ACT DEN8.2'!$H$3:$M$117,4,FALSE),0) -> 5 | AC12: =IFERROR(VLOOKUP($B12,'[1]ACT DEN8.2'!$H$3:$M$117,5,FALSE),0) -> 5 | AL12: =SUM(Z12:AK12) -> 13 | AM12: =IFERROR(VLOOKUP($B12,'[1]ACT DEN8.2'!$AA$3:$AF$90,2,FALSE),0) -> 1 | AN12: =IFERROR(VLOOKUP($B12,'[1]ACT DEN8.2'!$AA$3:$AF$90,3,FALSE),0) -> 1 | AO12: =IFERROR(VLOOKUP($B12,'[1]ACT DEN8.2'!$AA$3:$AF$90,4,FALSE),0) -> 4 | AP12: =IFERROR(VLOOKUP($B12,'[1]ACT DEN8.2'!$AA$3:$AF$90,5,FALSE),0) -> 0 | AY12: =SUM(AM12:AX12) -> 6
A13: 04106-VICUÑA | B13: 105107-HOSPITAL VICUÑA | C13: =+D13/Metas!M41 -> 0.76611841 | D13: =+Q13/R13 -> 0.029878618 | E13: =IFERROR(VLOOKUP($B13,[1]NUM8.2!$H$3:$M$157,2,FALSE),0) -> 11 | F13: =IFERROR(VLOOKUP($B13,[1]NUM8.2!$H$3:$M$157,3,FALSE),0) -> 6 | G13: =IFERROR(VLOOKUP($B13,[1]NUM8.2!$H$3:$M$157,4,FALSE),0) -> 13 | H13: =IFERROR(VLOOKUP($B13,[1]NUM8.2!$H$3:$M$157,5,FALSE),0) -> 2 | Q13: =SUM(E13:P13) -> 32 | R13: =+Y13-T13 -> 1071 | S13: =IFERROR(VLOOKUP($B13,[2]DEN8.2!$H$3:$J$159,2,FALSE),0) -> 586 | T13: =+S13+(Z13+AA13+AB13+AC13)-(AM13+AN13+AO13+AP13) -> 611 | V13: =+U13+(AF13)-(AS13) -> 0 | W13: =+U13+(AF13+AG13+AH13+AI13)-(AS13+AT13+AU13+AV13) -> 0 | Y13: 1682 | Z13: =IFERROR(VLOOKUP($B13,'[1]ACT DEN8.2'!$H$3:$M$117,2,FALSE),0) -> 5 | AA13: =IFERROR(VLOOKUP($B13,'[1]ACT DEN8.2'!$H$3:$M$117,3,FALSE),0) -> 5 | AB13: =IFERROR(VLOOKUP($B13,'[1]ACT DEN8.2'!$H$3:$M$117,4,FALSE),0) -> 10 | AC13: =IFERROR(VLOOKUP($B13,'[1]ACT DEN8.2'!$H$3:$M$117,5,FALSE),0) -> 5 | AL13: =SUM(Z13:AK13) -> 25 | AM13: =IFERROR(VLOOKUP($B13,'[1]ACT DEN8.2'!$AA$3:$AF$90,2,FALSE),0) -> 0 | AN13: =IFERROR(VLOOKUP($B13,'[1]ACT DEN8.2'!$AA$3:$AF$90,3,FALSE),0) -> 0 | AO13: =IFERROR(VLOOKUP($B13,'[1]ACT DEN8.2'!$AA$3:$AF$90,4,FALSE),0) -> 0 | AP13: =IFERROR(VLOOKUP($B13,'[1]ACT DEN8.2'!$AA$3:$AF$90,5,FALSE),0) -> 0 | AY13: =SUM(AM13:AX13) -> 0
A14: 04201-ILLAPEL | B14: 105103-HOSPITAL ILLAPEL | C14: =+D14/Metas!M42 -> 1.4026382 | D14: =+Q14/R14 -> 0.05466081 | E14: =IFERROR(VLOOKUP($B14,[1]NUM8.2!$H$3:$M$157,2,FALSE),0) -> 25 | F14: =IFERROR(VLOOKUP($B14,[1]NUM8.2!$H$3:$M$157,3,FALSE),0) -> 34 | G14: =IFERROR(VLOOKUP($B14,[1]NUM8.2!$H$3:$M$157,4,FALSE),0) -> 26 | H14: =IFERROR(VLOOKUP($B14,[1]NUM8.2!$H$3:$M$157,5,FALSE),0) -> 27 | Q14: =SUM(E14:P14) -> 112 | R14: =+Y14-T14 -> 2049 | S14: =IFERROR(VLOOKUP($B14,[2]DEN8.2!$H$3:$J$159,2,FALSE),0) -> 516 | T14: =+S14+(Z14+AA14+AB14+AC14)-(AM14+AN14+AO14+AP14) -> 526 | V14: =+U14+(AF14)-(AS14) -> 0 | W14: =+U14+(AF14+AG14+AH14+AI14)-(AS14+AT14+AU14+AV14) -> 0 | Y14: 2575 | Z14: =IFERROR(VLOOKUP($B14,'[1]ACT DEN8.2'!$H$3:$M$117,2,FALSE),0) -> 5 | AA14: =IFERROR(VLOOKUP($B14,'[1]ACT DEN8.2'!$H$3:$M$117,3,FALSE),0) -> 4 | AB14: =IFERROR(VLOOKUP($B14,'[1]ACT DEN8.2'!$H$3:$M$117,4,FALSE),0) -> 11 | AC14: =IFERROR(VLOOKUP($B14,'[1]ACT DEN8.2'!$H$3:$M$117,5,FALSE),0) -> 2 | AL14: =SUM(Z14:AK14) -> 22 | AM14: =IFERROR(VLOOKUP($B14,'[1]ACT DEN8.2'!$AA$3:$AF$90,2,FALSE),0) -> 6 | AN14: =IFERROR(VLOOKUP($B14,'[1]ACT DEN8.2'!$AA$3:$AF$90,3,FALSE),0) -> 0 | AO14: =IFERROR(VLOOKUP($B14,'[1]ACT DEN8.2'!$AA$3:$AF$90,4,FALSE),0) -> 6 | AP14: =IFERROR(VLOOKUP($B14,'[1]ACT DEN8.2'!$AA$3:$AF$90,5,FALSE),0) -> 0 | AY14: =SUM(AM14:AX14) -> 12
A15: 04203-LOS VILOS | B15: 105108-HOSPITAL LOS VILOS | C15: =+D15/Metas!M43 -> 0.62998745 | D15: =+Q15/R15 -> 0.024626209 | E15: =IFERROR(VLOOKUP($B15,[1]NUM8.2!$H$3:$M$157,2,FALSE),0) -> 5 | F15: =IFERROR(VLOOKUP($B15,[1]NUM8.2!$H$3:$M$157,3,FALSE),0) -> 1 | G15: =IFERROR(VLOOKUP($B15,[1]NUM8.2!$H$3:$M$157,4,FALSE),0) -> 18 | H15: =IFERROR(VLOOKUP($B15,[1]NUM8.2!$H$3:$M$157,5,FALSE),0) -> 4 | Q15: =SUM(E15:P15) -> 28 | R15: =+Y15-T15 -> 1137 | S15: =IFERROR(VLOOKUP($B15,[2]DEN8.2!$H$3:$J$159,2,FALSE),0) -> 519 | T15: =+S15+(Z15+AA15+AB15+AC15)-(AM15+AN15+AO15+AP15) -> 510 | V15: =+U15+(AF15)-(AS15) -> 0 | W15: =+U15+(AF15+AG15+AH15+AI15)-(AS15+AT15+AU15+AV15) -> 0 | Y15: 1647 | Z15: =IFERROR(VLOOKUP($B15,'[1]ACT DEN8.2'!$H$3:$M$117,2,FALSE),0) -> 4 | AA15: =IFERROR(VLOOKUP($B15,'[1]ACT DEN8.2'!$H$3:$M$117,3,FALSE),0) -> 1 | AB15: =IFERROR(VLOOKUP($B15,'[1]ACT DEN8.2'!$H$3:$M$117,4,FALSE),0) -> 4 | AC15: =IFERROR(VLOOKUP($B15,'[1]ACT DEN8.2'!$H$3:$M$117,5,FALSE),0) -> 4 | AL15: =SUM(Z15:AK15) -> 13 | AM15: =IFERROR(VLOOKUP($B15,'[1]ACT DEN8.2'!$AA$3:$AF$90,2,FALSE),0) -> 3 | AN15: =IFERROR(VLOOKUP($B15,'[1]ACT DEN8.2'!$AA$3:$AF$90,3,FALSE),0) -> 5 | AO15: =IFERROR(VLOOKUP($B15,'[1]ACT DEN8.2'!$AA$3:$AF$90,4,FALSE),0) -> 7 | AP15: =IFERROR(VLOOKUP($B15,'[1]ACT DEN8.2'!$AA$3:$AF$90,5,FALSE),0) -> 7 | AY15: =SUM(AM15:AX15) -> 22
A16: 04204-SALAMANCA | B16: 105104-HOSPITAL SALAMANCA | C16: =+D16/Metas!M44 -> 2.2102099 | D16: =+Q16/R16 -> 0.086065574 | E16: =IFERROR(VLOOKUP($B16,[1]NUM8.2!$H$3:$M$157,2,FALSE),0) -> 36 | F16: =IFERROR(VLOOKUP($B16,[1]NUM8.2!$H$3:$M$157,3,FALSE),0) -> 6 | G16: =IFERROR(VLOOKUP($B16,[1]NUM8.2!$H$3:$M$157,4,FALSE),0) -> 5 | H16: =IFERROR(VLOOKUP($B16,[1]NUM8.2!$H$3:$M$157,5,FALSE),0) -> 16 | Q16: =SUM(E16:P16) -> 63 | R16: =+Y16-T16 -> 732 | S16: =IFERROR(VLOOKUP($B16,[2]DEN8.2!$H$3:$J$159,2,FALSE),0) -> 507 | T16: =+S16+(Z16+AA16+AB16+AC16)-(AM16+AN16+AO16+AP16) -> 503 | V16: =+U16+(AF16)-(AS16) -> 0 | W16: =+U16+(AF16+AG16+AH16+AI16)-(AS16+AT16+AU16+AV16) -> 0 | Y16: 1235 | Z16: =IFERROR(VLOOKUP($B16,'[1]ACT DEN8.2'!$H$3:$M$117,2,FALSE),0) -> 9 | AA16: =IFERROR(VLOOKUP($B16,'[1]ACT DEN8.2'!$H$3:$M$117,3,FALSE),0) -> 6 | AB16: =IFERROR(VLOOKUP($B16,'[1]ACT DEN8.2'!$H$3:$M$117,4,FALSE),0) -> 8 | AC16: =IFERROR(VLOOKUP($B16,'[1]ACT DEN8.2'!$H$3:$M$117,5,FALSE),0) -> 4 | AL16: =SUM(Z16:AK16) -> 27 | AM16: =IFERROR(VLOOKUP($B16,'[1]ACT DEN8.2'!$AA$3:$AF$90,2,FALSE),0) -> 22 | AN16: =IFERROR(VLOOKUP($B16,'[1]ACT DEN8.2'!$AA$3:$AF$90,3,FALSE),0) -> 1 | AO16: =IFERROR(VLOOKUP($B16,'[1]ACT DEN8.2'!$AA$3:$AF$90,4,FALSE),0) -> 1 | AP16: =IFERROR(VLOOKUP($B16,'[1]ACT DEN8.2'!$AA$3:$AF$90,5,FALSE),0) -> 7 | AY16: =SUM(AM16:AX16) -> 31
A17: 04302-COMBARBALÁ | B17: 105105-HOSPITAL COMBARBALA | C17: =+D17/Metas!M45 -> 0.48106157 | D17: =+Q17/R17 -> 0.02016129 | E17: =IFERROR(VLOOKUP($B17,[1]NUM8.2!$H$3:$M$157,2,FALSE),0) -> 2 | F17: =IFERROR(VLOOKUP($B17,[1]NUM8.2!$H$3:$M$157,3,FALSE),0) -> 4 | G17: =IFERROR(VLOOKUP($B17,[1]NUM8.2!$H$3:$M$157,4,FALSE),0) -> 3 | H17: =IFERROR(VLOOKUP($B17,[1]NUM8.2!$H$3:$M$157,5,FALSE),0) -> 1 | Q17: =SUM(E17:P17) -> 10 | R17: =+Y17-T17 -> 496 | S17: =IFERROR(VLOOKUP($B17,[2]DEN8.2!$H$3:$J$159,2,FALSE),0) -> 261 | T17: =+S17+(Z17+AA17+AB17+AC17)-(AM17+AN17+AO17+AP17) -> 266 | V17: =+U17+(AF17)-(AS17) -> 0 | W17: =+U17+(AF17+AG17+AH17+AI17)-(AS17+AT17+AU17+AV17) -> 0 | Y17: 762 | Z17: =IFERROR(VLOOKUP($B17,'[1]ACT DEN8.2'!$H$3:$M$117,2,FALSE),0) -> 2 | AA17: =IFERROR(VLOOKUP($B17,'[1]ACT DEN8.2'!$H$3:$M$117,3,FALSE),0) -> 2 | AB17: =IFERROR(VLOOKUP($B17,'[1]ACT DEN8.2'!$H$3:$M$117,4,FALSE),0) -> 2 | AC17: =IFERROR(VLOOKUP($B17,'[1]ACT DEN8.2'!$H$3:$M$117,5,FALSE),0) -> 7 | AL17: =SUM(Z17:AK17) -> 13 | AM17: =IFERROR(VLOOKUP($B17,'[1]ACT DEN8.2'!$AA$3:$AF$90,2,FALSE),0) -> 4 | AN17: =IFERROR(VLOOKUP($B17,'[1]ACT DEN8.2'!$AA$3:$AF$90,3,FALSE),0) -> 0 | AO17: =IFERROR(VLOOKUP($B17,'[1]ACT DEN8.2'!$AA$3:$AF$90,4,FALSE),0) -> 4 | AP17: =IFERROR(VLOOKUP($B17,'[1]ACT DEN8.2'!$AA$3:$AF$90,5,FALSE),0) -> 0 | AY17: =SUM(AM17:AX17) -> 8
B18: TOTAL HOSPITALES | E18: =SUM(E12:E17) -> 95 | F18: =SUM(F12:F17) -> 68 | G18: =SUM(G12:G17) -> 76 | H18: =SUM(H12:H17) -> 76 | I18: =SUM(I12:I17) -> 0 | J18: =SUM(J12:J17) -> 0 | K18: =SUM(K12:K17) -> 0 | L18: =SUM(L12:L17) -> 0 | ... AY18: =SUM(AY12:AY17) -> 79

Sheet META 8.3
A1: COMUNA | B1: ESTABLECIMIENTO | C1: CUMPLIMIENTO | D1: Indicador | E1: META 8.3: COBERTURA EXAMEN DE MEDICINA PREVENTIVA (EMPAM) EN PERSONAS DE 65 AÑOS Y MÁS
E2: NUMERADOR | R2: DENOMINADOR
E10: N° de adultos de 65 y más años con Examen de Medicina Preventiva | R10: Nº de adultos de 65 y más años estimados
D11: Resultado | E11: ENERO | F11: FEBRERO | G11: MARZO | H11: ABRIL | I11: MAYO | J11: JUNIO | K11: JULIO | L11: AGOSTO | M11: SEPBRE | N11: OCTBRE | O11: NOVBRE | P11: DICBRE | Q11: TOTAL
A12: 04103-ANDACOLLO | B12: 105106-HOSPITAL ANDACOLLO | C12: =+D12/Metas!N40 -> 2.1666039 | D12: =+Q12/R12 -> 0.13002874 | E12: =IFERROR(VLOOKUP($B12,[1]NUM8.3!$H$3:$M$157,2,FALSE),0) -> 51 | F12: =IFERROR(VLOOKUP($B12,[1]NUM8.3!$H$3:$M$157,3,FALSE),0) -> 47 | G12: =IFERROR(VLOOKUP($B12,[1]NUM8.3!$H$3:$M$157,4,FALSE),0) -> 51 | H12: =IFERROR(VLOOKUP($B12,[1]NUM8.3!$H$3:$M$157,5,FALSE),0) -> 32 | Q12: =SUM(E12:P12) -> 181 | R12: 1392
A13: 04106-VICUÑA | B13: 105107-HOSPITAL VICUÑA | C13: =+D13/Metas!N41 -> 0.70693706 | D13: =+Q13/R13 -> 0.042437432 | E13: =IFERROR(VLOOKUP($B13,[1]NUM8.3!$H$3:$M$157,2,FALSE),0) -> 44 | F13: =IFERROR(VLOOKUP($B13,[1]NUM8.3!$H$3:$M$157,3,FALSE),0) -> 5 | G13: =IFERROR(VLOOKUP($B13,[1]NUM8.3!$H$3:$M$157,4,FALSE),0) -> 24 | H13: =IFERROR(VLOOKUP($B13,[1]NUM8.3!$H$3:$M$157,5,FALSE),0) -> 5 | Q13: =SUM(E13:P13) -> 78 | R13: 1838
A14: 04201-ILLAPEL | B14: 105103-HOSPITAL ILLAPEL | C14: =+D14/Metas!N42 -> 5.2870829 | D14: =+Q14/R14 -> 0.41818182 | E14: =IFERROR(VLOOKUP($B14,[1]NUM8.3!$H$3:$M$157,2,FALSE),0) -> 110 | F14: =IFERROR(VLOOKUP($B14,[1]NUM8.3!$H$3:$M$157,3,FALSE),0) -> 122 | G14: =IFERROR(VLOOKUP($B14,[1]NUM8.3!$H$3:$M$157,4,FALSE),0) -> 145 | H14: =IFERROR(VLOOKUP($B14,[1]NUM8.3!$H$3:$M$157,5,FALSE),0) -> 129 | Q14: =SUM(E14:P14) -> 506 | R14: 1210
A15: 04203-LOS VILOS | B15: 105108-HOSPITAL LOS VILOS | C15: =+D15/Metas!N43 -> 2.3987327 | D15: =+Q15/R15 -> 0.14392396 | E15: =IFERROR(VLOOKUP($B15,[1]NUM8.3!$H$3:$M$157,2,FALSE),0) -> 44 | F15: =IFERROR(VLOOKUP($B15,[1]NUM8.3!$H$3:$M$157,3,FALSE),0) -> 35 | G15: =IFERROR(VLOOKUP($B15,[1]NUM8.3!$H$3:$M$157,4,FALSE),0) -> 48 | H15: =IFERROR(VLOOKUP($B15,[1]NUM8.3!$H$3:$M$157,5,FALSE),0) -> 85 | Q15: =SUM(E15:P15) -> 212 | R15: 1473
A16: 04204-SALAMANCA | B16: 105104-HOSPITAL SALAMANCA | C16: =+D16/Metas!N44 -> 0.85390947 | D16: =+Q16/R16 -> 0.051234568 | E16: =IFERROR(VLOOKUP($B16,[1]NUM8.3!$H$3:$M$157,2,FALSE),0) -> 16 | F16: =IFERROR(VLOOKUP($B16,[1]NUM8.3!$H$3:$M$157,3,FALSE),0) -> 21 | G16: =IFERROR(VLOOKUP($B16,[1]NUM8.3!$H$3:$M$157,4,FALSE),0) -> 31 | H16: =IFERROR(VLOOKUP($B16,[1]NUM8.3!$H$3:$M$157,5,FALSE),0) -> 15 | Q16: =SUM(E16:P16) -> 83 | R16: 1620
A17: 04302-COMBARBALÁ | B17: 105105-HOSPITAL COMBARBALA | C17: =+D17/Metas!N45 -> 1.3992604 | D17: =+Q17/R17 -> 0.092980857 | E17: =IFERROR(VLOOKUP($B17,[1]NUM8.3!$H$3:$M$157,2,FALSE),0) -> 28 | F17: =IFERROR(VLOOKUP($B17,[1]NUM8.3!$H$3:$M$157,3,FALSE),0) -> 30 | G17: =IFERROR(VLOOKUP($B17,[1]NUM8.3!$H$3:$M$157,4,FALSE),0) -> 22 | H17: =IFERROR(VLOOKUP($B17,[1]NUM8.3!$H$3:$M$157,5,FALSE),0) -> 22 | Q17: =SUM(E17:P17) -> 102 | R17: 1097
B18: TOTAL HOSPITALES | E18: =SUM(E12:E17) -> 293 | F18: =SUM(F12:F17) -> 260 | G18: =SUM(G12:G17) -> 321 | H18: =SUM(H12:H17) -> 288 | I18: =SUM(I12:I17) -> 0 | J18: =SUM(J12:J17) -> 0 | K18: =SUM(K12:K17) -> 0 | L18: =SUM(L12:L17) -> 0 | ... Q18: =SUM(Q12:Q17) -> 1162 | R18: =SUM(R12:S17) -> 8630

Sheet META 9
A1: COMUNA | B1: ESTABLECIMIENTO | C1: CUMPLIMIENTO | D1: Indicador | E1: META 9: COBERTURA DE EVALUACIÓN DEL DESARROLLO PSICOMOTOR DE NIÑOS Y NIÑAS DE 12 A 23 MESES BAJO CONTROL
E2: NUMERADOR | R2: DENOMINADOR
E10: Niños y niñas 12 a 23 con Evaluación del Desarrollo Psicomotor | R10: Niños y Niñas entre 12 a 23 meses bajo control
D11: Resultado | E11: ENERO | F11: FEBRERO | G11: MARZO | H11: ABRIL | I11: MAYO | J11: JUNIO | K11: JULIO | L11: AGOSTO | M11: SEPBRE | N11: OCTBRE | O11: NOVBRE | P11: DICBRE | Q11: TOTAL | R11: A DIC 2016 | S11: A MARZO | T11: A JUNIO | U11: A AGOSTO | V11: A OCTBRE | W11: A DICBRE
A12: 04103-ANDACOLLO | B12: 105106-HOSPITAL ANDACOLLO | C12: =+D12/Metas!O40 -> 0.29461279 | D12: =+Q12/R12 -> 0.26515152 | E12: =IFERROR(VLOOKUP($B12,[1]NUM9!$H$3:$M$149,2,FALSE),0) -> 12 | F12: =IFERROR(VLOOKUP($B12,[1]NUM9!$H$3:$M$149,3,FALSE),0) -> 7 | G12: =IFERROR(VLOOKUP($B12,[1]NUM9!$H$3:$M$149,4,FALSE),0) -> 7 | H12: =IFERROR(VLOOKUP($B12,[1]NUM9!$H$3:$M$149,5,FALSE),0) -> 9 | Q12: =SUM(E12:P12) -> 35 | R12: =IFERROR(VLOOKUP($B12,[2]DEN9!$H$3:$J$158,2,FALSE),0) -> 132
A13: 04106-VICUÑA | B13: 105107-HOSPITAL VICUÑA | C13: =+D13/Metas!O41 -> 0.17736046 | D13: =+Q13/R13 -> 0.15962441 | E13: =IFERROR(VLOOKUP($B13,[1]NUM9!$H$3:$M$149,2,FALSE),0) -> 13 | F13: =IFERROR(VLOOKUP($B13,[1]NUM9!$H$3:$M$149,3,FALSE),0) -> 9 | G13: =IFERROR(VLOOKUP($B13,[1]NUM9!$H$3:$M$149,4,FALSE),0) -> 7 | H13: =IFERROR(VLOOKUP($B13,[1]NUM9!$H$3:$M$149,5,FALSE),0) -> 5 | Q13: =SUM(E13:P13) -> 34 | R13: =IFERROR(VLOOKUP($B13,[2]DEN9!$H$3:$J$158,2,FALSE),0) -> 213
A14: 04201-ILLAPEL | B14: 105103-HOSPITAL ILLAPEL | C14: =+D14/Metas!O42 -> 0.3483887 | D14: =+Q14/R14 -> 0.32748538 | E14: =IFERROR(VLOOKUP($B14,[1]NUM9!$H$3:$M$149,2,FALSE),0) -> 14 | F14: =IFERROR(VLOOKUP($B14,[1]NUM9!$H$3:$M$149,3,FALSE),0) -> 17 | G14: =IFERROR(VLOOKUP($B14,[1]NUM9!$H$3:$M$149,4,FALSE),0) -> 15 | H14: =IFERROR(VLOOKUP($B14,[1]NUM9!$H$3:$M$149,5,FALSE),0) -> 10 | Q14: =SUM(E14:P14) -> 56 | R14: =IFERROR(VLOOKUP($B14,[2]DEN9!$H$3:$J$158,2,FALSE),0) -> 171
A15: 04203-LOS VILOS | B15: 105108-HOSPITAL LOS VILOS | C15: =+D15/Metas!O43 -> 0.34542314 | D15: =+Q15/R15 -> 0.31088083 | E15: =IFERROR(VLOOKUP($B15,[1]NUM9!$H$3:$M$149,2,FALSE),0) -> 17 | F15: =IFERROR(VLOOKUP($B15,[1]NUM9!$H$3:$M$149,3,FALSE),0) -> 22 | G15: =IFERROR(VLOOKUP($B15,[1]NUM9!$H$3:$M$149,4,FALSE),0) -> 13 | H15: =IFERROR(VLOOKUP($B15,[1]NUM9!$H$3:$M$149,5,FALSE),0) -> 8 | Q15: =SUM(E15:P15) -> 60 | R15: =IFERROR(VLOOKUP($B15,[2]DEN9!$H$3:$J$158,2,FALSE),0) -> 193
A16: 04204-SALAMANCA | B16: 105104-HOSPITAL SALAMANCA | C16: =+D16/Metas!O44 -> 0.23492063 | D16: =+Q16/R16 -> 0.21142857 | E16: =IFERROR(VLOOKUP($B16,[1]NUM9!$H$3:$M$149,2,FALSE),0) -> 9 | F16: =IFERROR(VLOOKUP($B16,[1]NUM9!$H$3:$M$149,3,FALSE),0) -> 1 | G16: =IFERROR(VLOOKUP($B16,[1]NUM9!$H$3:$M$149,4,FALSE),0) -> 15 | H16: =IFERROR(VLOOKUP($B16,[1]NUM9!$H$3:$M$149,5,FALSE),0) -> 12 | Q16: =SUM(E16:P16) -> 37 | R16: =IFERROR(VLOOKUP($B16,[2]DEN9!$H$3:$J$158,2,FALSE),0) -> 175
A17: 04302-COMBARBALÁ | B17: 105105-HOSPITAL COMBARBALA | C17: =+D17/Metas!O45 -> 0.41878891 | D17: =+Q17/R17 -> 0.38947368 | E17: =IFERROR(VLOOKUP($B17,[1]NUM9!$H$3:$M$149,2,FALSE),0) -> 10 | F17: =IFERROR(VLOOKUP($B17,[1]NUM9!$H$3:$M$149,3,FALSE),0) -> 11 | G17: =IFERROR(VLOOKUP($B17,[1]NUM9!$H$3:$M$149,4,FALSE),0) -> 10 | H17: =IFERROR(VLOOKUP($B17,[1]NUM9!$H$3:$M$149,5,FALSE),0) -> 6 | Q17: =SUM(E17:P17) -> 37 | R17: =IFERROR(VLOOKUP($B17,[2]DEN9!$H$3:$J$158,2,FALSE),0) -> 95
B18: TOTAL HOSPITALES | E18: =SUM(E12:E17) -> 75 | F18: =SUM(F12:F17) -> 67 | G18: =SUM(G12:G17) -> 67 | H18: =SUM(H12:H17) -> 50 | I18: =SUM(I12:I17) -> 0 | J18: =SUM(J12:J17) -> 0 | K18: =SUM(K12:K17) -> 0 | L18: =SUM(L12:L17) -> 0 | ... W18: =SUM(W12:W17) -> 0

Sheet META 10
A1: COMUNA | B1: ESTABLECIMIENTO | C1: CUMPLIMIENTO | D1: Indicador | E1: META 10: COBERTURA DE CONTROL DE SALUD INTEGRAL EN ADOLESCENTES DE 10 14 AÑOS
E2: NUMERADOR | R2: DENOMINADOR
E10: Nº de controles de salud integral, realizados a adolescentes de 10 a 14 años | R10: Población adolescente de 10 a 14 años estimada en el establecimiento de salud
D11: Resultado | E11: ENERO | F11: FEBRERO | G11: MARZO | H11: ABRIL | I11: MAYO | J11: JUNIO | K11: JULIO | L11: AGOSTO | M11: SEPBRE | N11: OCTBRE | O11: NOVBRE | P11: DICBRE | Q11: TOTAL
A12: 04103-ANDACOLLO | B12: 105106-HOSPITAL ANDACOLLO | C12: =+D12/Metas!P40 -> 1.9613381 | D12: =+Q12/R12 -> 0.044247788 | E12: =IFERROR(VLOOKUP($B12,[1]NUM10!$H$3:$M$58,2,FALSE),0) -> 2 | F12: =IFERROR(VLOOKUP($B12,[1]NUM10!$H$3:$M$58,3,FALSE),0) -> 6 | G12: =IFERROR(VLOOKUP($B12,[1]NUM10!$H$3:$M$58,4,FALSE),0) -> 6 | H12: =IFERROR(VLOOKUP($B12,[1]NUM10!$H$3:$M$58,5,FALSE),0) -> 6 | Q12: =SUM(E12:P12) -> 20 | R12: 452
A13: 04106-VICUÑA | B13: 105107-HOSPITAL VICUÑA | C13: =+D13/Metas!P41 -> 0 | D13: =+Q13/R13 -> 0 | E13: =IFERROR(VLOOKUP($B13,[1]NUM10!$H$3:$M$58,2,FALSE),0) -> 0 | F13: =IFERROR(VLOOKUP($B13,[1]NUM10!$H$3:$M$58,3,FALSE),0) -> 0 | G13: =IFERROR(VLOOKUP($B13,[1]NUM10!$H$3:$M$58,4,FALSE),0) -> 0 | H13: =IFERROR(VLOOKUP($B13,[1]NUM10!$H$3:$M$58,5,FALSE),0) -> 0 | Q13: =SUM(E13:P13) -> 0 | R13: 1149
A14: 04201-ILLAPEL | B14: 105103-HOSPITAL ILLAPEL | C14: =+D14/Metas!P42 -> 0 | D14: =+Q14/R14 -> 0 | E14: =IFERROR(VLOOKUP($B14,[1]NUM10!$H$3:$M$58,2,FALSE),0) -> 0 | F14: =IFERROR(VLOOKUP($B14,[1]NUM10!$H$3:$M$58,3,FALSE),0) -> 0 | G14: =IFERROR(VLOOKUP($B14,[1]NUM10!$H$3:$M$58,4,FALSE),0) -> 0 | H14: =IFERROR(VLOOKUP($B14,[1]NUM10!$H$3:$M$58,5,FALSE),0) -> 0 | Q14: =SUM(E14:P14) -> 0 | R14: 1210
A15: 04203-LOS VILOS | B15: 105108-HOSPITAL LOS VILOS | C15: =+D15/Metas!P43 -> 0.40415246 | D15: =+Q15/R15 -> 0.0091116173 | E15: =IFERROR(VLOOKUP($B15,[1]NUM10!$H$3:$M$58,2,FALSE),0) -> 3 | F15: =IFERROR(VLOOKUP($B15,[1]NUM10!$H$3:$M$58,3,FALSE),0) -> 2 | G15: =IFERROR(VLOOKUP($B15,[1]NUM10!$H$3:$M$58,4,FALSE),0) -> 2 | H15: =IFERROR(VLOOKUP($B15,[1]NUM10!$H$3:$M$58,5,FALSE),0) -> 1 | Q15: =SUM(E15:P15) -> 8 | R15: 878
A16: 04204-SALAMANCA | B16: 105104-HOSPITAL SALAMANCA | C16: =+D16/Metas!P44 -> 0 | D16: =+Q16/R16 -> 0 | E16: =IFERROR(VLOOKUP($B16,[1]NUM10!$H$3:$M$58,2,FALSE),0) -> 0 | F16: =IFERROR(VLOOKUP($B16,[1]NUM10!$H$3:$M$58,3,FALSE),0) -> 0 | G16: =IFERROR(VLOOKUP($B16,[1]NUM10!$H$3:$M$58,4,FALSE),0) -> 0 | H16: =IFERROR(VLOOKUP($B16,[1]NUM10!$H$3:$M$58,5,FALSE),0) -> 0 | Q16: =SUM(E16:P16) -> 0 | R16: 758
A17: 04302-COMBARBALÁ | B17: 105105-HOSPITAL COMBARBALA | C17: =+D17/Metas!P45 -> 0 | D17: =+Q17/R17 -> 0 | E17: =IFERROR(VLOOKUP($B17,[1]NUM10!$H$3:$M$58,2,FALSE),0) -> 0 | F17: =IFERROR(VLOOKUP($B17,[1]NUM10!$H$3:$M$58,3,FALSE),0) -> 0 | G17: =IFERROR(VLOOKUP($B17,[1]NUM10!$H$3:$M$58,4,FALSE),0) -> 0 | H17: =IFERROR(VLOOKUP($B17,[1]NUM10!$H$3:$M$58,5,FALSE),0) -> 0 | Q17: =SUM(E17:P17) -> 0 | R17: 283
B18: TOTAL HOSPITALES | E18: =SUM(E12:E17) -> 5 | F18: =SUM(F12:F17) -> 8 | G18: =SUM(G12:G17) -> 8 | H18: =SUM(H12:H17) -> 7 | I18: =SUM(I12:I17) -> 0 | J18: =SUM(J12:J17) -> 0 | K18: =SUM(K12:K17) -> 0 | L18: =SUM(L12:L17) -> 0 | ... Q18: =SUM(Q12:Q17) -> 28 | R18: =SUM(R12:S17) -> 4730

Sheet META 11
A1: COMUNA | B1: ESTABLECIMIENTO | C1: CUMPLIMIENTO | D1: Indicador | E1: META 11: PROPORCIÓN DE MENORES DE 20 AÑOS CON ALTA ODONTOLÓGICA TOTAL
E2: NUMERADOR | R2: DENOMINADOR
E10: Nº de altas odontológicas totales en población menor de 20 años | R10: Población estimada menor de 20 años
D11: Resultado | E11: ENERO | F11: FEBRERO | G11: MARZO | H11: ABRIL | I11: MAYO | J11: JUNIO | K11: JULIO | L11: AGOSTO | M11: SEPBRE | N11: OCTBRE | O11: NOVBRE | P11: DICBRE | Q11: TOTAL
A12: 04103-ANDACOLLO | B12: 105106-HOSPITAL ANDACOLLO | C12: =+D12/Metas!Q40 -> 1.2226397 | D12: =+Q12/R12 -> 0.04401503 | E12: =IFERROR(VLOOKUP($B12,[1]NUM11!$H$3:$M$117,2,FALSE),0) -> 41 | F12: =IFERROR(VLOOKUP($B12,[1]NUM11!$H$3:$M$117,3,FALSE),0) -> 14 | G12: =IFERROR(VLOOKUP($B12,[1]NUM11!$H$3:$M$117,4,FALSE),0) -> 16 | H12: =IFERROR(VLOOKUP($B12,[1]NUM11!$H$3:$M$117,5,FALSE),0) -> 11 | Q12: =SUM(E12:P12) -> 82 | R12: 1863
A13: 04106-VICUÑA | B13: 105107-HOSPITAL VICUÑA | C13: =+D13/Metas!Q41 -> 0.81699346 | D13: =+Q13/R13 -> 0.029411765 | E13: =IFERROR(VLOOKUP($B13,[1]NUM11!$H$3:$M$117,2,FALSE),0) -> 36 | F13: =IFERROR(VLOOKUP($B13,[1]NUM11!$H$3:$M$117,3,FALSE),0) -> 38 | G13: =IFERROR(VLOOKUP($B13,[1]NUM11!$H$3:$M$117,4,FALSE),0) -> 38 | H13: =IFERROR(VLOOKUP($B13,[1]NUM11!$H$3:$M$117,5,FALSE),0) -> 34 | Q13: =SUM(E13:P13) -> 146 | R13: 4964
A14: 04201-ILLAPEL | B14: 105103-HOSPITAL ILLAPEL | C14: =+D14/Metas!Q42 -> 1.7250768 | D14: =+Q14/R14 -> 0.043989459 | E14: =IFERROR(VLOOKUP($B14,[1]NUM11!$H$3:$M$117,2,FALSE),0) -> 51 | F14: =IFERROR(VLOOKUP($B14,[1]NUM11!$H$3:$M$117,3,FALSE),0) -> 71 | G14: =IFERROR(VLOOKUP($B14,[1]NUM11!$H$3:$M$117,4,FALSE),0) -> 71 | H14: =IFERROR(VLOOKUP($B14,[1]NUM11!$H$3:$M$117,5,FALSE),0) -> 24 | Q14: =SUM(E14:P14) -> 217 | R14: 4933
A15: 04203-LOS VILOS | B15: 105108-HOSPITAL LOS VILOS | C15: =+D15/Metas!Q43 -> 0.70226863 | D15: =+Q15/R15 -> 0.025281671 | E15: =IFERROR(VLOOKUP($B15,[1]NUM11!$H$3:$M$117,2,FALSE),0) -> 4 | F15: =IFERROR(VLOOKUP($B15,[1]NUM11!$H$3:$M$117,3,FALSE),0) -> 8 | G15: =IFERROR(VLOOKUP($B15,[1]NUM11!$H$3:$M$117,4,FALSE),0) -> 24 | H15: =IFERROR(VLOOKUP($B15,[1]NUM11!$H$3:$M$117,5,FALSE),0) -> 56 | Q15: =SUM(E15:P15) -> 92 | R15: 3639
A16: 04204-SALAMANCA | B16: 105104-HOSPITAL SALAMANCA | C16: =+D16/Metas!Q44 -> 2.9057368 | D16: =+Q16/R16 -> 0.10460653 | E16: =IFERROR(VLOOKUP($B16,[1]NUM11!$H$3:$M$117,2,FALSE),0) -> 63 | F16: =IFERROR(VLOOKUP($B16,[1]NUM11!$H$3:$M$117,3,FALSE),0) -> 58 | G16: =IFERROR(VLOOKUP($B16,[1]NUM11!$H$3:$M$117,4,FALSE),0) -> 106 | H16: =IFERROR(VLOOKUP($B16,[1]NUM11!$H$3:$M$117,5,FALSE),0) -> 100 | Q16: =SUM(E16:P16) -> 327 | R16: 3126
A17: 04302-COMBARBALÁ | B17: 105105-HOSPITAL COMBARBALA | C17: =+D17/Metas!Q45 -> 1.6511952 | D17: =+Q17/R17 -> 0.059492563 | E17: =IFERROR(VLOOKUP($B17,[1]NUM11!$H$3:$M$117,2,FALSE),0) -> 12 | F17: =IFERROR(VLOOKUP($B17,[1]NUM11!$H$3:$M$117,3,FALSE),0) -> 17 | G17: =IFERROR(VLOOKUP($B17,[1]NUM11!$H$3:$M$117,4,FALSE),0) -> 30 | H17: =IFERROR(VLOOKUP($B17,[1]NUM11!$H$3:$M$117,5,FALSE),0) -> 9 | Q17: =SUM(E17:P17) -> 68 | R17: 1143
B18: TOTAL HOSPITALES | E18: =SUM(E12:E17) -> 207 | F18: =SUM(F12:F17) -> 206 | G18: =SUM(G12:G17) -> 285 | H18: =SUM(H12:H17) -> 234 | I18: =SUM(I12:I17) -> 0 | J18: =SUM(J12:J17) -> 0 | K18: =SUM(K12:K17) -> 0 | L18: =SUM(L12:L17) -> 0 | ... Q18: =SUM(Q12:Q17) -> 932 | R18: =SUM(R12:S17) -> 19668

Sheet META 12
A1: COMUNA | B1: ESTABLECIMIENTO | C1: CUMPLIMIENTO | D1: CUMPLIMIENTO | E1: META 12: COBERTURA DE ATENCIÓN INTEGRAL A PERSONAS DE 5 AÑOS Y MAS CON TRASTORNOS MENTALES
E2: NUMERADOR | AK2: DENOMINADOR
E10: Nº de personas de 5 años y más con trastorno mental bajo control | K10: Ingresos de personas con trastorno mental de 5 años y más | X10: Egresos de personas con trastorno mental de 5 años y más | AK10: Nº de personas con trastorno mental estimada según prevalencia de 5 años y más (población estimada Fonasa de 5 y más años x 22%)
E11: A DIC 2016 | F11: A ABRIL | G11: A JUNIO | H11: A AGOSTO | I11: A OCTBRE | J11: A DICBRE | K11: ENERO | L11: FEBRERO | M11: MARZO | N11: ABRIL | O11: MAYO | P11: JUNIO | Q11: JULIO | R11: AGOSTO | S11: SEPBRE | T11: OCTBRE | U11: NOVBRE | V11: DICBRE | W11: TOTAL | X11: ENERO | Y11: FEBRERO | Z11: MARZO | AA11: ABRIL | AB11: MAYO | AC11: JUNIO | AD11: JULIO | AE11: AGOSTO | AF11: SEPBRE | AG11: OCTBRE | AH11: NOVBRE | AI11: DICBRE | AJ11: TOTAL
A12: 04103-ANDACOLLO | B12: 105106-HOSPITAL ANDACOLLO | C12: =+D12/Metas!R40 -> 0.69833296 | D12: =F12/AK12 -> 0.17903646 | E12: =IFERROR(VLOOKUP($B12,[1]NUM12!$H$3:$J$151,2,FALSE),0) -> 368 | F12: =+E12+(K12+L12+M12+N12)-(X12+Y12+Z12+AA12) -> 275 | H12: =+G12+(Q12+R12)-(AD12+AE12) -> 0 | I12: =+G12+(Q12+R12+S12+T12)-(AD12+AE12+AF12+AG12) -> 0 | K12: =IFERROR(VLOOKUP($B12,'[1]ACT NUM12'!$H$3:$M$118,2,FALSE),0) -> 12 | L12: =IFERROR(VLOOKUP($B12,'[1]ACT NUM12'!$H$3:$M$118,3,FALSE),0) -> 18 | M12: =IFERROR(VLOOKUP($B12,'[1]ACT NUM12'!$H$3:$M$118,4,FALSE),0) -> 19 | N12: =IFERROR(VLOOKUP($B12,'[1]ACT NUM12'!$H$3:$M$118,5,FALSE),0) -> 25 | W12: =SUM(K12:V12) -> 74 | X12: =IFERROR(VLOOKUP($B12,'[1]ACT NUM12'!$AA$3:$AF$79,2,FALSE),0) -> 139 | Y12: =IFERROR(VLOOKUP($B12,'[1]ACT NUM12'!$AA$3:$AF$79,3,FALSE),0) -> 1 | Z12: =IFERROR(VLOOKUP($B12,'[1]ACT NUM12'!$AA$3:$AF$79,4,FALSE),0) -> 2 | AA12: =IFERROR(VLOOKUP($B12,'[1]ACT NUM12'!$AA$3:$AF$79,5,FALSE),0) -> 25 | AJ12: =SUM(X12:AI12) -> 167 | AK12: 1536
A13: 04106-VICUÑA | B13: 105107-HOSPITAL VICUÑA | C13: =+D13/Metas!R41 -> 0.95844825 | D13: =F13/AK13 -> 0.24516369 | E13: =IFERROR(VLOOKUP($B13,[1]NUM12!$H$3:$J$151,2,FALSE),0) -> 602 | F13: =+E13+(K13+L13+M13+N13)-(X13+Y13+Z13+AA13) -> 659 | H13: =+G13+(Q13+R13)-(AD13+AE13) -> 0 | I13: =+G13+(Q13+R13+S13+T13)-(AD13+AE13+AF13+AG13) -> 0 | K13: =IFERROR(VLOOKUP($B13,'[1]ACT NUM12'!$H$3:$M$118,2,FALSE),0) -> 36 | L13: =IFERROR(VLOOKUP($B13,'[1]ACT NUM12'!$H$3:$M$118,3,FALSE),0) -> 28 | M13: =IFERROR(VLOOKUP($B13,'[1]ACT NUM12'!$H$3:$M$118,4,FALSE),0) -> 29 | N13: =IFERROR(VLOOKUP($B13,'[1]ACT NUM12'!$H$3:$M$118,5,FALSE),0) -> 18 | W13: =SUM(K13:V13) -> 111 | X13: =IFERROR(VLOOKUP($B13,'[1]ACT NUM12'!$AA$3:$AF$79,2,FALSE),0) -> 23 | Y13: =IFERROR(VLOOKUP($B13,'[1]ACT NUM12'!$AA$3:$AF$79,3,FALSE),0) -> 16 | Z13: =IFERROR(VLOOKUP($B13,'[1]ACT NUM12'!$AA$3:$AF$79,4,FALSE),0) -> 12 | AA13: =IFERROR(VLOOKUP($B13,'[1]ACT NUM12'!$AA$3:$AF$79,5,FALSE),0) -> 3 | AJ13: =SUM(X13:AI13) -> 54 | AK13: 2688
A14: 04201-ILLAPEL | B14: 105103-HOSPITAL ILLAPEL | C14: =+D14/Metas!R42 -> 1.2985197 | D14: =F14/AK14 -> 0.22390841 | E14: =IFERROR(VLOOKUP($B14,[1]NUM12!$H$3:$J$151,2,FALSE),0) -> 638 | F14: =+E14+(K14+L14+M14+N14)-(X14+Y14+Z14+AA14) -> 841 | H14: =+G14+(Q14+R14)-(AD14+AE14) -> 0 | I14: =+G14+(Q14+R14+S14+T14)-(AD14+AE14+AF14+AG14) -> 0 | K14: =IFERROR(VLOOKUP($B14,'[1]ACT NUM12'!$H$3:$M$118,2,FALSE),0) -> 51 | L14: =IFERROR(VLOOKUP($B14,'[1]ACT NUM12'!$H$3:$M$118,3,FALSE),0) -> 38 | M14: =IFERROR(VLOOKUP($B14,'[1]ACT NUM12'!$H$3:$M$118,4,FALSE),0) -> 86 | N14: =IFERROR(VLOOKUP($B14,'[1]ACT NUM12'!$H$3:$M$118,5,FALSE),0) -> 56 | W14: =SUM(K14:V14) -> 231 | X14: =IFERROR(VLOOKUP($B14,'[1]ACT NUM12'!$AA$3:$AF$79,2,FALSE),0) -> 3 | Y14: =IFERROR(VLOOKUP($B14,'[1]ACT NUM12'!$AA$3:$AF$79,3,FALSE),0) -> 1 | Z14: =IFERROR(VLOOKUP($B14,'[1]ACT NUM12'!$AA$3:$AF$79,4,FALSE),0) -> 10 | AA14: =IFERROR(VLOOKUP($B14,'[1]ACT NUM12'!$AA$3:$AF$79,5,FALSE),0) -> 14 | AJ14: =SUM(X14:AI14) -> 28 | AK14: 3756
A15: 04203-LOS VILOS | B15: 105108-HOSPITAL LOS VILOS | C15: =+D15/Metas!R43 -> 0.95135024 | D15: =F15/AK15 -> 0.1081487 | E15: =IFERROR(VLOOKUP($B15,[1]NUM12!$H$3:$J$151,2,FALSE),0) -> 181 | F15: =+E15+(K15+L15+M15+N15)-(X15+Y15+Z15+AA15) -> 288 | H15: =+G15+(Q15+R15)-(AD15+AE15) -> 0 | I15: =+G15+(Q15+R15+S15+T15)-(AD15+AE15+AF15+AG15) -> 0 | K15: =IFERROR(VLOOKUP($B15,'[1]ACT NUM12'!$H$3:$M$118,2,FALSE),0) -> 38 | L15: =IFERROR(VLOOKUP($B15,'[1]ACT NUM12'!$H$3:$M$118,3,FALSE),0) -> 35 | M15: =IFERROR(VLOOKUP($B15,'[1]ACT NUM12'!$H$3:$M$118,4,FALSE),0) -> 46 | N15: =IFERROR(VLOOKUP($B15,'[1]ACT NUM12'!$H$3:$M$118,5,FALSE),0) -> 43 | W15: =SUM(K15:V15) -> 162 | X15: =IFERROR(VLOOKUP($B15,'[1]ACT NUM12'!$AA$3:$AF$79,2,FALSE),0) -> 24 | Y15: =IFERROR(VLOOKUP($B15,'[1]ACT NUM12'!$AA$3:$AF$79,3,FALSE),0) -> 14 | Z15: =IFERROR(VLOOKUP($B15,'[1]ACT NUM12'!$AA$3:$AF$79,4,FALSE),0) -> 8 | AA15: =IFERROR(VLOOKUP($B15,'[1]ACT NUM12'!$AA$3:$AF$79,5,FALSE),0) -> 9 | AJ15: =SUM(X15:AI15) -> 55 | AK15: 2663
A16: 04204-SALAMANCA | B16: 105104-HOSPITAL SALAMANCA | C16: =+D16/Metas!R44 -> 0.5856496 | D16: =F16/AK16 -> 0.087599545 | E16: =IFERROR(VLOOKUP($B16,[1]NUM12!$H$3:$J$151,2,FALSE),0) -> 280 | F16: =+E16+(K16+L16+M16+N16)-(X16+Y16+Z16+AA16) -> 231 | H16: =+G16+(Q16+R16)-(AD16+AE16) -> 0 | I16: =+G16+(Q16+R16+S16+T16)-(AD16+AE16+AF16+AG16) -> 0 | K16: =IFERROR(VLOOKUP($B16,'[1]ACT NUM12'!$H$3:$M$118,2,FALSE),0) -> 20 | L16: =IFERROR(VLOOKUP($B16,'[1]ACT NUM12'!$H$3:$M$118,3,FALSE),0) -> 21 | M16: =IFERROR(VLOOKUP($B16,'[1]ACT NUM12'!$H$3:$M$118,4,FALSE),0) -> 37 | N16: =IFERROR(VLOOKUP($B16,'[1]ACT NUM12'!$H$3:$M$118,5,FALSE),0) -> 24 | W16: =SUM(K16:V16) -> 102 | X16: =IFERROR(VLOOKUP($B16,'[1]ACT NUM12'!$AA$3:$AF$79,2,FALSE),0) -> 43 | Y16: =IFERROR(VLOOKUP($B16,'[1]ACT NUM12'!$AA$3:$AF$79,3,FALSE),0) -> 43 | Z16: =IFERROR(VLOOKUP($B16,'[1]ACT NUM12'!$AA$3:$AF$79,4,FALSE),0) -> 43 | AA16: =IFERROR(VLOOKUP($B16,'[1]ACT NUM12'!$AA$3:$AF$79,5,FALSE),0) -> 22 | AJ16: =SUM(X16:AI16) -> 151 | AK16: 2637
A17: 04302-COMBARBALÁ | B17: 105105-HOSPITAL COMBARBALA | C17: =+D17/Metas!R45 -> 1.21621 | D17: =F17/AK17 -> 0.25234619 | E17: =IFERROR(VLOOKUP($B17,[1]NUM12!$H$3:$J$151,2,FALSE),0) -> 204 | F17: =+E17+(K17+L17+M17+N17)-(X17+Y17+Z17+AA17) -> 242 | H17: =+G17+(Q17+R17)-(AD17+AE17) -> 0 | I17: =+G17+(Q17+R17+S17+T17)-(AD17+AE17+AF17+AG17) -> 0 | K17: =IFERROR(VLOOKUP($B17,'[1]ACT NUM12'!$H$3:$M$118,2,FALSE),0) -> 18 | L17: =IFERROR(VLOOKUP($B17,'[1]ACT NUM12'!$H$3:$M$118,3,FALSE),0) -> 2 | M17: =IFERROR(VLOOKUP($B17,'[1]ACT NUM12'!$H$3:$M$118,4,FALSE),0) -> 16 | N17: =IFERROR(VLOOKUP($B17,'[1]ACT NUM12'!$H$3:$M$118,5,FALSE),0) -> 17 | W17: =SUM(K17:V17) -> 53 | X17: =IFERROR(VLOOKUP($B17,'[1]ACT NUM12'!$AA$3:$AF$79,2,FALSE),0) -> 2 | Y17: =IFERROR(VLOOKUP($B17,'[1]ACT NUM12'!$AA$3:$AF$79,3,FALSE),0) -> 4 | Z17: =IFERROR(VLOOKUP($B17,'[1]ACT NUM12'!$AA$3:$AF$79,4,FALSE),0) -> 6 | AA17: =IFERROR(VLOOKUP($B17,'[1]ACT NUM12'!$AA$3:$AF$79,5,FALSE),0) -> 3 | AJ17: =SUM(X17:AI17) -> 15 | AK17: 959
B18: TOTAL HOSPITALES | E18: =SUM(E12:E17) -> 2273 | F18: =SUM(F12:F17) -> 2536 | G18: =SUM(G12:G17) -> 0 | H18: =SUM(H12:H17) -> 0 | I18: =SUM(I12:I17) -> 0 | J18: =SUM(J12:J17) -> 0 | K18: =SUM(K12:K17) -> 175 | L18: =SUM(L12:L17) -> 142 | ... AK18: =SUM(AK12:AK17) -> 14239

Sheet META 13
A1: COMUNA | B1: ESTABLECIMIENTO | C1: CUMPLIMIENTO | D1: Indicador | E1: META 13: COBERTURA DE ATENCIÓN DE ASMA EN POBLACIÓN estimada Y EPOC EN PERSONAS DE 40 AÑOS Y MÁS
E2: NUMERADOR | AK2: DENOMINADOR
E10: Nº de personas con diagnóstico de Asma Bajo Control y de personas con EPOC de 40 años y más bajo control | K10: Ingresos de personas con Asma y EPOC de 40 años en Sala IRA-ERA | X10: Egresos de personas con Asma y EPOC de 40 años en Sala IRA-ERA | AK10: Nº de personas con Asma y EPOC estimada según prevalencia
D11: Resultado | E11: A DIC 2016 | F11: A ABRIL | G11: A JUNIO | H11: A AGOSTO | I11: A OCTBRE | J11: A DICBRE | K11: ENERO | L11: FEBRERO | M11: MARZO | N11: ABRIL | O11: MAYO | P11: JUNIO | Q11: JULIO | R11: AGOSTO | S11: SEPBRE | T11: OCTBRE | U11: NOVBRE | V11: DICBRE | W11: TOTAL | X11: ENERO | Y11: FEBRERO | Z11: MARZO | AA11: ABRIL | AB11: MAYO | AC11: JUNIO | AD11: JULIO | AE11: AGOSTO | AF11: SEPBRE | AG11: OCTBRE | AH11: NOVBRE | AI11: DICBRE | AJ11: TOTAL
A12: 04103-ANDACOLLO | B12: 105106-HOSPITAL ANDACOLLO | C12: =+D12/Metas!S40 -> 0.72121064 | D12: =+F12/AK12 -> 0.2171767 | E12: =IFERROR(VLOOKUP($B12,[1]NUM13!$H$3:$J$144,2,FALSE),0) -> 281 | F12: =+E12+(K12+L12+M12)-(X12+Y12+Z12) -> 220 | H12: =+G12+(Q12+R12)-(AD12+AE12) -> 0 | I12: =+G12+(Q12+R12+S12+T12)-(AD12+AE12+AF12+AG12) -> 0 | K12: =IFERROR(VLOOKUP($B12,'[1]ACT NUM13'!$H$3:$M$73,2,FALSE),0) -> 3 | L12: =IFERROR(VLOOKUP($B12,'[1]ACT NUM13'!$H$3:$M$73,3,FALSE),0) -> 7 | M12: =IFERROR(VLOOKUP($B12,'[1]ACT NUM13'!$H$3:$M$73,4,FALSE),0) -> 2 | N12: =IFERROR(VLOOKUP($B12,'[1]ACT NUM13'!$H$3:$M$73,5,FALSE),0) -> 2 | W12: =SUM(K12:V12) -> 14 | X12: =IFERROR(VLOOKUP($B12,'[1]ACT NUM13'!$AA$3:$AF$36,2,FALSE),0) -> 68 | Y12: =IFERROR(VLOOKUP($B12,'[1]ACT NUM13'!$AA$3:$AF$36,3,FALSE),0) -> 2 | Z12: =IFERROR(VLOOKUP($B12,'[1]ACT NUM13'!$AA$3:$AF$36,4,FALSE),0) -> 3 | AA12: =IFERROR(VLOOKUP($B12,'[1]ACT NUM13'!$AA$3:$AF$36,5,FALSE),0) -> 3 | AJ12: =SUM(X12:AI12) -> 76 | AK12: 1013
A13: 04106-VICUÑA | B13: 105107-HOSPITAL VICUÑA | C13: =+D13/Metas!S41 -> 0.88398905 | D13: =+F13/AK13 -> 0.24406176 | E13: =IFERROR(VLOOKUP($B13,[1]NUM13!$H$3:$J$144,2,FALSE),0) -> 398 | F13: =+E13+(K13+L13+M13)-(X13+Y13+Z13) -> 411 | H13: =+G13+(Q13+R13)-(AD13+AE13) -> 0 | I13: =+G13+(Q13+R13+S13+T13)-(AD13+AE13+AF13+AG13) -> 0 | K13: =IFERROR(VLOOKUP($B13,'[1]ACT NUM13'!$H$3:$M$73,2,FALSE),0) -> 5 | L13: =IFERROR(VLOOKUP($B13,'[1]ACT NUM13'!$H$3:$M$73,3,FALSE),0) -> 6 | M13: =IFERROR(VLOOKUP($B13,'[1]ACT NUM13'!$H$3:$M$73,4,FALSE),0) -> 2 | N13: =IFERROR(VLOOKUP($B13,'[1]ACT NUM13'!$H$3:$M$73,5,FALSE),0) -> 3 | W13: =SUM(K13:V13) -> 16 | X13: =IFERROR(VLOOKUP($B13,'[1]ACT NUM13'!$AA$3:$AF$36,2,FALSE),0) -> 0 | Y13: =IFERROR(VLOOKUP($B13,'[1]ACT NUM13'!$AA$3:$AF$36,3,FALSE),0) -> 0 | Z13: =IFERROR(VLOOKUP($B13,'[1]ACT NUM13'!$AA$3:$AF$36,4,FALSE),0) -> 0 | AA13: =IFERROR(VLOOKUP($B13,'[1]ACT NUM13'!$AA$3:$AF$36,5,FALSE),0) -> 0 | AJ13: =SUM(X13:AI13) -> 0 | AK13: 1684
A14: 04201-ILLAPEL | B14: 105103-HOSPITAL ILLAPEL | C14: =+D14/Metas!S42 -> 0.91631787 | D14: =+F14/AK14 -> 0.12889066 | E14: =IFERROR(VLOOKUP($B14,[1]NUM13!$H$3:$J$144,2,FALSE),0) -> 320 | F14: =+E14+(K14+L14+M14)-(X14+Y14+Z14) -> 323 | H14: =+G14+(Q14+R14)-(AD14+AE14) -> 0 | I14: =+G14+(Q14+R14+S14+T14)-(AD14+AE14+AF14+AG14) -> 0 | K14: =IFERROR(VLOOKUP($B14,'[1]ACT NUM13'!$H$3:$M$73,2,FALSE),0) -> 1 | L14: =IFERROR(VLOOKUP($B14,'[1]ACT NUM13'!$H$3:$M$73,3,FALSE),0) -> 1 | M14: =IFERROR(VLOOKUP($B14,'[1]ACT NUM13'!$H$3:$M$73,4,FALSE),0) -> 1 | N14: =IFERROR(VLOOKUP($B14,'[1]ACT NUM13'!$H$3:$M$73,5,FALSE),0) -> 4 | W14: =SUM(K14:V14) -> 7 | X14: =IFERROR(VLOOKUP($B14,'[1]ACT NUM13'!$AA$3:$AF$36,2,FALSE),0) -> 0 | Y14: =IFERROR(VLOOKUP($B14,'[1]ACT NUM13'!$AA$3:$AF$36,3,FALSE),0) -> 0 | Z14: =IFERROR(VLOOKUP($B14,'[1]ACT NUM13'!$AA$3:$AF$36,4,FALSE),0) -> 0 | AA14: =IFERROR(VLOOKUP($B14,'[1]ACT NUM13'!$AA$3:$AF$36,5,FALSE),0) -> 0 | AJ14: =SUM(X14:AI14) -> 0 | AK14: 2506
A15: 04203-LOS VILOS | B15: 105108-HOSPITAL LOS VILOS | C15: =+D15/Metas!S43 -> 0.59370775 | D15: =+F15/AK15 -> 0.10591716 | E15: =IFERROR(VLOOKUP($B15,[1]NUM13!$H$3:$J$144,2,FALSE),0) -> 193 | F15: =+E15+(K15+L15+M15)-(X15+Y15+Z15) -> 179 | H15: =+G15+(Q15+R15)-(AD15+AE15) -> 0 | I15: =+G15+(Q15+R15+S15+T15)-(AD15+AE15+AF15+AG15) -> 0 | K15: =IFERROR(VLOOKUP($B15,'[1]ACT NUM13'!$H$3:$M$73,2,FALSE),0) -> 0 | L15: =IFERROR(VLOOKUP($B15,'[1]ACT NUM13'!$H$3:$M$73,3,FALSE),0) -> 0 | M15: =IFERROR(VLOOKUP($B15,'[1]ACT NUM13'!$H$3:$M$73,4,FALSE),0) -> 0 | N15: =IFERROR(VLOOKUP($B15,'[1]ACT NUM13'!$H$3:$M$73,5,FALSE),0) -> 0 | W15: =SUM(K15:V15) -> 0 | X15: =IFERROR(VLOOKUP($B15,'[1]ACT NUM13'!$AA$3:$AF$36,2,FALSE),0) -> 12 | Y15: =IFERROR(VLOOKUP($B15,'[1]ACT NUM13'!$AA$3:$AF$36,3,FALSE),0) -> 1 | Z15: =IFERROR(VLOOKUP($B15,'[1]ACT NUM13'!$AA$3:$AF$36,4,FALSE),0) -> 1 | AA15: =IFERROR(VLOOKUP($B15,'[1]ACT NUM13'!$AA$3:$AF$36,5,FALSE),0) -> 1 | AJ15: =SUM(X15:AI15) -> 15 | AK15: 1690
A16: 04204-SALAMANCA | B16: 105104-HOSPITAL SALAMANCA | C16: =+D16/Metas!S44 -> 0.67029288 | D16: =+F16/AK16 -> 0.17948718 | E16: =IFERROR(VLOOKUP($B16,[1]NUM13!$H$3:$J$144,2,FALSE),0) -> 342 | F16: =+E16+(K16+L16+M16)-(X16+Y16+Z16) -> 322 | H16: =+G16+(Q16+R16)-(AD16+AE16) -> 0 | I16: =+G16+(Q16+R16+S16+T16)-(AD16+AE16+AF16+AG16) -> 0 | K16: =IFERROR(VLOOKUP($B16,'[1]ACT NUM13'!$H$3:$M$73,2,FALSE),0) -> 4 | L16: =IFERROR(VLOOKUP($B16,'[1]ACT NUM13'!$H$3:$M$73,3,FALSE),0) -> 9 | M16: =IFERROR(VLOOKUP($B16,'[1]ACT NUM13'!$H$3:$M$73,4,FALSE),0) -> 6 | N16: =IFERROR(VLOOKUP($B16,'[1]ACT NUM13'!$H$3:$M$73,5,FALSE),0) -> 12 | W16: =SUM(K16:V16) -> 31 | X16: =IFERROR(VLOOKUP($B16,'[1]ACT NUM13'!$AA$3:$AF$36,2,FALSE),0) -> 15 | Y16: =IFERROR(VLOOKUP($B16,'[1]ACT NUM13'!$AA$3:$AF$36,3,FALSE),0) -> 11 | Z16: =IFERROR(VLOOKUP($B16,'[1]ACT NUM13'!$AA$3:$AF$36,4,FALSE),0) -> 13 | AA16: =IFERROR(VLOOKUP($B16,'[1]ACT NUM13'!$AA$3:$AF$36,5,FALSE),0) -> 11 | AJ16: =SUM(X16:AI16) -> 50 | AK16: 1794
A17: 04302-COMBARBALÁ | B17: 105105-HOSPITAL COMBARBALA | C17: =+D17/Metas!S45 -> 0.8521275 | D17: =+F17/AK17 -> 0.13716814 | E17: =IFERROR(VLOOKUP($B17,[1]NUM13!$H$3:$J$144,2,FALSE),0) -> 104 | F17: =+E17+(K17+L17+M17)-(X17+Y17+Z17) -> 93 | H17: =+G17+(Q17+R17)-(AD17+AE17) -> 0 | I17: =+G17+(Q17+R17+S17+T17)-(AD17+AE17+AF17+AG17) -> 0 | K17: =IFERROR(VLOOKUP($B17,'[1]ACT NUM13'!$H$3:$M$73,2,FALSE),0) -> 4 | L17: =IFERROR(VLOOKUP($B17,'[1]ACT NUM13'!$H$3:$M$73,3,FALSE),0) -> 1 | M17: =IFERROR(VLOOKUP($B17,'[1]ACT NUM13'!$H$3:$M$73,4,FALSE),0) -> 2 | N17: =IFERROR(VLOOKUP($B17,'[1]ACT NUM13'!$H$3:$M$73,5,FALSE),0) -> 2 | W17: =SUM(K17:V17) -> 9 | X17: =IFERROR(VLOOKUP($B17,'[1]ACT NUM13'!$AA$3:$AF$36,2,FALSE),0) -> 1 | Y17: =IFERROR(VLOOKUP($B17,'[1]ACT NUM13'!$AA$3:$AF$36,3,FALSE),0) -> 1 | Z17: =IFERROR(VLOOKUP($B17,'[1]ACT NUM13'!$AA$3:$AF$36,4,FALSE),0) -> 16 | AA17: =IFERROR(VLOOKUP($B17,'[1]ACT NUM13'!$AA$3:$AF$36,5,FALSE),0) -> 25 | AJ17: =SUM(X17:AI17) -> 43 | AK17: 678
B18: TOTAL HOSPITALES | E18: =SUM(E12:E17) -> 1638 | F18: =SUM(F12:F17) -> 1548 | G18: =SUM(G12:G17) -> 0 | H18: =SUM(H12:H17) -> 0 | I18: =SUM(I12:I17) -> 0 | J18: =SUM(J12:J17) -> 0 | K18: =SUM(K12:K17) -> 17 | L18: =SUM(L12:L17) -> 24 | ... AK18: =SUM(AK12:AK17) -> 9365

Sheet META 14
A1: COMUNA | B1: ESTABLECIMIENTO | C1: CUMPLIMIENTO | D1: Indicador | E1: META 14 : CAPACITACIÓN A CUIDADORES DE PERSONAS CON DEPENDENCIA CON PAGO DE ESTIPENDIO
E2: NUMERADOR | G2: DENOMINADOR
E10: Nº de cuidadores de personas con dependencia severa con pago de estipendio capacitados | G10: Nº total de cuidadores de personas con dependencia severa con pago de estipendio
D11: Resultado | E11: A JUNIO | F11: A DICBRE | G11: A JUNIO | H11: A DICBRE
A12: 04103-ANDACOLLO | B12: 105106-HOSPITAL ANDACOLLO | D12: =+E12/G12 -> #DIV/0!
A13: 04106-VICUÑA | B13: 105107-HOSPITAL VICUÑA | D13: =+E13/G13 -> #DIV/0!
A14: 04201-ILLAPEL | B14: 105103-HOSPITAL ILLAPEL | D14: =+E14/G14 -> #DIV/0!
A15: 04203-LOS VILOS | B15: 105108-HOSPITAL LOS VILOS | D15: =+E15/G15 -> #DIV/0!
A16: 04204-SALAMANCA | B16: 105104-HOSPITAL SALAMANCA | D16: =+E16/G16 -> #DIV/0!
A17: 04302-COMBARBALÁ | B17: 105105-HOSPITAL COMBARBALA | D17: =+E17/G17 -> #DIV/0!
B18: TOTAL HOSPITALES

Sheet META 17
A1: COMUNA | B1: ESTABLECIMIENTO | C1: CUMPLIMIENTO | D1: Indicador | E1: META 17: INGRESO PRECOZ A CONTROL DE EMBARAZO
E2: NUMERADOR | R2: DENOMINADOR
E10: Nº de mujeres embarazadas ingresadas antes de las 14 semanas a control | R10: Total de mujeres embarazadas ingresadas a control
D11: Resultado | E11: ENERO | F11: FEBRERO | G11: MARZO | H11: ABRIL | I11: MAYO | J11: JUNIO | K11: JULIO | L11: AGOSTO | M11: SEPBRE | N11: OCTBRE | O11: NOVBRE | P11: DICBRE | Q11: TOTAL | R11: ENERO | S11: FEBRERO | T11: MARZO | U11: ABRIL | V11: MAYO | W11: JUNIO | X11: JULIO | Y11: AGOSTO | Z11: SEPBRE | AA11: OCTBRE | AB11: NOVBRE | AC11: DICBRE | AD11: TOTAL
A12: 04103-ANDACOLLO | B12: 105106-HOSPITAL ANDACOLLO | C12: =+D12/Metas!U40 -> 0.98709465 | D12: =+Q12/AD12 -> 0.79411765 | E12: =IFERROR(VLOOKUP($B12,[1]NUM17!$H$3:$M$121,2,FALSE),0) -> 6 | F12: =IFERROR(VLOOKUP($B12,[1]NUM17!$H$3:$M$121,3,FALSE),0) -> 3 | G12: =IFERROR(VLOOKUP($B12,[1]NUM17!$H$3:$M$121,4,FALSE),0) -> 9 | H12: =IFERROR(VLOOKUP($B12,[1]NUM17!$H$3:$M$121,5,FALSE),0) -> 9 | Q12: =SUM(E12:P12) -> 27 | R12: =IFERROR(VLOOKUP($B12,[1]DEN17!$H$3:$M$126,2,FALSE),0) -> 6 | S12: =IFERROR(VLOOKUP($B12,[1]DEN17!$H$3:$M$126,3,FALSE),0) -> 5 | T12: =IFERROR(VLOOKUP($B12,[1]DEN17!$H$3:$M$126,4,FALSE),0) -> 12 | U12: =IFERROR(VLOOKUP($B12,[1]DEN17!$H$3:$M$126,5,FALSE),0) -> 11 | AD12: =SUM(R12:AC12) -> 34
A13: 04106-VICUÑA | B13: 105107-HOSPITAL VICUÑA | C13: =+D13/Metas!U41 -> 1.1206057 | D13: =+Q13/AD13 -> 0.90163934 | E13: =IFERROR(VLOOKUP($B13,[1]NUM17!$H$3:$M$121,2,FALSE),0) -> 14 | F13: =IFERROR(VLOOKUP($B13,[1]NUM17!$H$3:$M$121,3,FALSE),0) -> 7 | G13: =IFERROR(VLOOKUP($B13,[1]NUM17!$H$3:$M$121,4,FALSE),0) -> 28 | H13: =IFERROR(VLOOKUP($B13,[1]NUM17!$H$3:$M$121,5,FALSE),0) -> 6 | Q13: =SUM(E13:P13) -> 55 | R13: =IFERROR(VLOOKUP($B13,[1]DEN17!$H$3:$M$126,2,FALSE),0) -> 17 | S13: =IFERROR(VLOOKUP($B13,[1]DEN17!$H$3:$M$126,3,FALSE),0) -> 8 | T13: =IFERROR(VLOOKUP($B13,[1]DEN17!$H$3:$M$126,4,FALSE),0) -> 30 | U13: =IFERROR(VLOOKUP($B13,[1]DEN17!$H$3:$M$126,5,FALSE),0) -> 6 | AD13: =SUM(R13:AC13) -> 61
A14: 04201-ILLAPEL | B14: 105103-HOSPITAL ILLAPEL | C14: =+D14/Metas!U42 -> 0.86669401 | D14: =+Q14/AD14 -> 0.69491525 | E14: =IFERROR(VLOOKUP($B14,[1]NUM17!$H$3:$M$121,2,FALSE),0) -> 5 | F14: =IFERROR(VLOOKUP($B14,[1]NUM17!$H$3:$M$121,3,FALSE),0) -> 13 | G14: =IFERROR(VLOOKUP($B14,[1]NUM17!$H$3:$M$121,4,FALSE),0) -> 14 | H14: =IFERROR(VLOOKUP($B14,[1]NUM17!$H$3:$M$121,5,FALSE),0) -> 9 | Q14: =SUM(E14:P14) -> 41 | R14: =IFERROR(VLOOKUP($B14,[1]DEN17!$H$3:$M$126,2,FALSE),0) -> 12 | S14: =IFERROR(VLOOKUP($B14,[1]DEN17!$H$3:$M$126,3,FALSE),0) -> 17 | T14: =IFERROR(VLOOKUP($B14,[1]DEN17!$H$3:$M$126,4,FALSE),0) -> 18 | U14: =IFERROR(VLOOKUP($B14,[1]DEN17!$H$3:$M$126,5,FALSE),0) -> 12 | AD14: =SUM(R14:AC14) -> 59
A15: 04203-LOS VILOS | B15: 105108-HOSPITAL LOS VILOS | C15: =+D15/Metas!U43 -> 0.82970338 | D15: =+Q15/AD15 -> 0.66666667 | E15: =IFERROR(VLOOKUP($B15,[1]NUM17!$H$3:$M$121,2,FALSE),0) -> 14 | F15: =IFERROR(VLOOKUP($B15,[1]NUM17!$H$3:$M$121,3,FALSE),0) -> 17 | G15: =IFERROR(VLOOKUP($B15,[1]NUM17!$H$3:$M$121,4,FALSE),0) -> 9 | H15: =IFERROR(VLOOKUP($B15,[1]NUM17!$H$3:$M$121,5,FALSE),0) -> 10 | Q15: =SUM(E15:P15) -> 50 | R15: =IFERROR(VLOOKUP($B15,[1]DEN17!$H$3:$M$126,2,FALSE),0) -> 26 | S15: =IFERROR(VLOOKUP($B15,[1]DEN17!$H$3:$M$126,3,FALSE),0) -> 25 | T15: =IFERROR(VLOOKUP($B15,[1]DEN17!$H$3:$M$126,4,FALSE),0) -> 10 | U15: =IFERROR(VLOOKUP($B15,[1]DEN17!$H$3:$M$126,5,FALSE),0) -> 14 | AD15: =SUM(R15:AC15) -> 75
A16: 04204-SALAMANCA | B16: 105104-HOSPITAL SALAMANCA | C16: =+D16/Metas!U44 -> 0.8731171 | D16: =+Q16/AD16 -> 0.71875 | E16: =IFERROR(VLOOKUP($B16,[1]NUM17!$H$3:$M$121,2,FALSE),0) -> 12 | F16: =IFERROR(VLOOKUP($B16,[1]NUM17!$H$3:$M$121,3,FALSE),0) -> 12 | G16: =IFERROR(VLOOKUP($B16,[1]NUM17!$H$3:$M$121,4,FALSE),0) -> 16 | H16: =IFERROR(VLOOKUP($B16,[1]NUM17!$H$3:$M$121,5,FALSE),0) -> 6 | Q16: =SUM(E16:P16) -> 46 | R16: =IFERROR(VLOOKUP($B16,[1]DEN17!$H$3:$M$126,2,FALSE),0) -> 18 | S16: =IFERROR(VLOOKUP($B16,[1]DEN17!$H$3:$M$126,3,FALSE),0) -> 14 | T16: =IFERROR(VLOOKUP($B16,[1]DEN17!$H$3:$M$126,4,FALSE),0) -> 23 | U16: =IFERROR(VLOOKUP($B16,[1]DEN17!$H$3:$M$126,5,FALSE),0) -> 9 | AD16: =SUM(R16:AC16) -> 64
A17: 04302-COMBARBALÁ | B17: 105105-HOSPITAL COMBARBALA | C17: =+D17/Metas!U45 -> 0.96538492 | D17: =+Q17/AD17 -> 0.84210526 | E17: =IFERROR(VLOOKUP($B17,[1]NUM17!$H$3:$M$121,2,FALSE),0) -> 3 | F17: =IFERROR(VLOOKUP($B17,[1]NUM17!$H$3:$M$121,3,FALSE),0) -> 1 | G17: =IFERROR(VLOOKUP($B17,[1]NUM17!$H$3:$M$121,4,FALSE),0) -> 6 | H17: =IFERROR(VLOOKUP($B17,[1]NUM17!$H$3:$M$121,5,FALSE),0) -> 6 | Q17: =SUM(E17:P17) -> 16 | R17: =IFERROR(VLOOKUP($B17,[1]DEN17!$H$3:$M$126,2,FALSE),0) -> 5 | S17: =IFERROR(VLOOKUP($B17,[1]DEN17!$H$3:$M$126,3,FALSE),0) -> 1 | T17: =IFERROR(VLOOKUP($B17,[1]DEN17!$H$3:$M$126,4,FALSE),0) -> 7 | U17: =IFERROR(VLOOKUP($B17,[1]DEN17!$H$3:$M$126,5,FALSE),0) -> 6 | AD17: =SUM(R17:AC17) -> 19
B18: TOTAL HOSPITALES | E18: =SUM(E12:E17) -> 54 | F18: =SUM(F12:F17) -> 53 | G18: =SUM(G12:G17) -> 82 | H18: =SUM(H12:H17) -> 46 | I18: =SUM(I12:I17) -> 0 | J18: =SUM(J12:J17) -> 0 | K18: =SUM(K12:K17) -> 0 | L18: =SUM(L12:L17) -> 0 | ... AD18: =SUM(AD12:AD17) -> 312

Sheet META 18
A1: COMUNA | B1: ESTABLECIMIENTO | C1: CUMPLIMIENTO | D1: Indicador | E1: META 18 : COBERTURA DE MÉTODOS ANTICONCEPTIVOS EN ADOLESCENTES
E2: NUMERADOR | H2: DENOMINADOR
E10: Nº de adolescentes de 15 a 19 años estimados que usan métodos de regulación de fertilidad (Bajo Control) | H10: Total de adolescentes de 15 a 19 años estimados (población estimada/3,3)
D11: Resultado | E11: A DICBRE 2016 | F11: A JUNIO | G11: A DICBRE
A12: 04103-ANDACOLLO | B12: 105106-HOSPITAL ANDACOLLO | C12: =+D12/Metas!V40 -> 7.9067193 | D12: =+E12/H12 -> 0.22972973 | E12: =IFERROR(VLOOKUP($B12,[1]NUM18!$H$3:$J$157,2,FALSE),0) -> 102 | H12: 444
A13: 04106-VICUÑA | B13: 105107-HOSPITAL VICUÑA | C13: =+D13/Metas!V41 -> 6.4097251 | D13: =+E13/H13 -> 0.18315789 | E13: =IFERROR(VLOOKUP($B13,[1]NUM18!$H$3:$J$157,2,FALSE),0) -> 174 | H13: 950
A14: 04201-ILLAPEL | B14: 105103-HOSPITAL ILLAPEL | C14: =+D14/Metas!V42 -> 4.8572916 | D14: =+E14/H14 -> 0.073005093 | E14: =IFERROR(VLOOKUP($B14,[1]NUM18!$H$3:$J$157,2,FALSE),0) -> 86 | H14: 1178
A15: 04203-LOS VILOS | B15: 105108-HOSPITAL LOS VILOS | C15: =+D15/Metas!V43 -> 6.6650881 | D15: =+E15/H15 -> 0.19095477 | E15: =IFERROR(VLOOKUP($B15,[1]NUM18!$H$3:$J$157,2,FALSE),0) -> 152 | H15: 796
A16: 04204-SALAMANCA | B16: 105104-HOSPITAL SALAMANCA | C16: =+D16/Metas!V44 -> 7.00056 | D16: =+E16/H16 -> 0.27155172 | E16: =IFERROR(VLOOKUP($B16,[1]NUM18!$H$3:$J$157,2,FALSE),0) -> 126 | H16: 464
A17: 04302-COMBARBALÁ | B17: 105105-HOSPITAL COMBARBALA | C17: =+D17/Metas!V45 -> 23.204827 | D17: =+E17/H17 -> 0.66412214 | E17: =IFERROR(VLOOKUP($B17,[1]NUM18!$H$3:$J$157,2,FALSE),0) -> 87 | H17: 131
B18: TOTAL HOSPITALES | E18: =SUM(E12:E17) -> 727 | H18: =SUM(H12:H17) -> 3963

Sheet META 19
A1: COMUNA | B1: ESTABLECIMIENTO | C1: CUMPLIMIENTO | D1: Indicador | E1: META 19: COBERTURA EFECTIVA DE TRATAMIENTO EN PERSONAS DE 15 AÑOS Y MAS CON DIABETES MELLITUS 2
E2: NUMERADOR | K2: DENOMINADOR
E10: Nº de personas con DM2 que cumplen Metas de Compensación definidas | G10: Nº de personas con DM 2 de 15 a 79 años con Hb A1c bajo 7% | I10: Nº de personas con DM 2 de 80 y más años con Hb A1c bajo 8% | K10: Nº de diabéticos de 15 y más, esperados según prevalencia
D11: Resultado | E11: A JUNIO | F11: A DICBRE | G11: A JUNIO | H11: A DICBRE | I11: A JUNIO | J11: A DICBRE
A12: 04103-ANDACOLLO | B12: 105106-HOSPITAL ANDACOLLO | D12: =+E12/K12 -> 0 | E12: =+G12+I12 -> 0 | F12: =+H12+J12 -> 0 | K12: 814
A13: 04106-VICUÑA | B13: 105107-HOSPITAL VICUÑA | D13: =+E13/K13 -> 0 | E13: =+G13+I13 -> 0 | F13: =+H13+J13 -> 0 | K13: 1252
A14: 04201-ILLAPEL | B14: 105103-HOSPITAL ILLAPEL | D14: =+E14/K14 -> 0 | E14: =+G14+I14 -> 0 | F14: =+H14+J14 -> 0 | K14: 1972
A15: 04203-LOS VILOS | B15: 105108-HOSPITAL LOS VILOS | D15: =+E15/K15 -> 0 | E15: =+G15+I15 -> 0 | F15: =+H15+J15 -> 0 | K15: 1254
A16: 04204-SALAMANCA | B16: 105104-HOSPITAL SALAMANCA | D16: =+E16/K16 -> 0 | E16: =+G16+I16 -> 0 | F16: =+H16+J16 -> 0 | K16: 1283
A17: 04302-COMBARBALÁ | B17: 105105-HOSPITAL COMBARBALA | D17: =+E17/K17 -> 0 | E17: =+G17+I17 -> 0 | F17: =+H17+J17 -> 0 | K17: 541
B18: TOTAL HOSPITALES | E18: =SUM(E12:E17) -> 0 | F18: =SUM(F12:F17) -> 0 | G18: =SUM(G12:G17) -> 0 | H18: =SUM(H12:H17) -> 0 | I18: =SUM(I12:I17) -> 0 | J18: =SUM(J12:J17) -> 0 | K18: =SUM(K12:K17) -> 7116

Sheet META 20
A1: COMUNA | B1: ESTABLECIMIENTO | C1: CUMPLIMIENTO | D1: Indicador | E1: META 20: COBERTURA EFECTIVA DE TRATAMIENTO EN PERSONAS DE 15 AÑOS Y MAS CON HIPERTENSION ARTERIAL
E2: NUMERADOR | K2: DENOMINADOR
E10: Nº de personas hipertensas que cumplen Metas de Compensación definidas | G10: Nº de personas hipertensas de 15 a 79 años con PA< 140/90 mm Hg | I10: Nº de personas hipertensas de 80 y más años con PA< 150/90 mm Hg | K10: Nº de Hipertensos de 15 y más, esperados según prevalencia
D11: Resultado | E11: A JUNIO | F11: A DICBRE | G11: A JUNIO | H11: A DICBRE | I11: A JUNIO | J11: A DICBRE
A12: 04103-ANDACOLLO | B12: 105106-HOSPITAL ANDACOLLO | D12: =+E12/K12 -> 0 | K12: 1627
A13: 04106-VICUÑA | B13: 105107-HOSPITAL VICUÑA | D13: =+E13/K13 -> 0 | K13: 2426
A14: 04201-ILLAPEL | B14: 105103-HOSPITAL ILLAPEL | D14: =+E14/K14 -> 0 | K14: 3938
A15: 04203-LOS VILOS | B15: 105108-HOSPITAL LOS VILOS | D15: =+E15/K15 -> 0 | K15: 2338
A16: 04204-SALAMANCA | B16: 105104-HOSPITAL SALAMANCA | D16: =+E16/K16 -> 0 | K16: 2420
A17: 04302-COMBARBALÁ | B17: 105105-HOSPITAL COMBARBALA | D17: =+E17/K17 -> 0 | K17: 1123
B18: TOTAL HOSPITALES | K18: =SUM(K12:K17) -> 13872

Sheet Hoja1

Sheet Hoja2

Sheet Hoja3

Sheet Hoja4

Sheet Hoja5

Sheet Hoja6

Sheet Hoja7

Sheet Hoja8

Sheet META GES
A1: COMUNA | B1: ESTABLECIMIENTO | C1: CUMPLIMIENTO | D1: Indicador | E1: META GES: CUMPLIMIENTO DE GARANTÍAS EN PROBLEMAS DE SALUD CUYAS ACCIONES SON DE EJECUCIÓN EN APS
E2: NUMERADOR | I2: DENOMINADOR
E10: Nº de Casos con GES atendidos en APS con Garantía Cumplida (Cumplidas + Incumpplidas con Evento + Exceptuadas) | I10: Nº Total de Casos con GES atendidos en APS
D11: Resultado | E11: A JUNIO | F11: A AGOSTO | G11: A OCTBRE | H11: A DICBRE | I11: A JUNIO | J11: A AGOSTO | K11: A OCTBRE | L11: A DICBRE
A12: 04101-LA SERENA | B12: 105300-CES. CARDENAL CARO | E12: 1300 | F12: 1912 | I12: 1300 | J12: 1912
A13: 04101-LA SERENA | B13: 105301-CES. LAS COMPAÑIAS | E13: 1046 | F13: 1651 | I13: 1046 | J13: 1651
A14: 04101-LA SERENA | B14: 105302-CES. PEDRO AGUIRRE C. | E14: 1102 | F14: 1691 | I14: 1102 | J14: 1691
A15: 04101-LA SERENA | B15: 105313-CES. SCHAFFHAUSER | E15: 1196 | F15: 1629 | I15: 1196 | J15: 1629
A16: 04101-LA SERENA | B16: 105319-CES. CARDENAL R.S.H. | E16: 1022 | F16: 1520 | I16: 1022 | J16: 1520
A17: 04101-LA SERENA | B17: 105325-CESFAM JUAN PABLO II | E17: 1043 | F17: 1611 | I17: 1043 | J17: 1611
A18: 04101-LA SERENA | B18: 105400-P.S.R. ALGARROBITO | E18: 283 | F18: 364 | I18: 283 | J18: 364
A19: 04101-LA SERENA | B19: 105401-P.S.R. LAS ROJAS
A20: 04101-LA SERENA | B20: 105402-P.S.R. EL ROMERO
A21: 04101-LA SERENA | B21: 105499-P.S.R. LAMBERT | F21: 44 | J21: 44
A22: 04101-LA SERENA | B22: 105700-CECOF VILLA EL INDIO | E22: 121 | F22: 183 | I22: 121 | J22: 183
A23: 04101-LA SERENA | B23: 105701-CECOF VILLA ALEMANIA | E23: 14 | F23: 16 | I23: 14 | J23: 16
A24: 04101-LA SERENA | B24: 105702-CECOF VILLA LAMBERT | E24: 28 | I24: 28
A25: TOTAL LA SERENA | C25: =+D25 -> 1 | D25: =+F25/J25 -> 1 | E25: =SUM(E12:E24) -> 7155 | F25: =SUM(F12:F24) -> 10621 | G25: =SUM(G12:G24) -> 0 | H25: =SUM(H12:H24) -> 0 | I25: =SUM(I12:I24) -> 7155 | J25: =SUM(J12:J24) -> 10621 | K25: =SUM(K12:K24) -> 0 | L25: =SUM(L12:L24) -> 0
A26: 04102-COQUIMBO | B26: 105303-CES. SAN JUAN | E26: 1598 | F26: 2455 | I26: 1598 | J26: 2455
A27: 04102-COQUIMBO | B27: 105304-CES. SANTA CECILIA | E27: 1200 | F27: 1924 | I27: 1200 | J27: 1924
A28: 04102-COQUIMBO | B28: 105305-CES. TIERRAS BLANCAS | E28: 2233 | F28: 3038 | I28: 2233 | J28: 3038
A29: 04102-COQUIMBO | B29: 105321-CES. RURAL TONGOY | E29: 453 | F29: 707 | I29: 453 | J29: 707
A30: 04102-COQUIMBO | B30: 105323-CES. DR. SERGIO AGUILAR | E30: 981 | F30: 1433 | I30: 981 | J30: 1433
A31: 04102-COQUIMBO | B31: 105404-P.S.R. EL TANGUE
A32: 04102-COQUIMBO | B32: 105405-P.S.R. GUANAQUEROS
A33: 04102-COQUIMBO | B33: 105406-P.S.R. PAN DE AZUCAR | E33: 180 | F33: 266 | I33: 180 | J33: 266
A34: 04102-COQUIMBO | B34: 105407-P.S.R. TAMBILLOS
A35: 04102-COQUIMBO | B35: 105705-CECOF EL ALBA | E35: 199 | F35: 286 | I35: 199 | J35: 286
A36: TOTAL COQUIMBO | C36: =+D36 -> 1 | D36: =+F36/J36 -> 1 | E36: =SUM(E26:E35) -> 6844 | F36: =SUM(F26:F35) -> 10109 | G36: =SUM(G26:G35) -> 0 | H36: =SUM(H26:H35) -> 0 | I36: =SUM(I26:I35) -> 6844 | J36: =SUM(J26:J35) -> 10109 | K36: =SUM(K26:K35) -> 0 | L36: =SUM(L26:L35) -> 0
A37: 04106-VICUÑA | B37: 105467-P.S.R. DIAGUITAS | E37: 11 | F37: 15 | I37: 11 | J37: 15
A38: 04106-VICUÑA | B38: 105468-P.S.R. EL MOLLE | E38: 7 | F38: 19 | I38: 7 | J38: 19
A39: 04106-VICUÑA | B39: 105469-P.S.R. EL TAMBO | E39: 34 | F39: 49 | I39: 34 | J39: 49
A40: 04106-VICUÑA | B40: 105470-P.S.R. HUANTA | E40: 1 | F40: 1 | I40: 1 | J40: 1
A41: 04106-VICUÑA | B41: 105471-P.S.R. PERALILLO | E41: 10 | F41: 19 | I41: 10 | J41: 19
A42: 04106-VICUÑA | B42: 105472-P.S.R. RIVADAVIA | E42: 5 | F42: 9 | I42: 5 | J42: 9
A43: 04106-VICUÑA | B43: 105473-P.S.R. TALCUNA | E43: 13 | F43: 26 | I43: 13 | J43: 26
A44: 04106-VICUÑA | B44: 105474-P.S.R. CHAPILCA | E44: 2 | F44: 2 | I44: 2 | J44: 2
A45: 04106-VICUÑA | B45: 105502-P.S.R. CALINGASTA | E45: 37 | F45: 51 | I45: 37 | J45: 51
A46: 04106-VICUÑA | B46: 105509-P.S.R. GUALLIGUAICA
A47: TOTAL VICUÑA | C47: =+D47 -> 1 | D47: =+F47/J47 -> 1 | E47: =SUM(E37:E46) -> 120 | F47: =SUM(F37:F46) -> 191 | G47: =SUM(G37:G46) -> 0 | H47: =SUM(H37:H46) -> 0 | I47: =SUM(I37:I46) -> 120 | J47: =SUM(J37:J46) -> 191 | K47: =SUM(K37:K46) -> 0 | L47: =SUM(L37:L46) -> 0
A48: 04201-ILLAPEL | B48: 105326-CESFAM SAN RAFAEL | E48: 269 | F48: 421 | I48: 269 | J48: 421
A49: 04201-ILLAPEL | B49: 105443-P.S.R. CARCAMO
A50: 04201-ILLAPEL | B50: 105444-P.S.R. HUINTIL | E50: 1 | F50: 2 | I50: 1 | J50: 2
A51: 04201-ILLAPEL | B51: 105445-P.S.R. LIMAHUIDA
A52: 04201-ILLAPEL | B52: 105446-P.S.R. MATANCILLA | E52: 1 | F52: 2 | I52: 1 | J52: 2
A53: 04201-ILLAPEL | B53: 105447-P.S.R. PERALILLO | E53: 1 | F53: 1 | I53: 1 | J53: 1
A54: 04201-ILLAPEL | B54: 105448-P.S.R. SANTA VIRGINIA | E54: 5 | F54: 9 | I54: 5 | J54: 9
A55: 04201-ILLAPEL | B55: 105449-P.S.R. TUNGA NORTE
A56: 04201-ILLAPEL | B56: 105485-P.S.R. PLAN DE HORNOS | E56: 10 | F56: 12 | I56: 10 | J56: 12
A57: 04201-ILLAPEL | B57: 105486-P.S.R. TUNGA SUR
A58: 04201-ILLAPEL | B58: 105487-P.S.R. CAÑAS UNO | E58: 16 | F58: 26 | I58: 16 | J58: 26
A59: 04201-ILLAPEL | B59: 105496-P.S.R. PINTACURA SUR | E59: 28 | F59: 38 | I59: 28 | J59: 38
A60: 04201-ILLAPEL | B60: 105504-P.S.R. SOCAVON
A61: TOTAL ILLAPEL | C61: =+D61 -> 1 | D61: =+F61/J61 -> 1 | E61: =SUM(E48:E60) -> 331 | F61: =SUM(F48:F60) -> 511 | G61: =SUM(G48:G60) -> 0 | H61: =SUM(H48:H60) -> 0 | I61: =SUM(I48:I60) -> 331 | J61: =SUM(J48:J60) -> 511 | K61: =SUM(K48:K60) -> 0 | L61: =SUM(L48:L60) -> 0
A62: 04202-CANELA | B62: 105309-CES. RURAL CANELA | E62: 128 | F62: 148 | I62: 128 | J62: 148
A63: 04202-CANELA | B63: 105450-P.S.R. MINCHA NORTE
A64: 04202-CANELA | B64: 105451-P.S.R. AGUA FRIA | E64: 1 | F64: 1 | I64: 1 | J64: 1
A65: 04202-CANELA | B65: 105482-P.S.R. CANELA ALTA
A66: 04202-CANELA | B66: 105483-P.S.R. LOS RULOS
A67: 04202-CANELA | B67: 105484-P.S.R. HUENTELAUQUEN
A68: 04202-CANELA | B68: 105488-P.S.R. ESPIRITU SANTO
A69: 04202-CANELA | B69: 105493-P.S.R. MINCHA SUR
A70: 04202-CANELA | B70: 105497-P.S.R. JABONERIA
A71: 04202-CANELA | B71: 105498-P.S.R. QUEBRADA DE LINARES
A72: TOTAL CANELA | C72: =+D72 -> 1 | D72: =+F72/J72 -> 1 | E72: =SUM(E62:E71) -> 129 | F72: =SUM(F62:F71) -> 149 | G72: =SUM(G62:G71) -> 0 | H72: =SUM(H62:H71) -> 0 | I72: =SUM(I62:I71) -> 129 | J72: =SUM(J62:J71) -> 149 | K72: =SUM(K62:K71) -> 0 | L72: =SUM(L62:L71) -> 0
A73: 04203-LOS VILOS | B73: 105478-P.S.R. CAIMANES | E73: 37 | F73: 40 | I73: 37 | J73: 40
A74: 04203-LOS VILOS | B74: 105479-P.S.R. GUANGUALI | E74: 25 | F74: 44 | I74: 25 | J74: 44
A75: 04203-LOS VILOS | B75: 105480-P.S.R. QUILIMARI | E75: 49 | F75: 145 | I75: 49 | J75: 145
A76: 04203-LOS VILOS | B76: 105481-P.S.R. TILAMA | E76: 4 | F76: 4 | I76: 4 | J76: 4
A77: 04203-LOS VILOS | B77: 105511-P.S.R. LOS CONDORES | E77: 15 | F77: 19 | I77: 15 | J77: 19
A78: TOTAL LOS VILOS | C78: =+D78 -> 1 | D78: =+F78/J78 -> 1 | E78: =SUM(E73:E77) -> 130 | F78: =SUM(F73:F77) -> 252 | G78: =SUM(G73:G77) -> 0 | H78: =SUM(H73:H77) -> 0 | I78: =SUM(I73:I77) -> 130 | J78: =SUM(J73:J77) -> 252 | K78: =SUM(K73:K77) -> 0 | L78: =SUM(L73:L77) -> 0
A79: 04204-SALAMANCA | B79: 105452-P.S.R. CUNCUMEN | E79: 10 | F79: 13 | I79: 10 | J79: 13
A80: 04204-SALAMANCA | B80: 105453-P.S.R. TRANQUILLA | E80: 18 | F80: 24 | I80: 18 | J80: 24
A81: 04204-SALAMANCA | B81: 105454-P.S.R. CUNLAGUA | E81: 4 | F81: 4 | I81: 4 | J81: 4
A82: 04204-SALAMANCA | B82: 105455-P.S.R. CHILLEPIN | E82: 9 | F82: 13 | I82: 9 | J82: 13
A83: 04204-SALAMANCA | B83: 105456-P.S.R. LLIMPO | E83: 15 | F83: 16 | I83: 15 | J83: 16
A84: 04204-SALAMANCA | B84: 105457-P.S.R. SAN AGUSTIN | E84: 13 | F84: 20 | I84: 13 | J84: 20
A85: 04204-SALAMANCA | B85: 105458-P.S.R. TAHUINCO | E85: 63 | F85: 67 | I85: 63 | J85: 67
A86: 04204-SALAMANCA | B86: 105491-P.S.R. QUELEN BAJO | E86: 41 | F86: 49 | I86: 41 | J86: 49
A87: 04204-SALAMANCA | B87: 105492-P.S.R. CAMISA | E87: 12 | F87: 14 | I87: 12 | J87: 14
A88: 04204-SALAMANCA | B88: 105501-P.S.R. ARBOLEDA GRANDE | E88: 48 | F88: 50 | I88: 48 | J88: 50
A89: TOTAL SALAMANCA | C89: =+D89 -> 1 | D89: =+F89/J89 -> 1 | E89: =SUM(E79:E88) -> 233 | F89: =SUM(F79:F88) -> 270 | G89: =SUM(G79:G88) -> 0 | H89: =SUM(H79:H88) -> 0 | I89: =SUM(I79:I88) -> 233 | J89: =SUM(J79:J88) -> 270 | K89: =SUM(K79:K88) -> 0 | L89: =SUM(L79:L88) -> 0
A90: 04301-OVALLE | B90: 105315-CES. RURAL C. DE TAMAYA | E90: 237 | F90: 352 | I90: 237 | J90: 352
A91: 04301-OVALLE | B91: 105317-CES. JORGE JORDAN D. | E91: 694 | F91: 1094 | I91: 694 | J91: 1094
A92: 04301-OVALLE | B92: 105322-CES. MARCOS MACUADA | E92: 664 | F92: 973 | I92: 664 | J92: 973
A93: 04301-OVALLE | B93: 105324-CES. SOTAQUI | E93: 270 | F93: 333 | I93: 270 | J93: 333
A94: 04301-OVALLE | B94: 105415-P.S.R. BARRAZA
A95: 04301-OVALLE | B95: 105416-P.S.R. CAMARICO | E95: 261 | F95: 424 | I95: 261 | J95: 424
A96: 04301-OVALLE | B96: 105417-P.S.R. ALCONES BAJOS
A97: 04301-OVALLE | B97: 105419-P.S.R. LAS SOSSAS
A98: 04301-OVALLE | B98: 105420-P.S.R. LIMARI
A99: 04301-OVALLE | B99: 105422-P.S.R. HORNILLOS
A100: 04301-OVALLE | B100: 105437-P.S.R. CHALINGA
A101: 04301-OVALLE | B101: 105439-P.S.R. CERRO BLANCO
A102: 04301-OVALLE | B102: 105507-P.S.R. HUAMALATA
A103: 04301-OVALLE | B103: 105510-P.S.R. RECOLETA
A104: 04301-OVALLE | B104: 105722-CECOF SAN JOSE DE LA DEHESA | E104: 211 | F104: 309 | I104: 211 | J104: 309
A105: 04301-OVALLE | B105: 105723-CECOF LIMARI | E105: 104 | F105: 143 | I105: 104 | J105: 143
A106: TOTAL OVALLE | C106: =+D106 -> 1 | D106: =+F106/J106 -> 1 | E106: =SUM(E90:E105) -> 2441 | F106: =SUM(F90:F105) -> 3628 | G106: =SUM(G90:G105) -> 0 | H106: =SUM(H90:H105) -> 0 | I106: =SUM(I90:I105) -> 2441 | J106: =SUM(J90:J105) -> 3628 | K106: =SUM(K90:K105) -> 0 | L106: =SUM(L90:L105) -> 0
A107: 04302-COMBARBALÁ | B107: 105433-P.S.R. SAN LORENZO | E107: 2 | F107: 3 | I107: 2 | J107: 3
...

Sheet META 21
A1: COMUNA | B1: ESTABLECIMIENTO | C1: CUMPLIMIENTO | D1: Indicador | E1: META 21: PROPORCIÓN DE NIÑAS Y NIÑOS DE 3 AÑOS LIBRE DE CARIES
E2: NUMERADOR | R2: DENOMINADOR
E10: Nº de niñas y niños menores de 3 años con regsitro de CEOD=0 | R10: Nº de niñas y niños menores de 3 años estimados
D11: Resultado | E11: ENERO | F11: FEBRERO | G11: MARZO | H11: ABRIL | I11: MAYO | J11: JUNIO | K11: JULIO | L11: AGOSTO | M11: SEPBRE | N11: OCTBRE | O11: NOVBRE | P11: DICBRE | Q11: TOTAL
A12: 04103-ANDACOLLO | B12: 105106-HOSPITAL ANDACOLLO | C12: =IF(Q12<>0,"SI", "NO") -> SI | D12: =+Q12/R12 -> 0.1048951 | E12: =IFERROR(VLOOKUP($B12,[1]NUM21!$H$3:$M$100,2,FALSE),0) -> 15 | F12: =IFERROR(VLOOKUP($B12,[1]NUM21!$H$3:$M$100,3,FALSE),0) -> 7 | G12: =IFERROR(VLOOKUP($B12,[1]NUM21!$H$3:$M$100,4,FALSE),0) -> 4 | H12: =IFERROR(VLOOKUP($B12,[1]NUM21!$H$3:$M$100,5,FALSE),0) -> 4 | Q12: =SUM(E12:P12) -> 30 | R12: 286
A13: 04106-VICUÑA | B13: 105107-HOSPITAL VICUÑA | C13: =IF(Q13<>0,"SI", "NO") -> SI | D13: =+Q13/R13 -> 0.022357724 | E13: =IFERROR(VLOOKUP($B13,[1]NUM21!$H$3:$M$100,2,FALSE),0) -> 9 | F13: =IFERROR(VLOOKUP($B13,[1]NUM21!$H$3:$M$100,3,FALSE),0) -> 6 | G13: =IFERROR(VLOOKUP($B13,[1]NUM21!$H$3:$M$100,4,FALSE),0) -> 3 | H13: =IFERROR(VLOOKUP($B13,[1]NUM21!$H$3:$M$100,5,FALSE),0) -> 4 | Q13: =SUM(E13:P13) -> 22 | R13: 984
A14: 04201-ILLAPEL | B14: 105103-HOSPITAL ILLAPEL | C14: =IF(Q14<>0,"SI", "NO") -> SI | D14: =+Q14/R14 -> 0.027845036 | E14: =IFERROR(VLOOKUP($B14,[1]NUM21!$H$3:$M$100,2,FALSE),0) -> 7 | F14: =IFERROR(VLOOKUP($B14,[1]NUM21!$H$3:$M$100,3,FALSE),0) -> 6 | G14: =IFERROR(VLOOKUP($B14,[1]NUM21!$H$3:$M$100,4,FALSE),0) -> 8 | H14: =IFERROR(VLOOKUP($B14,[1]NUM21!$H$3:$M$100,5,FALSE),0) -> 2 | Q14: =SUM(E14:P14) -> 23 | R14: 826
A15: 04203-LOS VILOS | B15: 105108-HOSPITAL LOS VILOS | C15: =IF(Q15<>0,"SI", "NO") -> SI | D15: =+Q15/R15 -> 0.0030864198 | E15: =IFERROR(VLOOKUP($B15,[1]NUM21!$H$3:$M$100,2,FALSE),0) -> 0 | F15: =IFERROR(VLOOKUP($B15,[1]NUM21!$H$3:$M$100,3,FALSE),0) -> 0 | G15: =IFERROR(VLOOKUP($B15,[1]NUM21!$H$3:$M$100,4,FALSE),0) -> 0 | H15: =IFERROR(VLOOKUP($B15,[1]NUM21!$H$3:$M$100,5,FALSE),0) -> 2 | Q15: =SUM(E15:P15) -> 2 | R15: 648
A16: 04204-SALAMANCA | B16: 105104-HOSPITAL SALAMANCA | C16: =IF(Q16<>0,"SI", "NO") -> SI | D16: =+Q16/R16 -> 0.055722892 | E16: =IFERROR(VLOOKUP($B16,[1]NUM21!$H$3:$M$100,2,FALSE),0) -> 9 | F16: =IFERROR(VLOOKUP($B16,[1]NUM21!$H$3:$M$100,3,FALSE),0) -> 13 | G16: =IFERROR(VLOOKUP($B16,[1]NUM21!$H$3:$M$100,4,FALSE),0) -> 12 | H16: =IFERROR(VLOOKUP($B16,[1]NUM21!$H$3:$M$100,5,FALSE),0) -> 3 | Q16: =SUM(E16:P16) -> 37 | R16: 664
A17: 04302-COMBARBALÁ | B17: 105105-HOSPITAL COMBARBALA | C17: =IF(Q17<>0,"SI", "NO") -> SI | D17: =+Q17/R17 -> 0.02661597 | E17: =IFERROR(VLOOKUP($B17,[1]NUM21!$H$3:$M$100,2,FALSE),0) -> 4 | F17: =IFERROR(VLOOKUP($B17,[1]NUM21!$H$3:$M$100,3,FALSE),0) -> 1 | G17: =IFERROR(VLOOKUP($B17,[1]NUM21!$H$3:$M$100,4,FALSE),0) -> 2 | H17: =IFERROR(VLOOKUP($B17,[1]NUM21!$H$3:$M$100,5,FALSE),0) -> 0 | Q17: =SUM(E17:P17) -> 7 | R17: 263
B18: TOTAL HOSPITALES | E18: =SUM(E12:E17) -> 44 | F18: =SUM(F12:F17) -> 33 | G18: =SUM(G12:G17) -> 29 | H18: =SUM(H12:H17) -> 15 | I18: =SUM(I12:I17) -> 0 | J18: =SUM(J12:J17) -> 0 | K18: =SUM(K12:K17) -> 0 | L18: =SUM(L12:L17) -> 0 | ... Q18: =SUM(Q12:Q17) -> 121 | R18: =SUM(R12:S17) -> 3671 | S18: =+S12+S13+S14+S15+S16+S17+#REF!+#REF!+#REF!+#REF!+#REF!+#REF! -> #REF!

Sheet META_GES
A1: COMUNA | B1: ESTABLECIMIENTO | C1: CUMPLIMIENTO | D1: Indicador | E1: META GES: CUMPLIMIENTO DE GARANTÍAS EN PROBLEMAS DE SALUD CUYAS ACCIONES SON DE EJECUCIÓN EN APS
E2: NUMERADOR | I2: DENOMINADOR
E10: Nº de Casos con GES atendidos en APS con Garantía Cumplida (Cumplidas + Incumpplidas con Evento + Exceptuadas) | I10: Nº Total de Casos con GES atendidos en APS
D11: Resultado | E11: A ABRIL | F11: A JULIO | G11: A OCTBRE | H11: A DICBRE | I11: A ABRIL | J11: A JULIO | K11: A OCTBRE | L11: A DICBRE
A12: 04103-ANDACOLLO | B12: 105106-HOSPITAL ANDACOLLO | C12: =+D12 -> 0.99667774 | D12: =+E12/I12 -> 0.99667774 | E12: 300 | I12: 301
A13: 04106-VICUÑA | B13: 105107-HOSPITAL VICUÑA | C13: =+D13 -> 1 | D13: =+E13/I13 -> 1 | E13: 483 | I13: 483
A14: 04201-ILLAPEL | B14: 105103-HOSPITAL ILLAPEL | C14: =+D14 -> 1 | D14: =+E14/I14 -> 1 | E14: 485 | I14: 485
A15: 04203-LOS VILOS | B15: 105108-HOSPITAL LOS VILOS | C15: =+D15 -> 1 | D15: =+E15/I15 -> 1 | E15: 205 | I15: 205
A16: 04204-SALAMANCA | B16: 105104-HOSPITAL SALAMANCA | C16: =+D16 -> 1 | D16: =+E16/I16 -> 1 | E16: 540 | I16: 540
A17: 04302-COMBARBALÁ | B17: 105105-HOSPITAL COMBARBALA | C17: =+D17 -> 1 | D17: =+E17/I17 -> 1 | E17: 282 | I17: 282

Sheet Metas
A1: METAS ANUALES
E2: CODIGO COMUNA | F2: TIPO | G2: METAS COMPONENTE ACTIVIDAD GENERAL | AE2: 2016 | AF2: 2016 | AG2: 2017 | AH2: 2017 | AK2: A ABRIL | AM2: A JULIO | AO2: A OCTUBRE | AQ2: A DICIEMBRE
G3: META Nº 2 | H3: META Nº 3.1 | I3: META Nº 5 | J3: META Nº 6 | K3: META Nº 7 | L3: META Nº 8.1 | M3: META Nº 8.2 | N3: META Nº 8.3 | O3: META Nº9 | P3: META Nº10 | Q3: META Nº11 | R3: META Nº12 | S3: META Nº13 | T3: META Nº14 | U3: META Nº17 | V3: META Nº18 | W3: META Nº19 | X3: META Nº20 | Y3: META Nº21 | AE3: META Nº12 | AF3: META Nº13 | AG3: META Nº12 | AH3: META Nº13 | AI3: DIF 2017-2016 | AK3: META Nº12 | AL3: META Nº13 | AM3: META Nº12 | AN3: META Nº13 | AO3: META Nº12 | AP3: META Nº13 | AQ3: META Nº12 | AR3: META Nº13
A4: Nº | B4: SERVICIOS DE SALUD | C4: Nº | D4: COMUNA | G4: Porcentaje de familias evaluadas según riesgo familiar | H4: Gestión de reclamos en APS con enfoque participativo (porcentaje de reclamos respondidos dentro de plazo) | I4: Tasa de consultas de morbilidad y de controles médicos, por habitante año | J4: SIC derivadas desde APS al Nivel Secundario | K4: Tasa de Visita Domiciliaria Integral | L4: EMP hombres 20 a 64 años | M4: EMP mujeres de 45 a 64 años | N4: EMP hombres y mujeres de 65 y mas años | O4: Cobertura de Evaluación del desarrollo Psicomotor en niños y niñas de 12 a 23 meses bajo control. | P4: Cobertura de control de salud integral a adolescentes de 10 a 14 años | Q4: Proporción de menores de 20 años con alta odontologica total | R4: Cobertura de atención Integral a personas de 5 y más años con trastornos mentales | S4: Cobertura de atención de Asma en población general y EPOC en personas de 40 y más años | T4: Cobertura de capacitación a cuidadores de personas con dependencia severa con pago de estipendio | U4: Ingreso precoz de mujeres a control de embarazo | V4: Cobertura de método anticonceptivos en adolescentes de 15 a 19 años inscritos que usan métodos de regulación de la fertilidad | W4: Cobertura efectiva de Tratamiento en personas con Diabetes Mellitus 2, de 15 y más años | X4: Cobertura efectiva de Tratamiento en personas de 15 y más años, con Hipertensión Arterial | Y4: Proporción de niñas y niños menores de 3 años libre de caries en población inscrita | AE4: Cobertura de atención Integral a personas de 5 y más años con trastornos mentales | AF4: Cobertura de atención de Asma en población general y EPOC en personas de 40 y más años | AG4: Cobertura de atención Integral a personas de 5 y más años con trastornos mentales | AH4: Cobertura de atención de Asma en población general y EPOC en personas de 40 y más años | AI4: Cobertura de atención Integral a personas de 5 y más años con trastornos mentales | AJ4: Cobertura de atención de Asma en población general y EPOC en personas de 40 y más años | AK4: Cobertura de atención Integral a personas de 5 y más años con trastornos mentales | AL4: Cobertura de atención de Asma en población general y EPOC en personas de 40 y más años | AM4: Cobertura de atención Integral a personas de 5 y más años con trastornos mentales | AN4: Cobertura de atención de Asma en población general y EPOC en personas de 40 y más años | AO4: Cobertura de atención Integral a personas de 5 y más años con trastornos mentales | AP4: Cobertura de atención de Asma en población general y EPOC en personas de 40 y más años | AQ4: Cobertura de atención Integral a personas de 5 y más años con trastornos mentales | AR4: Cobertura de atención de Asma en población general y EPOC en personas de 40 y más años
G5: 0.15 | H5: 0.97 | I5: 1 | J5: 0.1 | K5: 0.22 | L5: 0.2 | M5: 0.25 | N5: 0.55 | O5: 0.94 | P5: 0.15 | Q5: 0.24 | R5: 0.17 | S5: 0.22 | T5: 0.9 | U5: 0.9 | V5: 0.19 | W5: 0.29 | X5: 0.54
A6: 17 | B6: COQUIMBO | C6: 5 | D6: 105106-HOSPITAL ANDACOLLO | F6: RURAL | G6: 0.0751 | H6: 0.9815 | I6: 1.9 | J6: 0.1 | K6: 0.72 | L6: 0.34 | M6: 0.3201 | N6: 0.4001 | O6: 0.9 | P6: 0.1504 | Q6: 0.24 | T6: 1 | U6: 0.8045 | V6: 0.1937 | W6: 0.2899 | X6: 0.5396 | AE6: 0.25933756 | AF6: 0.30305645 | AG6: 0.2396 | AH6: 0.2902 | AI6: =AG6-AE6 -> -0.019737562 | AJ6: =+AH6-AF6 -> -0.012856448 | AK6: =+AE6+(AI6*0.15) -> 0.25637693 | AL6: =+AF6+(AJ6*0.15) -> 0.30112798 | AM6: =+AE6+(AI6*0.5) -> 0.24946878 | AN6: =+AF6+(AJ6*0.5) -> 0.29662822 | AO6: =+AE6+(AI6*0.8) -> 0.24354751 | AP6: =+AF6+(AJ6*0.8) -> 0.29277129 | AQ6: =+AE6+AI6 -> 0.2396 | AR6: =+AF6+AJ6 -> 0.2902
A7: 18 | B7: COQUIMBO | C7: 5 | D7: 105107-HOSPITAL VICUÑA | F7: RURAL | G7: 0.075 | H7: 0.9873 | I7: 1.5 | J7: 0.1 | K7: 0.22 | L7: 0.1301 | M7: 0.26 | N7: 0.4002 | O7: 0.9 | P7: 0.1506 | Q7: 0.24 | T7: 0.9 | U7: 0.8046 | V7: 0.1905 | W7: 0.2899 | X7: 0.54 | AE7: 0.26140272 | AF7: 0.27534868 | AG7: 0.224 | AH7: 0.2803 | AI7: =AG7-AE7 -> -0.037402717 | AJ7: =+AH7-AF7 -> 0.0049513172 | AK7: =+AE7+(AI7*0.15) -> 0.25579231 | AL7: =+AF7+(AJ7*0.15) -> 0.27609138 | AM7: =+AE7+(AI7*0.5) -> 0.24270136 | AN7: =+AF7+(AJ7*0.5) -> 0.27782434 | AO7: =+AE7+(AI7*0.8) -> 0.23148054 | AP7: =+AF7+(AJ7*0.8) -> 0.27930974 | AQ7: =+AE7+AI7 -> 0.224 | AR7: =+AF7+AJ7 -> 0.2803
A8: 19 | B8: COQUIMBO | C8: 5 | D8: 105103-HOSPITAL ILLAPEL | F8: URBANA | G8: 0.075 | H8: 0.98 | I8: 1.4 | J8: 0.1 | K8: 0.29 | L8: 0.16 | M8: 0.2598 | N8: 0.5273 | O8: 0.94 | P8: 0.1504 | Q8: 0.17 | T8: 1 | U8: 0.8018 | V8: 0.1002 | W8: 0.2901 | X8: 0.5401 | AE8: 0.17284539 | AF8: 0.13421355 | AG8: 0.1701 | AH8: 0.1772 | AI8: =AG8-AE8 -> -0.0027453928 | AJ8: =+AH8-AF8 -> 0.042986449 | AK8: =+AE8+(AI8*0.15) -> 0.17243358 | AL8: =+AF8+(AJ8*0.15) -> 0.14066152 | AM8: =+AE8+(AI8*0.5) -> 0.1714727 | AN8: =+AF8+(AJ8*0.5) -> 0.15570678 | AO8: =+AE8+(AI8*0.8) -> 0.17064908 | AP8: =+AF8+(AJ8*0.8) -> 0.16860271 | AQ8: =+AE8+AI8 -> 0.1701 | AR8: =+AF8+AJ8 -> 0.1772
A9: 20 | B9: COQUIMBO | C9: 5 | D9: 105108-HOSPITAL LOS VILOS | F9: RURAL | G9: 0.075 | H9: 0.981 | I9: 1.8 | J9: 0.1 | K9: 0.22 | L9: 0.1302 | M9: 0.2606 | N9: 0.4 | O9: 0.9 | P9: 0.1503 | Q9: 0.24 | T9: 1 | U9: 0.8035 | V9: 0.191 | W9: 0.2903 | X9: 0.5402 | AE9: 0.10372255 | AF9: 0.17511705 | AG9: 0.1701 | AH9: 0.197 | AI9: =AG9-AE9 -> 0.066377449 | AJ9: =+AH9-AF9 -> 0.021882953 | AK9: =+AE9+(AI9*0.15) -> 0.11367917 | AL9: =+AF9+(AJ9*0.15) -> 0.17839949 | AM9: =+AE9+(AI9*0.5) -> 0.13691128 | AN9: =+AF9+(AJ9*0.5) -> 0.18605852 | AO9: =+AE9+(AI9*0.8) -> 0.15682451 | AP9: =+AF9+(AJ9*0.8) -> 0.19262341 | AQ9: =+AE9+AI9 -> 0.1701 | AR9: =+AF9+AJ9 -> 0.197
A10: 21 | B10: COQUIMBO | C10: 5 | D10: 105104-HOSPITAL SALAMANCA | F10: URBANA | G10: 0.0814 | H10: 0.9802 | I10: 1.6 | J10: 0.11 | K10: 0.22 | L10: 0.1301 | M10: 0.2596 | N10: 0.4 | O10: 0.9 | P10: 0.1504 | Q10: 0.24 | T10: 0.8824 | U10: 0.8232 | V10: 0.2586 | W10: 0.2899 | X10: 0.5401 | AE10: 0.14595496 | AF10: 0.27264031 | AG10: 0.1701 | AH10: 0.2402 | AI10: =AG10-AE10 -> 0.024145038 | AJ10: =+AH10-AF10 -> -0.032440306 | AK10: =+AE10+(AI10*0.15) -> 0.14957672 | AL10: =+AF10+(AJ10*0.15) -> 0.26777426 | AM10: =+AE10+(AI10*0.5) -> 0.15802748 | AN10: =+AF10+(AJ10*0.5) -> 0.25642015 | AO10: =+AE10+(AI10*0.8) -> 0.16527099 | AP10: =+AF10+(AJ10*0.8) -> 0.24668806 | AQ10: =+AE10+AI10 -> 0.1701 | AR10: =+AF10+AJ10 -> 0.2402
A11: 22 | B11: COQUIMBO | C11: 5 | D11: 105105-HOSPITAL COMBARBALA | F11: RURAL | G11: 0.075 | H11: 0.9809 | I11: 2 | J11: 0.1 | K11: 0.46 | L11: 0.1506 | M11: 0.2794 | N11: 0.443 | O11: 0.93 | P11: 0.1519 | Q11: 0.2402 | T11: 1 | U11: 0.8723 | V11: 0.1908 | W11: 0.2902 | X11: 0.5405 | AE11: 0.20656554 | AF11: 0.15632516 | AG11: 0.2127 | AH11: 0.1873 | AI11: =AG11-AE11 -> 0.0061344559 | AJ11: =+AH11-AF11 -> 0.030974844 | AK11: =+AE11+(AI11*0.15) -> 0.20748571 | AL11: =+AF11+(AJ11*0.15) -> 0.16097138 | AM11: =+AE11+(AI11*0.5) -> 0.20963277 | AN11: =+AF11+(AJ11*0.5) -> 0.17181258 | AO11: =+AE11+(AI11*0.8) -> 0.21147311 | AP11: =+AF11+(AJ11*0.8) -> 0.18110503 | AQ11: =+AE11+AI11 -> 0.2127 | AR11: =+AF11+AJ11 -> 0.1873
AI12: =AG12-AE12 -> 0 | AM12: =+AF12+(AJ12/2) -> 0 | AO12: =+AE12+(AI12*0.8) -> 0
AI13: =AG13-AE13 -> 0 | AM13: =+AF13+(AJ13/2) -> 0 | AO13: =+AE13+(AI13*0.8) -> 0
AI14: =AG14-AE14 -> 0 | AM14: =+AF14+(AJ14/2) -> 0 | AO14: =+AE14+(AI14*0.8) -> 0
A15: METAS A MARZO | AI15: =AG15-AE15 -> 0 | AM15: =+AF15+(AJ15/2) -> 0 | AO15: =+AE15+(AI15*0.8) -> 0
E16: CODIGO COMUNA | F16: TIPO | G16: METAS COMPONENTE ACTIVIDAD GENERAL | AI16: =AG16-AE16 -> 0 | AM16: =+AF16+(AJ16/2) -> 0 | AO16: =+AE16+(AI16*0.8) -> 0
G17: META Nº1 | H17: META Nº2 | I17: META Nº3 | J17: META Nº4 | K17: META Nº5 | L17: META Nº6 | M17: META Nº7 | N17: META Nº8 | O17: META Nº9 | P17: META Nº10 | Q17: META Nº11 | R17: META Nº12 | S17: META Nº13 | T17: META Nº11 | U17: META Nº12 | V17: META Nº13 | W17: META Nº11 | X17: META Nº12 | Y17: META Nº13 | AE17: META Nº12 | AF17: META Nº13 | AI17: =AG17-AE17 -> #VALUE! | AM17: =+AF17+(AJ17/2) -> #VALUE! | AO17: =+AE17+(AI17*0.8) -> #VALUE!
A18: Nº | B18: SERVICIOS DE SALUD | C18: Nº | D18: COMUNA | G18: EMP hombres 20 a 44 años (25%) | H18: EMP mujeres de 45 a 64 años (26%) | I18: EMP 65 y mas años (55%) | J18: Control embarazada (87%) | K18: Alta odontologica menores de 20 años (24%) | L18: Gestion de reclamos(97%) | M18: Cobertura DM2 en personas de 15 y mas años (55%) | N18: Cobertutra HTA en personas de 15 y mas años (71%) | O18: Cobertura de Evaluación del desarrollo Psicomotor de niños/as de 12 a 23 meses bajo control. (94%) | P18: Visita domiciliaria integral (0,22) | Q18: Cobertura de Atención de Asma en Población general y EPOC en personas de 40 años y más (22%) | R18: Cobertura de Atención Integral de trastornos mentales en personas de 5 y más años (17%) | S18: Cobertura de control de salud integral a adolescentes de 10 a 14 años | T18: Cobertura de Atención de Asma en Población general y EPOC en personas de 40 años y más (22%) | U18: Cobertura de Atención Integral de trastornos mentales en personas de 5 y más años (17%) | V18: Cobertura de control de salud integral a adolescentes de 10 a 14 años | W18: Cobertura de Atención de Asma en Población general y EPOC en personas de 40 años y más (22%) | X18: Cobertura de Atención Integral de trastornos mentales en personas de 5 y más años (17%) | Y18: Cobertura de control de salud integral a adolescentes de 10 a 14 años | AE18: Cobertura de Atención Integral de trastornos mentales en personas de 5 y más años (17%) | AF18: Cobertura de control de salud integral a adolescentes de 10 a 14 años | AI18: =AG18-AE18 -> #VALUE! | AM18: =+AF18+(AJ18/2) -> #VALUE! | AO18: =+AE18+(AI18*0.8) -> #VALUE!
G19: 0.1 | H19: 0.1 | I19: 0.1 | J19: 1 | K19: 0.1 | L19: 1 | M19: 1 | N19: 1 | O19: 0.1 | P19: 0.1 | S19: 0.1 | V19: 0.1 | Y19: 0.1 | AF19: 0.1 | AI19: =AG19-AE19 -> 0 | AM19: =+AF19+(AJ19/2) -> 0.1 | AO19: =+AE19+(AI19*0.8) -> 0
A20: 17 | B20: COQUIMBO | C20: 5 | D20: CANELA | E20: 4202 | F20: RURAL | G20: =+G6*$G$19 -> 0.00751 | H20: =+H6*$H$19 -> 0.09815 | I20: =+I6*$I$19 -> 0.19 | J20: =+J6*$J$19 -> 0.1 | K20: =+K6*$K$19 -> 0.072 | L20: =+L6*$L$19 -> 0.34 | M20: =+M6*$M$19 -> 0.3201 | N20: =+N6*$N$19 -> 0.4001 | O20: =+O6*$O$19 -> 0.09 | P20: =+P6*$P$19 -> 0.01504 | Q20: 0.1405 | R20: 0.1125 | S20: =+S6*$S$19 -> 0 | T20: 0.1405 | U20: 0.1125 | V20: =+V6*$S$19 -> 0.01937 | W20: 0.1405 | X20: 0.1125 | Y20: =+Y6*$S$19 -> 0 | AE20: 0.1125 | AF20: =+AF6*$S$19 -> 0.030305645 | AI20: =AG20-AE20 -> -0.1125 | AM20: =+AF20+(AJ20/2) -> 0.030305645 | AO20: =+AE20+(AI20*0.8) -> 0.0225
A21: 18 | B21: COQUIMBO | C21: 5 | D21: COMBARBALA | E21: 4302 | F21: RURAL | G21: =+G7*$G$19 -> 0.0075 | H21: =+H7*$H$19 -> 0.09873 | I21: =+I7*$I$19 -> 0.15 | J21: =+J7*$J$19 -> 0.1 | K21: =+K7*$K$19 -> 0.022 | L21: =+L7*$L$19 -> 0.1301 | M21: =+M7*$M$19 -> 0.26 | N21: =+N7*$N$19 -> 0.4002 | O21: =+O7*$O$19 -> 0.09 | P21: =+P7*$P$19 -> 0.01506 | Q21: 0.1465 | R21: 0.155 | S21: =+S7*$S$19 -> 0 | T21: 0.1465 | U21: 0.155 | V21: =+V7*$S$19 -> 0.01905 | W21: 0.1465 | X21: 0.155 | Y21: =+Y7*$S$19 -> 0 | AE21: 0.155 | AF21: =+AF7*$S$19 -> 0.027534868 | AI21: =AG21-AE21 -> -0.155 | AM21: =+AF21+(AJ21/2) -> 0.027534868 | AO21: =+AE21+(AI21*0.8) -> 0.031
A22: 19 | B22: COQUIMBO | C22: 5 | D22: COQUIMBO | E22: 4102 | F22: URBANA | G22: =+G8*$G$19 -> 0.0075 | H22: =+H8*$H$19 -> 0.098 | I22: =+I8*$I$19 -> 0.14 | J22: =+J8*$J$19 -> 0.1 | K22: =+K8*$K$19 -> 0.029 | L22: =+L8*$L$19 -> 0.16 | M22: =+M8*$M$19 -> 0.2598 | N22: =+N8*$N$19 -> 0.5273 | O22: =+O8*$O$19 -> 0.094 | P22: =+P8*$P$19 -> 0.01504 | Q22: 0.1465 | R22: 0.17 | S22: =+S8*$S$19 -> 0 | T22: 0.1465 | U22: 0.17 | V22: =+V8*$S$19 -> 0.01002 | W22: 0.1465 | X22: 0.17 | Y22: =+Y8*$S$19 -> 0 | AE22: 0.17 | AF22: =+AF8*$S$19 -> 0.013421355 | AI22: =AG22-AE22 -> -0.17 | AM22: =+AF22+(AJ22/2) -> 0.013421355 | AO22: =+AE22+(AI22*0.8) -> 0.034
A23: 20 | B23: COQUIMBO | C23: 5 | D23: ILLAPEL | E23: 4201 | F23: RURAL | G23: =+G9*$G$19 -> 0.0075 | H23: =+H9*$H$19 -> 0.0981 | I23: =+I9*$I$19 -> 0.18 | J23: =+J9*$J$19 -> 0.1 | K23: =+K9*$K$19 -> 0.022 | L23: =+L9*$L$19 -> 0.1302 | M23: =+M9*$M$19 -> 0.2606 | N23: =+N9*$N$19 -> 0.4 | O23: =+O9*$O$19 -> 0.09 | P23: =+P9*$P$19 -> 0.01503 | Q23: 0.1375 | R23: 0.14 | S23: =+S9*$S$19 -> 0 | T23: 0.1375 | U23: 0.14 | V23: =+V9*$S$19 -> 0.0191 | W23: 0.1375 | X23: 0.14 | Y23: =+Y9*$S$19 -> 0 | AE23: 0.14 | AF23: =+AF9*$S$19 -> 0.017511705 | AI23: =AG23-AE23 -> -0.14 | AM23: =+AF23+(AJ23/2) -> 0.017511705 | AO23: =+AE23+(AI23*0.8) -> 0.028
A24: 21 | B24: COQUIMBO | C24: 5 | D24: LA SERENA | E24: 4101 | F24: URBANA | G24: =+G10*$G$19 -> 0.00814 | H24: =+H10*$H$19 -> 0.09802 | I24: =+I10*$I$19 -> 0.16 | J24: =+J10*$J$19 -> 0.11 | K24: =+K10*$K$19 -> 0.022 | L24: =+L10*$L$19 -> 0.1301 | M24: =+M10*$M$19 -> 0.2596 | N24: =+N10*$N$19 -> 0.4 | O24: =+O10*$O$19 -> 0.09 | P24: =+P10*$P$19 -> 0.01504 | Q24: 0.1375 | R24: 0.1475 | S24: =+S10*$S$19 -> 0 | T24: 0.1375 | U24: 0.1475 | V24: =+V10*$S$19 -> 0.02586 | W24: 0.1375 | X24: 0.1475 | Y24: =+Y10*$S$19 -> 0 | AE24: 0.1475 | AF24: =+AF10*$S$19 -> 0.027264031 | AI24: =AG24-AE24 -> -0.1475 | AM24: =+AF24+(AJ24/2) -> 0.027264031 | AO24: =+AE24+(AI24*0.8) -> 0.0295
A25: 22 | B25: COQUIMBO | C25: 5 | D25: LOS VILOS | E25: 4203 | F25: RURAL | G25: =+G11*$G$19 -> 0.0075 | H25: =+H11*$H$19 -> 0.09809 | I25: =+I11*$I$19 -> 0.2 | J25: =+J11*$J$19 -> 0.1 | K25: =+K11*$K$19 -> 0.046 | L25: =+L11*$L$19 -> 0.1506 | M25: =+M11*$M$19 -> 0.2794 | N25: =+N11*$N$19 -> 0.443 | O25: =+O11*$O$19 -> 0.093 | P25: =+P11*$P$19 -> 0.01519 | Q25: 0.1375 | R25: 0.175 | S25: =+S11*$S$19 -> 0 | T25: 0.1375 | U25: 0.175 | V25: =+V11*$S$19 -> 0.01908 | W25: 0.1375 | X25: 0.175 | Y25: =+Y11*$S$19 -> 0 | AE25: 0.175 | AF25: =+AF11*$S$19 -> 0.015632516 | AI25: =AG25-AE25 -> -0.175 | AM25: =+AF25+(AJ25/2) -> 0.015632516 | AO25: =+AE25+(AI25*0.8) -> 0.035
A26: 23 | B26: COQUIMBO | C26: 5 | D26: MONTE PATRIA | E26: 4303 | F26: RURAL | G26: =+#REF!*$G$19 -> #REF! | H26: =+#REF!*$H$19 -> #REF! | I26: =+#REF!*$I$19 -> #REF! | J26: =+#REF!*$J$19 -> #REF! | K26: =+#REF!*$K$19 -> #REF! | L26: =+#REF!*$L$19 -> #REF! | M26: =+#REF!*$M$19 -> #REF! | N26: =+#REF!*$N$19 -> #REF! | O26: =+#REF!*$O$19 -> #REF! | P26: =+#REF!*$P$19 -> #REF! | Q26: 0.1375 | R26: 0.1475 | S26: =+#REF!*$S$19 -> #REF! | T26: 0.1375 | U26: 0.1475 | V26: =+#REF!*$S$19 -> #REF! | W26: 0.1375 | X26: 0.1475 | Y26: =+#REF!*$S$19 -> #REF! | AE26: 0.1475 | AF26: =+#REF!*$S$19 -> #REF! | AI26: =AG26-AE26 -> -0.1475 | AM26: =+AF26+(AJ26/2) -> #REF! | AO26: =+AE26+(AI26*0.8) -> 0.0295
A27: 24 | B27: COQUIMBO | C27: 5 | D27: OVALLE | E27: 4301 | F27: RURAL | G27: =+#REF!*$G$19 -> #REF! | H27: =+#REF!*$H$19 -> #REF! | I27: =+#REF!*$I$19 -> #REF! | J27: =+#REF!*$J$19 -> #REF! | K27: =+#REF!*$K$19 -> #REF! | L27: =+#REF!*$L$19 -> #REF! | M27: =+#REF!*$M$19 -> #REF! | N27: =+#REF!*$N$19 -> #REF! | O27: =+#REF!*$O$19 -> #REF! | P27: =+#REF!*$P$19 -> #REF! | Q27: 0.1375 | R27: 0.1625 | S27: =+#REF!*$S$19 -> #REF! | T27: 0.1375 | U27: 0.1625 | V27: =+#REF!*$S$19 -> #REF! | W27: 0.1375 | X27: 0.1625 | Y27: =+#REF!*$S$19 -> #REF! | AE27: 0.1625 | AF27: =+#REF!*$S$19 -> #REF! | AI27: =AG27-AE27 -> -0.1625 | AM27: =+AF27+(AJ27/2) -> #REF! | AO27: =+AE27+(AI27*0.8) -> 0.0325
A28: 25 | B28: COQUIMBO | C28: 5 | D28: PUNITAQUI | E28: 4304 | F28: RURAL | G28: =+#REF!*$G$19 -> #REF! | H28: =+#REF!*$H$19 -> #REF! | I28: =+#REF!*$I$19 -> #REF! | J28: =+#REF!*$J$19 -> #REF! | K28: =+#REF!*$K$19 -> #REF! | L28: =+#REF!*$L$19 -> #REF! | M28: =+#REF!*$M$19 -> #REF! | N28: =+#REF!*$N$19 -> #REF! | O28: =+#REF!*$O$19 -> #REF! | P28: =+#REF!*$P$19 -> #REF! | Q28: 0.16 | R28: 0.1325 | S28: =+#REF!*$S$19 -> #REF! | T28: 0.16 | U28: 0.1325 | V28: =+#REF!*$S$19 -> #REF! | W28: 0.16 | X28: 0.1325 | Y28: =+#REF!*$S$19 -> #REF! | AE28: 0.1325 | AF28: =+#REF!*$S$19 -> #REF! | AI28: =AG28-AE28 -> -0.1325 | AM28: =+AF28+(AJ28/2) -> #REF! | AO28: =+AE28+(AI28*0.8) -> 0.0265
A29: 26 | B29: COQUIMBO | C29: 5 | D29: RIO HURTADO | E29: 4305 | F29: RURAL | G29: =+#REF!*$G$19 -> #REF! | H29: =+#REF!*$H$19 -> #REF! | I29: =+#REF!*$I$19 -> #REF! | J29: =+#REF!*$J$19 -> #REF! | K29: =+#REF!*$K$19 -> #REF! | L29: =+#REF!*$L$19 -> #REF! | M29: =+#REF!*$M$19 -> #REF! | N29: =+#REF!*$N$19 -> #REF! | O29: =+#REF!*$O$19 -> #REF! | P29: =+#REF!*$P$19 -> #REF! | Q29: 0.2525 | R29: 0.2075 | S29: =+#REF!*$S$19 -> #REF! | T29: 0.2525 | U29: 0.2075 | V29: =+#REF!*$S$19 -> #REF! | W29: 0.2525 | X29: 0.2075 | Y29: =+#REF!*$S$19 -> #REF! | AE29: 0.2075 | AF29: =+#REF!*$S$19 -> #REF! | AI29: =AG29-AE29 -> -0.2075 | AM29: =+AF29+(AJ29/2) -> #REF! | AO29: =+AE29+(AI29*0.8) -> 0.0415
A30: 27 | B30: COQUIMBO | C30: 5 | D30: SALAMANCA | E30: 4204 | F30: RURAL | G30: =+#REF!*$G$19 -> #REF! | H30: =+#REF!*$H$19 -> #REF! | I30: =+#REF!*$I$19 -> #REF! | J30: =+#REF!*$J$19 -> #REF! | K30: =+#REF!*$K$19 -> #REF! | L30: =+#REF!*$L$19 -> #REF! | M30: =+#REF!*$M$19 -> #REF! | N30: =+#REF!*$N$19 -> #REF! | O30: =+#REF!*$O$19 -> #REF! | P30: =+#REF!*$P$19 -> #REF! | Q30: 0.1375 | R30: 0.1825 | S30: =+#REF!*$S$19 -> #REF! | T30: 0.1375 | U30: 0.1825 | V30: =+#REF!*$S$19 -> #REF! | W30: 0.1375 | X30: 0.1825 | Y30: =+#REF!*$S$19 -> #REF! | AE30: 0.1825 | AF30: =+#REF!*$S$19 -> #REF! | AI30: =AG30-AE30 -> -0.1825 | AM30: =+AF30+(AJ30/2) -> #REF! | AO30: =+AE30+(AI30*0.8) -> 0.0365
A31: 28 | B31: COQUIMBO | C31: 5 | D31: VICUÑA | E31: 4106 | F31: RURAL | G31: =+#REF!*$G$19 -> #REF! | H31: =+#REF!*$H$19 -> #REF! | I31: =+#REF!*$I$19 -> #REF! | J31: =+#REF!*$J$19 -> #REF! | K31: =+#REF!*$K$19 -> #REF! | L31: =+#REF!*$L$19 -> #REF! | M31: =+#REF!*$M$19 -> #REF! | N31: =+#REF!*$N$19 -> #REF! | O31: =+#REF!*$O$19 -> #REF! | P31: =+#REF!*$P$19 -> #REF! | Q31: 0.1375 | R31: 0.185 | S31: =+#REF!*$S$19 -> #REF! | T31: 0.1375 | U31: 0.185 | V31: =+#REF!*$S$19 -> #REF! | W31: 0.1375 | X31: 0.185 | Y31: =+#REF!*$S$19 -> #REF! | AE31: 0.185 | AF31: =+#REF!*$S$19 -> #REF! | AI31: =AG31-AE31 -> -0.185 | AM31: =+AF31+(AJ31/2) -> #REF! | AO31: =+AE31+(AI31*0.8) -> 0.037
AI32: =AG32-AE32 -> 0 | AM32: =+AF32+(AJ32/2) -> 0 | AO32: =+AE32+(AI32*0.8) -> 0
AI33: =AG33-AE33 -> 0 | AM33: =+AF33+(AJ33/2) -> 0 | AO33: =+AE33+(AI33*0.8) -> 0
AI34: =AG34-AE34 -> 0 | AM34: =+AF34+(AJ34/2) -> 0 | AO34: =+AE34+(AI34*0.8) -> 0
A35: METAS A ABRIL
E36: CODIGO COMUNA | F36: TIPO | G36: METAS COMPONENTE ACTIVIDAD GENERAL
G37: META Nº 2 | H37: META Nº 3.1 | I37: META Nº 5 | J37: META Nº 6 | K37: META Nº 7 | L37: META Nº 8.1 | M37: META Nº 8.2 | N37: META Nº 8.3 | O37: META Nº9 | P37: META Nº10 | Q37: META Nº11 | R37: META Nº12 | S37: META Nº13 | T37: META Nº14 | U37: META Nº17 | V37: META Nº18 | W37: META Nº19 | X37: META Nº20 | Y37: META Nº21 | AE37: META Nº12 | AF37: META Nº13
A38: Nº | B38: SERVICIOS DE SALUD | C38: Nº | D38: COMUNA | G38: Porcentaje de familias evaluadas según riesgo familiar | H38: Gestión de reclamos en APS con enfoque participativo (porcentaje de reclamos respondidos dentro de plazo) | I38: Tasa de consultas de morbilidad y de controles médicos, por habitante año | J38: SIC derivadas desde APS al Nivel Secundario | K38: Tasa de Visita Domiciliaria Integral | L38: EMP hombres 20 a 64 años | M38: EMP mujeres de 45 a 64 años | N38: EMP hombres y mujeres de 65 y mas años | O38: Cobertura de Evaluación del desarrollo Psicomotor en niños y niñas de 12 a 23 meses bajo control. | P38: Cobertura de control de salud integral a adolescentes de 10 a 14 años | Q38: Proporción de menores de 20 años con alta odontologica total | R38: Cobertura de atención Integral a personas de 5 y más años con trastornos mentales | S38: Cobertura de atención de Asma en población general y EPOC en personas de 40 y más años | T38: Cobertura de capacitación a cuidadores de personas con dependencia severa con pago de estipendio | U38: Ingreso precoz de mujeres a control de embarazo | V38: Cobertura de método anticonceptivos en adolescentes de 15 a 19 años inscritos que usan métodos de regulación de la fertilidad | W38: Cobertura efectiva de Tratamiento en personas con Diabetes Mellitus 2, de 15 y más años | X38: Cobertura efectiva de Tratamiento en personas de 15 y más años, con Hipertensión Arterial | Y38: Proporción de niñas y niños menores de 3 años libre de caries en población inscrita | AE38: Cobertura de atención Integral a personas de 5 y más años con trastornos mentales | AF38: Cobertura de atención de Asma en población general y EPOC en personas de 40 y más años
G39: 0.15 | H39: 1 | I39: 0.15 | J39: 1 | K39: 0.15 | L39: 0.15 | M39: 0.15 | N39: 0.15 | O39: 1 | P39: 0.15 | Q39: 0.15 | T39: 0.15 | U39: 1 | V39: 0.15 | W39: 1 | X39: 1 | AE39: 0.15 | AF39: 0.15
A40: 17 | B40: COQUIMBO | C40: 5 | D40: 105106-HOSPITAL ANDACOLLO | F40: RURAL | G40: =+$G6*$G$39 -> 0.011265 | H40: =+$H6*$H$39 -> 0.9815 | I40: =+$I6*$I$39 -> 0.285 | J40: =+$J6*$J$39 -> 0.1 | K40: =+$K6*$K$39 -> 0.108 | L40: =+$L6*$L$39 -> 0.051 | M40: =+$M6*$M$39 -> 0.048015 | N40: =+$N6*$N$39 -> 0.060015 | O40: =+$O6*$O$39 -> 0.9 | P40: =+$P6*$P$39 -> 0.02256 | Q40: =+$Q6*$Q$39 -> 0.036 | R40: 0.25637693 | S40: 0.30112798 | T40: =+$T6*$T$39 -> 0.15 | U40: =+$U6*$U$39 -> 0.8045 | V40: =+$V6*$V$39 -> 0.029055 | W40: =+$W6*$W$39 -> 0.2899 | X40: =+$X6*$X$39 -> 0.5396 | AE40: =+$R6*$R$39 -> 0 | AF40: =+$S6*$S$39 -> 0
A41: 18 | B41: COQUIMBO | C41: 5 | D41: 105107-HOSPITAL VICUÑA | F41: RURAL | G41: =+$G7*$G$39 -> 0.01125 | H41: =+$H7*$H$39 -> 0.9873 | I41: =+$I7*$I$39 -> 0.225 | J41: =+$J7*$J$39 -> 0.1 | K41: =+$K7*$K$39 -> 0.033 | L41: =+$L7*$L$39 -> 0.019515 | M41: =+$M7*$M$39 -> 0.039 | N41: =+$N7*$N$39 -> 0.06003 | O41: =+$O7*$O$39 -> 0.9 | P41: =+$P7*$P$39 -> 0.02259 | Q41: =+$Q7*$Q$39 -> 0.036 | R41: 0.25579231 | S41: 0.27609138 | T41: =+$T7*$T$39 -> 0.135 | U41: =+$U7*$U$39 -> 0.8046 | V41: =+$V7*$V$39 -> 0.028575 | W41: =+$W7*$W$39 -> 0.2899 | X41: =+$X7*$X$39 -> 0.54 | AE41: =+$R7*$R$39 -> 0 | AF41: =+$S7*$S$39 -> 0
A42: 19 | B42: COQUIMBO | C42: 5 | D42: 105103-HOSPITAL ILLAPEL | F42: URBANA | G42: =+$G8*$G$39 -> 0.01125 | H42: =+$H8*$H$39 -> 0.98 | I42: =+$I8*$I$39 -> 0.21 | J42: =+$J8*$J$39 -> 0.1 | K42: =+$K8*$K$39 -> 0.0435 | L42: =+$L8*$L$39 -> 0.024 | M42: =+$M8*$M$39 -> 0.03897 | N42: =+$N8*$N$39 -> 0.079095 | O42: =+$O8*$O$39 -> 0.94 | P42: =+$P8*$P$39 -> 0.02256 | Q42: =+$Q8*$Q$39 -> 0.0255 | R42: 0.17243358 | S42: 0.14066152 | T42: =+$T8*$T$39 -> 0.15 | U42: =+$U8*$U$39 -> 0.8018 | V42: =+$V8*$V$39 -> 0.01503 | W42: =+$W8*$W$39 -> 0.2901 | X42: =+$X8*$X$39 -> 0.5401 | AE42: =+$R8*$R$39 -> 0 | AF42: =+$S8*$S$39 -> 0
A43: 20 | B43: COQUIMBO | C43: 5 | D43: 105108-HOSPITAL LOS VILOS | F43: RURAL | G43: =+$G9*$G$39 -> 0.01125 | H43: =+$H9*$H$39 -> 0.981 | I43: =+$I9*$I$39 -> 0.27 | J43: =+$J9*$J$39 -> 0.1 | K43: =+$K9*$K$39 -> 0.033 | L43: =+$L9*$L$39 -> 0.01953 | M43: =+$M9*$M$39 -> 0.03909 | N43: =+$N9*$N$39 -> 0.06 | O43: =+$O9*$O$39 -> 0.9 | P43: =+$P9*$P$39 -> 0.022545 | Q43: =+$Q9*$Q$39 -> 0.036 | R43: 0.11367917 | S43: 0.17839949 | T43: =+$T9*$T$39 -> 0.15 | U43: =+$U9*$U$39 -> 0.8035 | V43: =+$V9*$V$39 -> 0.02865 | W43: =+$W9*$W$39 -> 0.2903 | X43: =+$X9*$X$39 -> 0.5402 | AE43: =+$R9*$R$39 -> 0 | AF43: =+$S9*$S$39 -> 0
A44: 21 | B44: COQUIMBO | C44: 5 | D44: 105104-HOSPITAL SALAMANCA | F44: URBANA | G44: =+$G10*$G$39 -> 0.01221 | H44: =+$H10*$H$39 -> 0.9802 | I44: =+$I10*$I$39 -> 0.24 | J44: =+$J10*$J$39 -> 0.11 | K44: =+$K10*$K$39 -> 0.033 | L44: =+$L10*$L$39 -> 0.019515 | M44: =+$M10*$M$39 -> 0.03894 | N44: =+$N10*$N$39 -> 0.06 | O44: =+$O10*$O$39 -> 0.9 | P44: =+$P10*$P$39 -> 0.02256 | Q44: =+$Q10*$Q$39 -> 0.036 | R44: 0.14957672 | S44: 0.26777426 | T44: =+$T10*$T$39 -> 0.13236 | U44: =+$U10*$U$39 -> 0.8232 | V44: =+$V10*$V$39 -> 0.03879 | W44: =+$W10*$W$39 -> 0.2899 | X44: =+$X10*$X$39 -> 0.5401 | AE44: =+$R10*$R$39 -> 0 | AF44: =+$S10*$S$39 -> 0
A45: 22 | B45: COQUIMBO | C45: 5 | D45: 105105-HOSPITAL COMBARBALA | F45: RURAL | G45: =+$G11*$G$39 -> 0.01125 | H45: =+$H11*$H$39 -> 0.9809 | I45: =+$I11*$I$39 -> 0.3 | J45: =+$J11*$J$39 -> 0.1 | K45: =+$K11*$K$39 -> 0.069 | L45: =+$L11*$L$39 -> 0.02259 | M45: =+$M11*$M$39 -> 0.04191 | N45: =+$N11*$N$39 -> 0.06645 | O45: =+$O11*$O$39 -> 0.93 | P45: =+$P11*$P$39 -> 0.022785 | Q45: =+$Q11*$Q$39 -> 0.03603 | R45: 0.20748571 | S45: 0.16097138 | T45: =+$T11*$T$39 -> 0.15 | U45: =+$U11*$U$39 -> 0.8723 | V45: =+$V11*$V$39 -> 0.02862 | W45: =+$W11*$W$39 -> 0.2902 | X45: =+$X11*$X$39 -> 0.5405 | AE45: =+$R11*$R$39 -> 0 | AF45: =+$S11*$S$39 -> 0
A49: METAS A JULIO
E50: CODIGO COMUNA | F50: TIPO | G50: METAS COMPONENTE ACTIVIDAD GENERAL
G51: META Nº 2 | H51: META Nº 3.1 | I51: META Nº 5 | J51: META Nº 6 | K51: META Nº 7 | L51: META Nº 8.1 | M51: META Nº 8.2 | N51: META Nº 8.3 | O51: META Nº9 | P51: META Nº10 | Q51: META Nº11 | R51: META Nº12 | S51: META Nº13 | T51: META Nº14 | U51: META Nº17 | V51: META Nº18 | W51: META Nº19 | X51: META Nº20 | Y51: META Nº21 | AE51: META Nº12 | AF51: META Nº13
A52: Nº | B52: SERVICIOS DE SALUD | C52: Nº | D52: COMUNA | G52: Porcentaje de familias evaluadas según riesgo familiar | H52: Gestión de reclamos en APS con enfoque participativo (porcentaje de reclamos respondidos dentro de plazo) | I52: Tasa de consultas de morbilidad y de controles médicos, por habitante año | J52: SIC derivadas desde APS al Nivel Secundario | K52: Tasa de Visita Domiciliaria Integral | L52: EMP hombres 20 a 64 años | M52: EMP mujeres de 45 a 64 años | N52: EMP hombres y mujeres de 65 y mas años | O52: Cobertura de Evaluación del desarrollo Psicomotor en niños y niñas de 12 a 23 meses bajo control. | P52: Cobertura de control de salud integral a adolescentes de 10 a 14 años | Q52: Proporción de menores de 20 años con alta odontologica total | R52: Cobertura de atención Integral a personas de 5 y más años con trastornos mentales | S52: Cobertura de atención de Asma en población general y EPOC en personas de 40 y más años | T52: Cobertura de capacitación a cuidadores de personas con dependencia severa con pago de estipendio | U52: Ingreso precoz de mujeres a control de embarazo | V52: Cobertura de método anticonceptivos en adolescentes de 15 a 19 años inscritos que usan métodos de regulación de la fertilidad | W52: Cobertura efectiva de Tratamiento en personas con Diabetes Mellitus 2, de 15 y más años | X52: Cobertura efectiva de Tratamiento en personas de 15 y más años, con Hipertensión Arterial | Y52: Proporción de niñas y niños menores de 3 años libre de caries en población inscrita | AE52: Cobertura de atención Integral a personas de 5 y más años con trastornos mentales | AF52: Cobertura de atención de Asma en población general y EPOC en personas de 40 y más años
G53: 0.15 | H53: 0.97 | I53: 1 | J53: 0.1 | K53: 0.22 | L53: 0.2 | M53: 0.25 | N53: 0.55 | O53: 0.94 | P53: 0.15 | Q53: 0.24 | R53: 0.17 | S53: 0.22 | T53: 0.9 | U53: 0.9 | V53: 0.19 | W53: 0.29 | X53: 0.54 | AE53: 0.17 | AF53: 0.22
A54: 17 | B54: COQUIMBO | C54: 5 | D54: CANELA | E54: 4202 | F54: RURAL
A55: 18 | B55: COQUIMBO | C55: 5 | D55: COMBARBALA | E55: 4302 | F55: RURAL
A56: 19 | B56: COQUIMBO | C56: 5 | D56: COQUIMBO | E56: 4102 | F56: URBANA
A57: 20 | B57: COQUIMBO | C57: 5 | D57: ILLAPEL | E57: 4201 | F57: RURAL
A58: 21 | B58: COQUIMBO | C58: 5 | D58: LA SERENA | E58: 4101 | F58: URBANA
A59: 22 | B59: COQUIMBO | C59: 5 | D59: LOS VILOS | E59: 4203 | F59: RURAL
A60: 23 | B60: COQUIMBO | C60: 5 | D60: MONTE PATRIA | E60: 4303 | F60: RURAL
A61: 24 | B61: COQUIMBO | C61: 5 | D61: OVALLE | E61: 4301 | F61: RURAL
A62: 25 | B62: COQUIMBO | C62: 5 | D62: PUNITAQUI | E62: 4304 | F62: RURAL
A63: 26 | B63: COQUIMBO | C63: 5 | D63: RIO HURTADO | E63: 4305 | F63: RURAL
A64: 27 | B64: COQUIMBO | C64: 5 | D64: SALAMANCA | E64: 4204 | F64: RURAL
A65: 28 | B65: COQUIMBO | C65: 5 | D65: VICUÑA | E65: 4106 | F65: RURAL
A69: METAS A OCTUBRE
E70: CODIGO COMUNA | F70: TIPO | G70: METAS COMPONENTE ACTIVIDAD GENERAL
G71: META Nº 2 | H71: META Nº 3.1 | I71: META Nº 5 | J71: META Nº 6 | K71: META Nº 7 | L71: META Nº 8.1 | M71: META Nº 8.2 | N71: META Nº 8.3 | O71: META Nº9 | P71: META Nº10 | Q71: META Nº11 | R71: META Nº12 | S71: META Nº13 | T71: META Nº14 | U71: META Nº17 | V71: META Nº18 | W71: META Nº19 | X71: META Nº20 | Y71: META Nº21 | AE71: META Nº12 | AF71: META Nº13
A72: Nº | B72: SERVICIOS DE SALUD | C72: Nº | D72: COMUNA | G72: Porcentaje de familias evaluadas según riesgo familiar | H72: Gestión de reclamos en APS con enfoque participativo (porcentaje de reclamos respondidos dentro de plazo) | I72: Tasa de consultas de morbilidad y de controles médicos, por habitante año | J72: SIC derivadas desde APS al Nivel Secundario | K72: Tasa de Visita Domiciliaria Integral | L72: EMP hombres 20 a 64 años | M72: EMP mujeres de 45 a 64 años | N72: EMP hombres y mujeres de 65 y mas años | O72: Cobertura de Evaluación del desarrollo Psicomotor en niños y niñas de 12 a 23 meses bajo control. | P72: Cobertura de control de salud integral a adolescentes de 10 a 14 años | Q72: Proporción de menores de 20 años con alta odontologica total | R72: Cobertura de atención Integral a personas de 5 y más años con trastornos mentales | S72: Cobertura de atención de Asma en población general y EPOC en personas de 40 y más años | T72: Cobertura de capacitación a cuidadores de personas con dependencia severa con pago de estipendio | U72: Ingreso precoz de mujeres a control de embarazo | V72: Cobertura de método anticonceptivos en adolescentes de 15 a 19 años inscritos que usan métodos de regulación de la fertilidad | W72: Cobertura efectiva de Tratamiento en personas con Diabetes Mellitus 2, de 15 y más años | X72: Cobertura efectiva de Tratamiento en personas de 15 y más años, con Hipertensión Arterial | Y72: Proporción de niñas y niños menores de 3 años libre de caries en población inscrita | AE72: Cobertura de atención Integral a personas de 5 y más años con trastornos mentales | AF72: Cobertura de atención de Asma en población general y EPOC en personas de 40 y más años
G73: 0.15 | H73: 0.97 | I73: 1 | J73: 0.1 | K73: 0.22 | L73: 0.2 | M73: 0.25 | N73: 0.55 | O73: 0.94 | P73: 0.15 | Q73: 0.24 | R73: 0.17 | S73: 0.22 | T73: 0.9 | U73: 0.9 | V73: 0.19 | W73: 0.29 | X73: 0.54 | AE73: 0.17 | AF73: 0.22
A74: 17 | B74: COQUIMBO | C74: 5 | D74: CANELA | E74: 4202 | F74: RURAL | G74: =+G6*$G$73 -> 0.011265 | H74: =+H6*$H$73 -> 0.952055 | I74: =+I6*$I$73 -> 1.9 | J74: =+J6*$J$73 -> 0.01 | K74: =+K6*$K$73 -> 0.1584 | L74: =+L6*$L$73 -> 0.068 | M74: =+M6*$M$73 -> 0.080025 | N74: =+N6*$N$73 -> 0.220055 | O74: =+O6*$O$73 -> 0.846 | P74: =+P6*$P$73 -> 0.02256 | Q74: 0.22 | R74: 0.15 | S74: =+S54*$S$73 -> 0 | T74: 0.22 | U74: 0.15 | V74: =+V54*$S$73 -> 0 | W74: 0.22 | X74: 0.15 | Y74: =+Y54*$S$73 -> 0 | AE74: 0.15 | AF74: =+AF54*$S$73 -> 0
A75: 18 | B75: COQUIMBO | C75: 5 | D75: COMBARBALA | E75: 4302 | F75: RURAL | G75: =+G7*$G$73 -> 0.01125 | H75: =+H7*$H$73 -> 0.957681 | I75: =+I7*$I$73 -> 1.5 | J75: =+J7*$J$73 -> 0.01 | K75: =+K7*$K$73 -> 0.0484 | L75: =+L7*$L$73 -> 0.02602 | M75: =+M7*$M$73 -> 0.065 | N75: =+N7*$N$73 -> 0.22011 | O75: =+O7*$O$73 -> 0.846 | P75: =+P7*$P$73 -> 0.02259 | Q75: 0.22 | R75: 0.17 | S75: =+S7*$S$73 -> 0 | T75: 0.22 | U75: 0.17 | V75: =+V7*$S$73 -> 0.04191 | W75: 0.22 | X75: 0.17 | Y75: =+Y7*$S$73 -> 0 | AE75: 0.17 | AF75: =+AF7*$S$73 -> 0.06057671
A76: 19 | B76: COQUIMBO | C76: 5 | D76: COQUIMBO | E76: 4102 | F76: URBANA | G76: =+G8*$G$73 -> 0.01125 | H76: =+H8*$H$73 -> 0.9506 | I76: =+I8*$I$73 -> 1.4 | J76: =+J8*$J$73 -> 0.01 | K76: =+K8*$K$73 -> 0.0638 | L76: =+L8*$L$73 -> 0.032 | M76: =+M8*$M$73 -> 0.06495 | N76: =+N8*$N$73 -> 0.290015 | O76: =+O8*$O$73 -> 0.8836 | P76: =+P8*$P$73 -> 0.02256 | Q76: 0.22 | R76: 0.17 | S76: =+S8*$S$73 -> 0 | T76: 0.22 | U76: 0.17 | V76: =+V8*$S$73 -> 0.022044 | W76: 0.22 | X76: 0.17 | Y76: =+Y8*$S$73 -> 0 | AE76: 0.17 | AF76: =+AF8*$S$73 -> 0.029526981
A77: 20 | B77: COQUIMBO | C77: 5 | D77: ILLAPEL | E77: 4201 | F77: RURAL | G77: =+G9*$G$73 -> 0.01125 | H77: =+H9*$H$73 -> 0.95157 | I77: =+I9*$I$73 -> 1.8 | J77: =+J9*$J$73 -> 0.01 | K77: =+K9*$K$73 -> 0.0484 | L77: =+L9*$L$73 -> 0.02604 | M77: =+M9*$M$73 -> 0.06515 | N77: =+N9*$N$73 -> 0.22 | O77: =+O9*$O$73 -> 0.846 | P77: =+P9*$P$73 -> 0.022545 | Q77: 0.22 | R77: 0.17 | S77: =+S9*$S$73 -> 0 | T77: 0.22 | U77: 0.17 | V77: =+V9*$S$73 -> 0.04202 | W77: 0.22 | X77: 0.17 | Y77: =+Y9*$S$73 -> 0 | AE77: 0.17 | AF77: =+AF9*$S$73 -> 0.03852575
A78: 21 | B78: COQUIMBO | C78: 5 | D78: LA SERENA | E78: 4101 | F78: URBANA | G78: =+G10*$G$73 -> 0.01221 | H78: =+H10*$H$73 -> 0.950794 | I78: =+I10*$I$73 -> 1.6 | J78: =+J10*$J$73 -> 0.011 | K78: =+K10*$K$73 -> 0.0484 | L78: =+L10*$L$73 -> 0.02602 | M78: =+M10*$M$73 -> 0.0649 | N78: =+N10*$N$73 -> 0.22 | O78: =+O10*$O$73 -> 0.846 | P78: =+P10*$P$73 -> 0.02256 | Q78: 0.22 | R78: 0.17 | S78: =+S10*$S$73 -> 0 | T78: 0.22 | U78: 0.17 | V78: =+V10*$S$73 -> 0.056892 | W78: 0.22 | X78: 0.17 | Y78: =+Y10*$S$73 -> 0 | AE78: 0.17 | AF78: =+AF10*$S$73 -> 0.059980867
A79: 22 | B79: COQUIMBO | C79: 5 | D79: LOS VILOS | E79: 4203 | F79: RURAL | G79: =+G11*$G$73 -> 0.01125 | H79: =+H11*$H$73 -> 0.951473 | I79: =+I11*$I$73 -> 2 | J79: =+J11*$J$73 -> 0.01 | K79: =+K11*$K$73 -> 0.1012 | L79: =+L11*$L$73 -> 0.03012 | M79: =+M11*$M$73 -> 0.06985 | N79: =+N11*$N$73 -> 0.24365 | O79: =+O11*$O$73 -> 0.8742 | P79: =+P11*$P$73 -> 0.022785 | Q79: 0.22 | R79: 0.19 | S79: =+S11*$S$73 -> 0 | T79: 0.22 | U79: 0.19 | V79: =+V11*$S$73 -> 0.041976 | W79: 0.22 | X79: 0.19 | Y79: =+Y11*$S$73 -> 0 | AE79: 0.19 | AF79: =+AF11*$S$73 -> 0.034391534
A80: 23 | B80: COQUIMBO | C80: 5 | D80: MONTE PATRIA | E80: 4303 | F80: RURAL | G80: =+#REF!*$G$73 -> #REF! | H80: =+#REF!*$H$73 -> #REF! | I80: =+#REF!*$I$73 -> #REF! | J80: =+#REF!*$J$73 -> #REF! | K80: =+#REF!*$K$73 -> #REF! | L80: =+#REF!*$L$73 -> #REF! | M80: =+#REF!*$M$73 -> #REF! | N80: =+#REF!*$N$73 -> #REF! | O80: =+#REF!*$O$73 -> #REF! | P80: =+#REF!*$P$73 -> #REF! | Q80: 0.22 | R80: 0.17 | S80: =+#REF!*$S$73 -> #REF! | T80: 0.22 | U80: 0.17 | V80: =+#REF!*$S$73 -> #REF! | W80: 0.22 | X80: 0.17 | Y80: =+#REF!*$S$73 -> #REF! | AE80: 0.17 | AF80: =+#REF!*$S$73 -> #REF!
A81: 24 | B81: COQUIMBO | C81: 5 | D81: OVALLE | E81: 4301 | F81: RURAL | G81: =+#REF!*$G$73 -> #REF! | H81: =+#REF!*$H$73 -> #REF! | I81: =+#REF!*$I$73 -> #REF! | J81: =+#REF!*$J$73 -> #REF! | K81: =+#REF!*$K$73 -> #REF! | L81: =+#REF!*$L$73 -> #REF! | M81: =+#REF!*$M$73 -> #REF! | N81: =+#REF!*$N$73 -> #REF! | O81: =+#REF!*$O$73 -> #REF! | P81: =+#REF!*$P$73 -> #REF! | Q81: 0.22 | R81: 0.17 | S81: =+#REF!*$S$73 -> #REF! | T81: 0.22 | U81: 0.17 | V81: =+#REF!*$S$73 -> #REF! | W81: 0.22 | X81: 0.17 | Y81: =+#REF!*$S$73 -> #REF! | AE81: 0.17 | AF81: =+#REF!*$S$73 -> #REF!
A82: 25 | B82: COQUIMBO | C82: 5 | D82: PUNITAQUI | E82: 4304 | F82: RURAL | G82: =+#REF!*$G$73 -> #REF! | H82: =+#REF!*$H$73 -> #REF! | I82: =+#REF!*$I$73 -> #REF! | J82: =+#REF!*$J$73 -> #REF! | K82: =+#REF!*$K$73 -> #REF! | L82: =+#REF!*$L$73 -> #REF! | M82: =+#REF!*$M$73 -> #REF! | N82: =+#REF!*$N$73 -> #REF! | O82: =+#REF!*$O$73 -> #REF! | P82: =+#REF!*$P$73 -> #REF! | Q82: 0.22 | R82: 0.17 | S82: =+#REF!*$S$73 -> #REF! | T82: 0.22 | U82: 0.17 | V82: =+#REF!*$S$73 -> #REF! | W82: 0.22 | X82: 0.17 | Y82: =+#REF!*$S$73 -> #REF! | AE82: 0.17 | AF82: =+#REF!*$S$73 -> #REF!
A83: 26 | B83: COQUIMBO | C83: 5 | D83: RIO HURTADO | E83: 4305 | F83: RURAL | G83: =+#REF!*$G$73 -> #REF! | H83: =+#REF!*$H$73 -> #REF! | I83: =+#REF!*$I$73 -> #REF! | J83: =+#REF!*$J$73 -> #REF! | K83: =+#REF!*$K$73 -> #REF! | L83: =+#REF!*$L$73 -> #REF! | M83: =+#REF!*$M$73 -> #REF! | N83: =+#REF!*$N$73 -> #REF! | O83: =+#REF!*$O$73 -> #REF! | P83: =+#REF!*$P$73 -> #REF! | Q83: 0.35 | R83: 0.32 | S83: =+#REF!*$S$73 -> #REF! | T83: 0.35 | U83: 0.32 | V83: =+#REF!*$S$73 -> #REF! | W83: 0.35 | X83: 0.32 | Y83: =+#REF!*$S$73 -> #REF! | AE83: 0.32 | AF83: =+#REF!*$S$73 -> #REF!
A84: 27 | B84: COQUIMBO | C84: 5 | D84: SALAMANCA | E84: 4204 | F84: RURAL | G84: =+#REF!*$G$73 -> #REF! | H84: =+#REF!*$H$73 -> #REF! | I84: =+#REF!*$I$73 -> #REF! | J84: =+#REF!*$J$73 -> #REF! | K84: =+#REF!*$K$73 -> #REF! | L84: =+#REF!*$L$73 -> #REF! | M84: =+#REF!*$M$73 -> #REF! | N84: =+#REF!*$N$73 -> #REF! | O84: =+#REF!*$O$73 -> #REF! | P84: =+#REF!*$P$73 -> #REF! | Q84: 0.22 | R84: 0.22 | S84: =+#REF!*$S$73 -> #REF! | T84: 0.22 | U84: 0.22 | V84: =+#REF!*$S$73 -> #REF! | W84: 0.22 | X84: 0.22 | Y84: =+#REF!*$S$73 -> #REF! | AE84: 0.22 | AF84: =+#REF!*$S$73 -> #REF!
A85: 28 | B85: COQUIMBO | C85: 5 | D85: VICUÑA | E85: 4106 | F85: RURAL | G85: =+#REF!*$G$73 -> #REF! | H85: =+#REF!*$H$73 -> #REF! | I85: =+#REF!*$I$73 -> #REF! | J85: =+#REF!*$J$73 -> #REF! | K85: =+#REF!*$K$73 -> #REF! | L85: =+#REF!*$L$73 -> #REF! | M85: =+#REF!*$M$73 -> #REF! | N85: =+#REF!*$N$73 -> #REF! | O85: =+#REF!*$O$73 -> #REF! | P85: =+#REF!*$P$73 -> #REF! | Q85: 0.22 | R85: 0.23 | S85: =+#REF!*$S$73 -> #REF! | T85: 0.22 | U85: 0.23 | V85: =+#REF!*$S$73 -> #REF! | W85: 0.22 | X85: 0.23 | Y85: =+#REF!*$S$73 -> #REF! | AE85: 0.23 | AF85: =+#REF!*$S$73 -> #REF!
A89: METAS A DICIEMBRE
E90: CODIGO COMUNA | F90: TIPO | G90: METAS COMPONENTE ACTIVIDAD GENERAL
G91: META Nº 2 | H91: META Nº 3.1 | I91: META Nº 5 | J91: META Nº 6 | K91: META Nº 7 | L91: META Nº 8.1 | M91: META Nº 8.2 | N91: META Nº 8.3 | O91: META Nº9 | P91: META Nº10 | Q91: META Nº11 | R91: META Nº12 | S91: META Nº13 | T91: META Nº14 | U91: META Nº17 | V91: META Nº18 | W91: META Nº19 | X91: META Nº20 | Y91: META Nº21 | AE91: META Nº12 | AF91: META Nº13
A92: Nº | B92: SERVICIOS DE SALUD | C92: Nº | D92: COMUNA | G92: Porcentaje de familias evaluadas según riesgo familiar | H92: Gestión de reclamos en APS con enfoque participativo (porcentaje de reclamos respondidos dentro de plazo) | I92: Tasa de consultas de morbilidad y de controles médicos, por habitante año | J92: SIC derivadas desde APS al Nivel Secundario | K92: Tasa de Visita Domiciliaria Integral | L92: EMP hombres 20 a 64 años | M92: EMP mujeres de 45 a 64 años | N92: EMP hombres y mujeres de 65 y mas años | O92: Cobertura de Evaluación del desarrollo Psicomotor en niños y niñas de 12 a 23 meses bajo control. | P92: Cobertura de control de salud integral a adolescentes de 10 a 14 años | Q92: Proporción de menores de 20 años con alta odontologica total | R92: Cobertura de atención Integral a personas de 5 y más años con trastornos mentales | S92: Cobertura de atención de Asma en población general y EPOC en personas de 40 y más años | T92: Cobertura de capacitación a cuidadores de personas con dependencia severa con pago de estipendio | U92: Ingreso precoz de mujeres a control de embarazo | V92: Cobertura de método anticonceptivos en adolescentes de 15 a 19 años inscritos que usan métodos de regulación de la fertilidad | W92: Cobertura efectiva de Tratamiento en personas con Diabetes Mellitus 2, de 15 y más años | X92: Cobertura efectiva de Tratamiento en personas de 15 y más años, con Hipertensión Arterial | Y92: Proporción de niñas y niños menores de 3 años libre de caries en población inscrita | AE92: Cobertura de atención Integral a personas de 5 y más años con trastornos mentales | AF92: Cobertura de atención de Asma en población general y EPOC en personas de 40 y más años
G93: 0.15 | H93: 0.97 | I93: 1 | J93: 0.1 | K93: 0.22 | L93: 0.2 | M93: 0.25 | N93: 0.55 | O93: 0.94 | P93: 0.15 | Q93: 0.24 | R93: 0.17 | S93: 0.22 | T93: 0.9 | U93: 0.9 | V93: 0.19 | W93: 0.29 | X93: 0.54 | AE93: 0.17 | AF93: 0.22
A94: 17 | B94: COQUIMBO | C94: 5 | D94: CANELA | E94: 4202 | F94: RURAL | G94: =+G6*$G$93 -> 0.011265 | H94: =+H6*$H$93 -> 0.952055 | I94: =+I6*$I$93 -> 1.9 | J94: =+J6*$J$93 -> 0.01 | K94: =+K6*$K$93 -> 0.1584 | L94: =+L6*$L$93 -> 0.068 | M94: =+M6*$M$93 -> 0.080025 | N94: =+N6*$N$93 -> 0.220055 | O94: =+O6*$O$93 -> 0.846 | P94: =+P6*$P$93 -> 0.02256 | Q94: 0.22 | R94: 0.15 | S94: =+S6*$S$93 -> 0 | T94: 0.22 | U94: 0.15 | V94: =+V6*$S$93 -> 0.042614 | W94: 0.22 | X94: 0.15 | Y94: =+Y6*$S$93 -> 0 | AE94: 0.15 | AF94: =+AF6*$S$93 -> 0.066672419
A95: 18 | B95: COQUIMBO | C95: 5 | D95: COMBARBALA | E95: 4302 | F95: RURAL | G95: =+G7*$G$93 -> 0.01125 | H95: =+H7*$H$93 -> 0.957681 | I95: =+I7*$I$93 -> 1.5 | J95: =+J7*$J$93 -> 0.01 | K95: =+K7*$K$93 -> 0.0484 | L95: =+L7*$L$93 -> 0.02602 | M95: =+M7*$M$93 -> 0.065 | N95: =+N7*$N$93 -> 0.22011 | O95: =+O7*$O$93 -> 0.846 | P95: =+P7*$P$93 -> 0.02259 | Q95: 0.22 | R95: 0.17 | S95: =+S7*$S$93 -> 0 | T95: 0.22 | U95: 0.17 | V95: =+V7*$S$93 -> 0.04191 | W95: 0.22 | X95: 0.17 | Y95: =+Y7*$S$93 -> 0 | AE95: 0.17 | AF95: =+AF7*$S$93 -> 0.06057671
A96: 19 | B96: COQUIMBO | C96: 5 | D96: COQUIMBO | E96: 4102 | F96: URBANA | G96: =+G8*$G$93 -> 0.01125 | H96: =+H8*$H$93 -> 0.9506 | I96: =+I8*$I$93 -> 1.4 | J96: =+J8*$J$93 -> 0.01 | K96: =+K8*$K$93 -> 0.0638 | L96: =+L8*$L$93 -> 0.032 | M96: =+M8*$M$93 -> 0.06495 | N96: =+N8*$N$93 -> 0.290015 | O96: =+O8*$O$93 -> 0.8836 | P96: =+P8*$P$93 -> 0.02256 | Q96: 0.22 | R96: 0.17 | S96: =+S8*$S$93 -> 0 | T96: 0.22 | U96: 0.17 | V96: =+V8*$S$93 -> 0.022044 | W96: 0.22 | X96: 0.17 | Y96: =+Y8*$S$93 -> 0 | AE96: 0.17 | AF96: =+AF8*$S$93 -> 0.029526981
A97: 20 | B97: COQUIMBO | C97: 5 | D97: ILLAPEL | E97: 4201 | F97: RURAL | G97: =+G9*$G$93 -> 0.01125 | H97: =+H9*$H$93 -> 0.95157 | I97: =+I9*$I$93 -> 1.8 | J97: =+J9*$J$93 -> 0.01 | K97: =+K9*$K$93 -> 0.0484 | L97: =+L9*$L$93 -> 0.02604 | M97: =+M9*$M$93 -> 0.06515 | N97: =+N9*$N$93 -> 0.22 | O97: =+O9*$O$93 -> 0.846 | P97: =+P9*$P$93 -> 0.022545 | Q97: 0.22 | R97: 0.17 | S97: =+S9*$S$93 -> 0 | T97: 0.22 | U97: 0.17 | V97: =+V9*$S$93 -> 0.04202 | W97: 0.22 | X97: 0.17 | Y97: =+Y9*$S$93 -> 0 | AE97: 0.17 | AF97: =+AF9*$S$93 -> 0.03852575
A98: 21 | B98: COQUIMBO | C98: 5 | D98: LA SERENA | E98: 4101 | F98: URBANA | G98: =+G10*$G$93 -> 0.01221 | H98: =+H10*$H$93 -> 0.950794 | I98: =+I10*$I$93 -> 1.6 | J98: =+J10*$J$93 -> 0.011 | K98: =+K10*$K$93 -> 0.0484 | L98: =+L10*$L$93 -> 0.02602 | M98: =+M10*$M$93 -> 0.0649 | N98: =+N10*$N$93 -> 0.22 | O98: =+O10*$O$93 -> 0.846 | P98: =+P10*$P$93 -> 0.02256 | Q98: 0.22 | R98: 0.17 | S98: =+S10*$S$93 -> 0 | T98: 0.22 | U98: 0.17 | V98: =+V10*$S$93 -> 0.056892 | W98: 0.22 | X98: 0.17 | Y98: =+Y10*$S$93 -> 0 | AE98: 0.17 | AF98: =+AF10*$S$93 -> 0.059980867
A99: 22 | B99: COQUIMBO | C99: 5 | D99: LOS VILOS | E99: 4203 | F99: RURAL | G99: =+G11*$G$93 -> 0.01125 | H99: =+H11*$H$93 -> 0.951473 | I99: =+I11*$I$93 -> 2 | J99: =+J11*$J$93 -> 0.01 | K99: =+K11*$K$93 -> 0.1012 | L99: =+L11*$L$93 -> 0.03012 | M99: =+M11*$M$93 -> 0.06985 | N99: =+N11*$N$93 -> 0.24365 | O99: =+O11*$O$93 -> 0.8742 | P99: =+P11*$P$93 -> 0.022785 | Q99: 0.22 | R99: 0.19 | S99: =+S11*$S$93 -> 0 | T99: 0.22 | U99: 0.19 | V99: =+V11*$S$93 -> 0.041976 | W99: 0.22 | X99: 0.19 | Y99: =+Y11*$S$93 -> 0 | AE99: 0.19 | AF99: =+AF11*$S$93 -> 0.034391534
A100: 23 | B100: COQUIMBO | C100: 5 | D100: MONTE PATRIA | E100: 4303 | F100: RURAL | G100: =+#REF!*$G$93 -> #REF! | H100: =+#REF!*$H$93 -> #REF! | I100: =+#REF!*$I$93 -> #REF! | J100: =+#REF!*$J$93 -> #REF! | K100: =+#REF!*$K$93 -> #REF! | L100: =+#REF!*$L$93 -> #REF! | M100: =+#REF!*$M$93 -> #REF! | N100: =+#REF!*$N$93 -> #REF! | O100: =+#REF!*$O$93 -> #REF! | P100: =+#REF!*$P$93 -> #REF! | Q100: 0.22 | R100: 0.17 | S100: =+#REF!*$S$93 -> #REF! | T100: 0.22 | U100: 0.17 | V100: =+#REF!*$S$93 -> #REF! | W100: 0.22 | X100: 0.17 | Y100: =+#REF!*$S$93 -> #REF! | AE100: 0.17 | AF100: =+#REF!*$S$93 -> #REF!
A101: 24 | B101: COQUIMBO | C101: 5 | D101: OVALLE | E101: 4301 | F101: RURAL | G101: =+#REF!*$G$93 -> #REF! | H101: =+#REF!*$H$93 -> #REF! | I101: =+#REF!*$I$93 -> #REF! | J101: =+#REF!*$J$93 -> #REF! | K101: =+#REF!*$K$93 -> #REF! | L101: =+#REF!*$L$93 -> #REF! | M101: =+#REF!*$M$93 -> #REF! | N101: =+#REF!*$N$93 -> #REF! | O101: =+#REF!*$O$93 -> #REF! | P101: =+#REF!*$P$93 -> #REF! | Q101: 0.22 | R101: 0.17 | S101: =+#REF!*$S$93 -> #REF! | T101: 0.22 | U101: 0.17 | V101: =+#REF!*$S$93 -> #REF! | W101: 0.22 | X101: 0.17 | Y101: =+#REF!*$S$93 -> #REF! | AE101: 0.17 | AF101: =+#REF!*$S$93 -> #REF!
A102: 25 | B102: COQUIMBO | C102: 5 | D102: PUNITAQUI | E102: 4304 | F102: RURAL | G102: =+#REF!*$G$93 -> #REF! | H102: =+#REF!*$H$93 -> #REF! | I102: =+#REF!*$I$93 -> #REF! | J102: =+#REF!*$J$93 -> #REF! | K102: =+#REF!*$K$93 -> #REF! | L102: =+#REF!*$L$93 -> #REF! | M102: =+#REF!*$M$93 -> #REF! | N102: =+#REF!*$N$93 -> #REF! | O102: =+#REF!*$O$93 -> #REF! | P102: =+#REF!*$P$93 -> #REF! | Q102: 0.22 | R102: 0.17 | S102: =+#REF!*$S$93 -> #REF! | T102: 0.22 | U102: 0.17 | V102: =+#REF!*$S$93 -> #REF! | W102: 0.22 | X102: 0.17 | Y102: =+#REF!*$S$93 -> #REF! | AE102: 0.17 | AF102: =+#REF!*$S$93 -> #REF!
A103: 26 | B103: COQUIMBO | C103: 5 | D103: RIO HURTADO | E103: 4305 | F103: RURAL | G103: =+#REF!*$G$93 -> #REF! | H103: =+#REF!*$H$93 -> #REF! | I103: =+#REF!*$I$93 -> #REF! | J103: =+#REF!*$J$93 -> #REF! | K103: =+#REF!*$K$93 -> #REF! | L103: =+#REF!*$L$93 -> #REF! | M103: =+#REF!*$M$93 -> #REF! | N103: =+#REF!*$N$93 -> #REF! | O103: =+#REF!*$O$93 -> #REF! | P103: =+#REF!*$P$93 -> #REF! | Q103: 0.35 | R103: 0.32 | S103: =+#REF!*$S$93 -> #REF! | T103: 0.35 | U103: 0.32 | V103: =+#REF!*$S$93 -> #REF! | W103: 0.35 | X103: 0.32 | Y103: =+#REF!*$S$93 -> #REF! | AE103: 0.32 | AF103: =+#REF!*$S$93 -> #REF!
A104: 27 | B104: COQUIMBO | C104: 5 | D104: SALAMANCA | E104: 4204 | F104: RURAL | G104: =+#REF!*$G$93 -> #REF! | H104: =+#REF!*$H$93 -> #REF! | I104: =+#REF!*$I$93 -> #REF! | J104: =+#REF!*$J$93 -> #REF! | K104: =+#REF!*$K$93 -> #REF! | L104: =+#REF!*$L$93 -> #REF! | M104: =+#REF!*$M$93 -> #REF! | N104: =+#REF!*$N$93 -> #REF! | O104: =+#REF!*$O$93 -> #REF! | P104: =+#REF!*$P$93 -> #REF! | Q104: 0.22 | R104: 0.22 | S104: =+#REF!*$S$93 -> #REF! | T104: 0.22 | U104: 0.22 | V104: =+#REF!*$S$93 -> #REF! | W104: 0.22 | X104: 0.22 | Y104: =+#REF!*$S$93 -> #REF! | AE104: 0.22 | AF104: =+#REF!*$S$93 -> #REF!
A105: 28 | B105: COQUIMBO | C105: 5 | D105: VICUÑA | E105: 4106 | F105: RURAL | G105: =+#REF!*$G$93 -> #REF! | H105: =+#REF!*$H$93 -> #REF! | I105: =+#REF!*$I$93 -> #REF! | J105: =+#REF!*$J$93 -> #REF! | K105: =+#REF!*$K$93 -> #REF! | L105: =+#REF!*$L$93 -> #REF! | M105: =+#REF!*$M$93 -> #REF! | N105: =+#REF!*$N$93 -> #REF! | O105: =+#REF!*$O$93 -> #REF! | P105: =+#REF!*$P$93 -> #REF! | Q105: 0.22 | R105: 0.23 | S105: =+#REF!*$S$93 -> #REF! | T105: 0.22 | U105: 0.23 | V105: =+#REF!*$S$93 -> #REF! | W105: 0.22 | X105: 0.23 | Y105: =+#REF!*$S$93 -> #REF! | AE105: 0.23 | AF105: =+#REF!*$S$93 -> #REF!
