Workbook

Sheet RESUMEN 
A1: MINISTERIO DE SALUD
A2: SERVICIO DE SALUD COQUIMBO
A3: SUBDIRECCION DE GESTION ASISTENCIAL
A4: SUBDEPTO DE ESTADÍSTICA Y GESTIÓN DE LA INFORMACIÓN
A5: COMUNA | B5: RESUMEN DE CUMPLIMIENTO DE METAS A ABRIL 2017
B6: CORTE A ABRIL
B8: METAS COMPONENTE ESTRATEGIA RISS, PRODUCCIÓN,COBERTURA EFECTIVA E IMPACTO SANITARIO
B9: META Nº2 | C9: META Nº3.1 | D9: META Nº5 | E9: META Nº6 | F9: META Nº7 | G9: META Nº8.1 | H9: META Nº8.2 | I9: META Nº8.3 | J9: META Nº9 | K9: META Nº10 | L9: META Nº11 | M9: META Nº12 | N9: META Nº13 | O9: META Nº14 | P9: META Nº17 | Q9: META Nº18 | R9: META Nº19 | S9: META Nº20 | T9: META Nº21 | U9: CUMPLIMIENTO GENERAL | V9: CUMPLIMIENTO META GES
B10: Familias Evaluadas según riesgo (*) | C10: Gestion de Reclamos APS | D10: Consultas de Morbilidad y Controles Médicos | E10: SIC derivadas desde la APS al Nivel Secundario | F10: Visita domiciliaria integral | G10: EMP hombres 20 a 64 años | H10: EMP mujeres de 45 a 64 años | I10: EMP 65 y mas años | J10: Evaluación del desarrollo Psicomotor de niños/as de 12 a 23 meses bajo control | K10: Control de salud integral adolescentes de 10 a 14 años | L10: Alta odontologica menores de 20 años | M10: Cobertura de Atención Integral de trastornos mentales en personas de 5 y más años | N10: Cobertura de Atención de Asma en Población general y EPOC en personas de 40 años y más | O10: Capacitación a Cuidadores de personas con Dependencia Severa con Pago de Estipendio (*) | P10: Control embarazada | Q10: Cobertura de Métodos Anticonceptivos en Adolescentes (*) | R10: Cobertura DM2 en personas de 15 y mas años (*) | S10: Cobertutra HTA en personas de 15 y mas años (*) | T10: Proporción de Niñas y Niños de 3 años libre de Caries
A12: HOSPITAL ANDACOLLO | B12: N/A | C12: =+'META 3.1'!C12 -> 1.0188487 | D12: =+'META 5 '!C12 -> 1.8093426 | E12: =+'META 6'!C12 -> 0.97766497 | F12: =+'META 7'!C12 -> 1.1614972 | G12: =+'META 8.1'!C12 -> 0.46175851 | H12: =+'META 8.2'!C12 -> 2.2463448 | I12: =+'META 8.3'!C12 -> 2.1666039 | J12: =+'META 9'!C12 -> 0.29461279 | K12: =+'META 10'!C12 -> 1.9613381 | L12: =+'META 11'!C12 -> 1.2226397 | M12: =+'META 12'!C12 -> 0.69833296 | N12: =+'META 13'!C12 -> 0.72121064 | O12: N/A | P12: =+'META 17'!C12 -> 0.98709465 | Q12: =+'META 18'!C12 -> 7.9067193 | R12: N/A | S12: N/A | T12: =+'META 21'!C12 -> SI | U12: =C37*3%+D37*6%+E37*3%+F37*5%+G37*5%+H37*5%+I37*5%+J37*4%+K37*4%+L37*4%+M37*4%+N37*4%+P37*4%+T37*3% -> 0.51046792 | V12: =+META_GES!C12 -> 0.99667774
A13: HOSPITAL VICUÑA | B13: N/A | C13: =+'META 3.1'!C13 -> 0.97066072 | D13: =+'META 5 '!C13 -> 1.6964711 | E13: =+'META 6'!C13 -> 0.96832413 | F13: =+'META 7'!C13 -> 1.0889925 | G13: =+'META 8.1'!C13 -> 0.6235682 | H13: =+'META 8.2'!C13 -> 0.76611841 | I13: =+'META 8.3'!C13 -> 0.70693706 | J13: =+'META 9'!C13 -> 0.17736046 | K13: =+'META 10'!C13 -> 0 | L13: =+'META 11'!C13 -> 0.81699346 | M13: =+'META 12'!C13 -> 0.95844825 | N13: =+'META 13'!C13 -> 0.88398905 | O13: N/A | P13: =+'META 17'!C13 -> 1.1206057 | Q13: =+'META 18'!C13 -> 6.4097251 | R13: N/A | S13: N/A | T13: =+'META 21'!C13 -> SI | U13: =C38*3%+D38*6%+E38*3%+F38*5%+G38*5%+H38*5%+I38*5%+J38*4%+K38*4%+L38*4%+M38*4%+N38*4%+P38*4%+T38*3% -> 0.45647238 | V13: =+META_GES!C13 -> 1
A14: HOSPITAL ILLAPEL | B14: N/A | C14: =+'META 3.1'!C14 -> 1.0028149 | D14: =+'META 5 '!C14 -> 2.1752612 | E14: =+'META 6'!C14 -> 0.64407039 | F14: =+'META 7'!C14 -> 1.9719725 | G14: =+'META 8.1'!C14 -> 1.6951006 | H14: =+'META 8.2'!C14 -> 1.4026382 | I14: =+'META 8.3'!C14 -> 5.2870829 | J14: =+'META 9'!C14 -> 0.3483887 | K14: =+'META 10'!C14 -> 0 | L14: =+'META 11'!C14 -> 1.7250768 | M14: =+'META 12'!C14 -> 1.2985197 | N14: =+'META 13'!C14 -> 0.91631787 | O14: N/A | P14: =+'META 17'!C14 -> 0.86669401 | Q14: =+'META 18'!C14 -> 4.8572916 | R14: N/A | S14: N/A | T14: =+'META 21'!C14 -> SI | U14: =C39*3%+D39*6%+E39*3%+F39*5%+G39*5%+H39*5%+I39*5%+J39*4%+K39*4%+L39*4%+M39*4%+N39*4%+P39*4%+T39*3% -> 0.50457813 | V14: =+META_GES!C14 -> 1
A15: HOSPITAL LOS VILOS | B15: N/A | C15: =+'META 3.1'!C15 -> 1.019368 | D15: =+'META 5 '!C15 -> 2.2040635 | E15: =+'META 6'!C15 -> 2.0260982 | F15: =+'META 7'!C15 -> 3.2405194 | G15: =+'META 8.1'!C15 -> 0.64363574 | H15: =+'META 8.2'!C15 -> 0.62998745 | I15: =+'META 8.3'!C15 -> 2.3987327 | J15: =+'META 9'!C15 -> 0.34542314 | K15: =+'META 10'!C15 -> 0.40415246 | L15: =+'META 11'!C15 -> 0.70226863 | M15: =+'META 12'!C15 -> 0.95135024 | N15: =+'META 13'!C15 -> 0.59370775 | O15: N/A | P15: =+'META 17'!C15 -> 0.82970338 | Q15: =+'META 18'!C15 -> 6.6650881 | R15: N/A | S15: N/A | T15: =+'META 21'!C15 -> SI | U15: =C40*3%+D40*6%+E40*3%+F40*5%+G40*5%+H40*5%+I40*5%+J40*4%+K40*4%+L40*4%+M40*4%+N40*4%+P40*4%+T40*3% -> 0.46674538 | V15: =+META_GES!C15 -> 1
A16: HOSPITAL SALAMANCA | B16: N/A | C16: =+'META 3.1'!C16 -> 0.77287876 | D16: =+'META 5 '!C16 -> 1.804173 | E16: =+'META 6'!C16 -> 0.99847512 | F16: =+'META 7'!C16 -> 0.21437212 | G16: =+'META 8.1'!C16 -> 0.72349351 | H16: =+'META 8.2'!C16 -> 2.2102099 | I16: =+'META 8.3'!C16 -> 0.85390947 | J16: =+'META 9'!C16 -> 0.23492063 | K16: =+'META 10'!C16 -> 0 | L16: =+'META 11'!C16 -> 2.9057368 | M16: =+'META 12'!C16 -> 0.5856496 | N16: =+'META 13'!C16 -> 0.67029288 | O16: N/A | P16: =+'META 17'!C16 -> 0.8731171 | Q16: =+'META 18'!C16 -> 7.00056 | R16: N/A | S16: N/A | T16: =+'META 21'!C16 -> SI | U16: =C41*3%+D41*6%+E41*3%+F41*5%+G41*5%+H41*5%+I41*5%+J41*4%+K41*4%+L41*4%+M41*4%+N41*4%+P41*4%+T41*3% -> 0.41728858 | V16: =+META_GES!C16 -> 1
A17: HOSPITAL COMBARBALÁ | B17: N/A | C17: =+'META 3.1'!C17 -> 1.0194719 | D17: =+'META 5 '!C17 -> 4.0107775 | E17: =+'META 6'!C17 -> 2.7290476 | F17: =+'META 7'!C17 -> 2.9025681 | G17: =+'META 8.1'!C17 -> 2.1888006 | H17: =+'META 8.2'!C17 -> 0.48106157 | I17: =+'META 8.3'!C17 -> 1.3992604 | J17: =+'META 9'!C17 -> 0.41878891 | K17: =+'META 10'!C17 -> 0 | L17: =+'META 11'!C17 -> 1.6511952 | M17: =+'META 12'!C17 -> 1.21621 | N17: =+'META 13'!C17 -> 0.8521275 | O17: N/A | P17: =+'META 17'!C17 -> 0.96538492 | Q17: =+'META 18'!C17 -> 23.204827 | R17: N/A | S17: N/A | T17: =+'META 21'!C17 -> SI | U17: =C42*3%+D42*6%+E42*3%+F42*5%+G42*5%+H42*5%+I42*5%+J42*4%+K42*4%+L42*4%+M42*4%+N42*4%+P42*4%+T42*3% -> 0.49350513 | V17: =+META_GES!C17 -> 1
A18: (*) Metas a Evaluar con Serie P de Junio 2017
A25: MINISTERIO DE SALUD
A26: SERVICIO DE SALUD COQUIMBO
A27: SUBDIRECCION DE GESTION ASISTENCIAL
A28: SUBDEPTO DE ESTADÍSTICA Y GESTIÓN DE LA INFORMACIÓN
A30: COMUNA | B30: RESUMEN DE CUMPLIMIENTO DE METAS A ABRIL 2017
B31: CORTE A MARZO
B33: METAS COMPONENTE ESTRATEGIA RISS, PRODUCCIÓN,COBERTURA EFECTIVA E IMPACTO SANITARIO
B34: META Nº2 | C34: META Nº3.1 | D34: META Nº5 | E34: META Nº6 | F34: META Nº7 | G34: META Nº8.1 | H34: META Nº8.2 | I34: META Nº8.3 | J34: META Nº9 | K34: META Nº10 | L34: META Nº11 | M34: META Nº12 | N34: META Nº13 | O34: META Nº14 | P34: META Nº17 | Q34: META Nº18 | R34: META Nº19 | S34: META Nº20 | T34: META Nº21
B35: Familias Evaluadas según riesgo | C35: Gestion de Reclamos APS | D35: Consultas de Morbilidad y Controles Médicos | E35: SIC derivadas desde la APS al Nivel Secundario | F35: Visita domiciliaria integral | G35: EMP hombres 20 a 64 años | H35: EMP mujeres de 45 a 64 años | I35: EMP 65 y mas años | J35: Evaluación del desarrollo Psicomotor de niños/as de 12 a 23 meses bajo control | K35: Control de salud integral adolescentes de 10 a 14 años | L35: Alta odontologica menores de 20 años | M35: Cobertura de Atención Integral de trastornos mentales en personas de 5 y más años | N35: Cobertura de Atención de Asma en Población general y EPOC en personas de 40 años y más | O35: Capacitación a Cuidadores de personas con Dependencia Severa con Pago de Estipendio | P35: Control embarazada | Q35: Cobertura de Métodos Anticonceptivos en Adolescentes | R35: Cobertura DM2 en personas de 15 y mas años | S35: Cobertutra HTA en personas de 15 y mas años | T35: Proporción de Niñas y Niños de 3 años libre de Caries
A37: LA SERENA | B37: =IF(B12="n/a","n/a",IF(B12="","",IF(B12>1,1,B12))) -> n/a | C37: =IF(C12="n/a","n/a",IF(C12="","",IF(C12>1,1,C12))) -> 1 | D37: =IF(D12="n/a","n/a",IF(D12="","",IF(D12>1,1,D12))) -> 1 | E37: =IF(E12="n/a","n/a",IF(E12="","",IF(E12>1,1,E12))) -> 0.97766497 | F37: =IF(F12="n/a","n/a",IF(F12="","",IF(F12>1,1,F12))) -> 1 | G37: =IF(G12="n/a","n/a",IF(G12="","",IF(G12>1,1,G12))) -> 0.46175851 | H37: =IF(H12="n/a","n/a",IF(H12="","",IF(H12>1,1,H12))) -> 1 | I37: =IF(I12="n/a","n/a",IF(I12="","",IF(I12>1,1,I12))) -> 1 | ... S37: =IF(S12="n/a","n/a",IF(S12="","",IF(S12>1,1,S12))) -> n/a | T37: =IF(T12="n/a","n/a",IF(T12="SI",1,0)) -> 1
A38: COQUIMBO | B38: =IF(B13="n/a","n/a",IF(B13="","",IF(B13>1,1,B13))) -> n/a | C38: =IF(C13="n/a","n/a",IF(C13="","",IF(C13>1,1,C13))) -> 0.97066072 | D38: =IF(D13="n/a","n/a",IF(D13="","",IF(D13>1,1,D13))) -> 1 | E38: =IF(E13="n/a","n/a",IF(E13="","",IF(E13>1,1,E13))) -> 0.96832413 | F38: =IF(F13="n/a","n/a",IF(F13="","",IF(F13>1,1,F13))) -> 1 | G38: =IF(G13="n/a","n/a",IF(G13="","",IF(G13>1,1,G13))) -> 0.6235682 | H38: =IF(H13="n/a","n/a",IF(H13="","",IF(H13>1,1,H13))) -> 0.76611841 | I38: =IF(I13="n/a","n/a",IF(I13="","",IF(I13>1,1,I13))) -> 0.70693706 | ... S38: =IF(S13="n/a","n/a",IF(S13="","",IF(S13>1,1,S13))) -> n/a | T38: =IF(T13="n/a","n/a",IF(T13="SI",1,0)) -> 1
A39: VICUÑA | B39: =IF(B14="n/a","n/a",IF(B14="","",IF(B14>1,1,B14))) -> n/a | C39: =IF(C14="n/a","n/a",IF(C14="","",IF(C14>1,1,C14))) -> 1 | D39: =IF(D14="n/a","n/a",IF(D14="","",IF(D14>1,1,D14))) -> 1 | E39: =IF(E14="n/a","n/a",IF(E14="","",IF(E14>1,1,E14))) -> 0.64407039 | F39: =IF(F14="n/a","n/a",IF(F14="","",IF(F14>1,1,F14))) -> 1 | G39: =IF(G14="n/a","n/a",IF(G14="","",IF(G14>1,1,G14))) -> 1 | H39: =IF(H14="n/a","n/a",IF(H14="","",IF(H14>1,1,H14))) -> 1 | I39: =IF(I14="n/a","n/a",IF(I14="","",IF(I14>1,1,I14))) -> 1 | ... S39: =IF(S14="n/a","n/a",IF(S14="","",IF(S14>1,1,S14))) -> n/a | T39: =IF(T14="n/a","n/a",IF(T14="SI",1,0)) -> 1
A40: ILLAPEL | B40: =IF(B15="n/a","n/a",IF(B15="","",IF(B15>1,1,B15))) -> n/a | C40: =IF(C15="n/a","n/a",IF(C15="","",IF(C15>1,1,C15))) -> 1 | D40: =IF(D15="n/a","n/a",IF(D15="","",IF(D15>1,1,D15))) -> 1 | E40: =IF(E15="n/a","n/a",IF(E15="","",IF(E15>1,1,E15))) -> 1 | F40: =IF(F15="n/a","n/a",IF(F15="","",IF(F15>1,1,F15))) -> 1 | G40: =IF(G15="n/a","n/a",IF(G15="","",IF(G15>1,1,G15))) -> 0.64363574 | H40: =IF(H15="n/a","n/a",IF(H15="","",IF(H15>1,1,H15))) -> 0.62998745 | I40: =IF(I15="n/a","n/a",IF(I15="","",IF(I15>1,1,I15))) -> 1 | ... S40: =IF(S15="n/a","n/a",IF(S15="","",IF(S15>1,1,S15))) -> n/a | T40: =IF(T15="n/a","n/a",IF(T15="SI",1,0)) -> 1
A41: CANELA | B41: =IF(B16="n/a","n/a",IF(B16="","",IF(B16>1,1,B16))) -> n/a | C41: =IF(C16="n/a","n/a",IF(C16="","",IF(C16>1,1,C16))) -> 0.77287876 | D41: =IF(D16="n/a","n/a",IF(D16="","",IF(D16>1,1,D16))) -> 1 | E41: =IF(E16="n/a","n/a",IF(E16="","",IF(E16>1,1,E16))) -> 0.99847512 | F41: =IF(F16="n/a","n/a",IF(F16="","",IF(F16>1,1,F16))) -> 0.21437212 | G41: =IF(G16="n/a","n/a",IF(G16="","",IF(G16>1,1,G16))) -> 0.72349351 | H41: =IF(H16="n/a","n/a",IF(H16="","",IF(H16>1,1,H16))) -> 1 | I41: =IF(I16="n/a","n/a",IF(I16="","",IF(I16>1,1,I16))) -> 0.85390947 | ... S41: =IF(S16="n/a","n/a",IF(S16="","",IF(S16>1,1,S16))) -> n/a | T41: =IF(T16="n/a","n/a",IF(T16="SI",1,0)) -> 1
A42: LOS VILOS | B42: =IF(B17="n/a","n/a",IF(B17="","",IF(B17>1,1,B17))) -> n/a | C42: =IF(C17="n/a","n/a",IF(C17="","",IF(C17>1,1,C17))) -> 1 | D42: =IF(D17="n/a","n/a",IF(D17="","",IF(D17>1,1,D17))) -> 1 | E42: =IF(E17="n/a","n/a",IF(E17="","",IF(E17>1,1,E17))) -> 1 | F42: =IF(F17="n/a","n/a",IF(F17="","",IF(F17>1,1,F17))) -> 1 | G42: =IF(G17="n/a","n/a",IF(G17="","",IF(G17>1,1,G17))) -> 1 | H42: =IF(H17="n/a","n/a",IF(H17="","",IF(H17>1,1,H17))) -> 0.48106157 | I42: =IF(I17="n/a","n/a",IF(I17="","",IF(I17>1,1,I17))) -> 1 | ... S42: =IF(S17="n/a","n/a",IF(S17="","",IF(S17>1,1,S17))) -> n/a | T42: =IF(T17="n/a","n/a",IF(T17="SI",1,0)) -> 1
A43: SALAMANCA | B43: =IF(#REF!="n/a","n/a",IF(#REF!="","",IF(#REF!>1,1,#REF!))) -> #REF! | C43: =IF(#REF!="n/a","n/a",IF(#REF!="","",IF(#REF!>1,1,#REF!))) -> #REF! | D43: =IF(#REF!="n/a","n/a",IF(#REF!="","",IF(#REF!>1,1,#REF!))) -> #REF! | E43: =IF(#REF!="n/a","n/a",IF(#REF!="","",IF(#REF!>1,1,#REF!))) -> #REF! | F43: =IF(#REF!="n/a","n/a",IF(#REF!="","",IF(#REF!>1,1,#REF!))) -> #REF! | G43: =IF(#REF!="n/a","n/a",IF(#REF!="","",IF(#REF!>1,1,#REF!))) -> #REF! | H43: =IF(#REF!="n/a","n/a",IF(#REF!="","",IF(#REF!>1,1,#REF!))) -> #REF! | I43: =IF(#REF!="n/a","n/a",IF(#REF!="","",IF(#REF!>1,1,#REF!))) -> #REF! | ... S43: =IF(#REF!="n/a","n/a",IF(#REF!="","",IF(#REF!>1,1,#REF!))) -> #REF! | T43: =IF(#REF!="n/a","n/a",IF(#REF!="SI",1,0)) -> #REF!
A44: OVALLE | B44: =IF(#REF!="n/a","n/a",IF(#REF!="","",IF(#REF!>1,1,#REF!))) -> #REF! | C44: =IF(#REF!="n/a","n/a",IF(#REF!="","",IF(#REF!>1,1,#REF!))) -> #REF! | D44: =IF(#REF!="n/a","n/a",IF(#REF!="","",IF(#REF!>1,1,#REF!))) -> #REF! | E44: =IF(#REF!="n/a","n/a",IF(#REF!="","",IF(#REF!>1,1,#REF!))) -> #REF! | F44: =IF(#REF!="n/a","n/a",IF(#REF!="","",IF(#REF!>1,1,#REF!))) -> #REF! | G44: =IF(#REF!="n/a","n/a",IF(#REF!="","",IF(#REF!>1,1,#REF!))) -> #REF! | H44: =IF(#REF!="n/a","n/a",IF(#REF!="","",IF(#REF!>1,1,#REF!))) -> #REF! | I44: =IF(#REF!="n/a","n/a",IF(#REF!="","",IF(#REF!>1,1,#REF!))) -> #REF! | ... S44: =IF(#REF!="n/a","n/a",IF(#REF!="","",IF(#REF!>1,1,#REF!))) -> #REF! | T44: =IF(#REF!="n/a","n/a",IF(#REF!="SI",1,0)) -> #REF!
A45: COMBARBALÁ | B45: =IF(#REF!="n/a","n/a",IF(#REF!="","",IF(#REF!>1,1,#REF!))) -> #REF! | C45: =IF(#REF!="n/a","n/a",IF(#REF!="","",IF(#REF!>1,1,#REF!))) -> #REF! | D45: =IF(#REF!="n/a","n/a",IF(#REF!="","",IF(#REF!>1,1,#REF!))) -> #REF! | E45: =IF(#REF!="n/a","n/a",IF(#REF!="","",IF(#REF!>1,1,#REF!))) -> #REF! | F45: =IF(#REF!="n/a","n/a",IF(#REF!="","",IF(#REF!>1,1,#REF!))) -> #REF! | G45: =IF(#REF!="n/a","n/a",IF(#REF!="","",IF(#REF!>1,1,#REF!))) -> #REF! | H45: =IF(#REF!="n/a","n/a",IF(#REF!="","",IF(#REF!>1,1,#REF!))) -> #REF! | I45: =IF(#REF!="n/a","n/a",IF(#REF!="","",IF(#REF!>1,1,#REF!))) -> #REF! | ... S45: =IF(#REF!="n/a","n/a",IF(#REF!="","",IF(#REF!>1,1,#REF!))) -> #REF! | T45: =IF(#REF!="n/a","n/a",IF(#REF!="SI",1,0)) -> #REF!
A46: MONTE PATRIA | B46: =IF(#REF!="n/a","n/a",IF(#REF!="","",IF(#REF!>1,1,#REF!))) -> #REF! | C46: =IF(#REF!="n/a","n/a",IF(#REF!="","",IF(#REF!>1,1,#REF!))) -> #REF! | D46: =IF(#REF!="n/a","n/a",IF(#REF!="","",IF(#REF!>1,1,#REF!))) -> #REF! | E46: =IF(#REF!="n/a","n/a",IF(#REF!="","",IF(#REF!>1,1,#REF!))) -> #REF! | F46: =IF(#REF!="n/a","n/a",IF(#REF!="","",IF(#REF!>1,1,#REF!))) -> #REF! | G46: =IF(#REF!="n/a","n/a",IF(#REF!="","",IF(#REF!>1,1,#REF!))) -> #REF! | H46: =IF(#REF!="n/a","n/a",IF(#REF!="","",IF(#REF!>1,1,#REF!))) -> #REF! | I46: =IF(#REF!="n/a","n/a",IF(#REF!="","",IF(#REF!>1,1,#REF!))) -> #REF! | ... S46: =IF(#REF!="n/a","n/a",IF(#REF!="","",IF(#REF!>1,1,#REF!))) -> #REF! | T46: =IF(#REF!="n/a","n/a",IF(#REF!="SI",1,0)) -> #REF!
A47: PUNITAQUI | B47: =IF(#REF!="n/a","n/a",IF(#REF!="","",IF(#REF!>1,1,#REF!))) -> #REF! | C47: =IF(#REF!="n/a","n/a",IF(#REF!="","",IF(#REF!>1,1,#REF!))) -> #REF! | D47: =IF(#REF!="n/a","n/a",IF(#REF!="","",IF(#REF!>1,1,#REF!))) -> #REF! | E47: =IF(#REF!="n/a","n/a",IF(#REF!="","",IF(#REF!>1,1,#REF!))) -> #REF! | F47: =IF(#REF!="n/a","n/a",IF(#REF!="","",IF(#REF!>1,1,#REF!))) -> #REF! | G47: =IF(#REF!="n/a","n/a",IF(#REF!="","",IF(#REF!>1,1,#REF!))) -> #REF! | H47: =IF(#REF!="n/a","n/a",IF(#REF!="","",IF(#REF!>1,1,#REF!))) -> #REF! | I47: =IF(#REF!="n/a","n/a",IF(#REF!="","",IF(#REF!>1,1,#REF!))) -> #REF! | ... S47: =IF(#REF!="n/a","n/a",IF(#REF!="","",IF(#REF!>1,1,#REF!))) -> #REF! | T47: =IF(#REF!="n/a","n/a",IF(#REF!="SI",1,0)) -> #REF!
A48: RIO HURTADO | B48: =IF(#REF!="n/a","n/a",IF(#REF!="","",IF(#REF!>1,1,#REF!))) -> #REF! | C48: =IF(#REF!="n/a","n/a",IF(#REF!="","",IF(#REF!>1,1,#REF!))) -> #REF! | D48: =IF(#REF!="n/a","n/a",IF(#REF!="","",IF(#REF!>1,1,#REF!))) -> #REF! | E48: =IF(#REF!="n/a","n/a",IF(#REF!="","",IF(#REF!>1,1,#REF!))) -> #REF! | F48: =IF(#REF!="n/a","n/a",IF(#REF!="","",IF(#REF!>1,1,#REF!))) -> #REF! | G48: =IF(#REF!="n/a","n/a",IF(#REF!="","",IF(#REF!>1,1,#REF!))) -> #REF! | H48: =IF(#REF!="n/a","n/a",IF(#REF!="","",IF(#REF!>1,1,#REF!))) -> #REF! | I48: =IF(#REF!="n/a","n/a",IF(#REF!="","",IF(#REF!>1,1,#REF!))) -> #REF! | ... S48: =IF(#REF!="n/a","n/a",IF(#REF!="","",IF(#REF!>1,1,#REF!))) -> #REF! | T48: =IF(#REF!="n/a","n/a",IF(#REF!="SI",1,0)) -> #REF!

Sheet META 2
A1: COMUNA | B1: ESTABLECIMIENTO | C1: CUMPLIMIENTO | D1: Indicador | E1: META 2 : FAMILIAS EVALUADAS SEGÚN RIESGO FAMILIAR
E2: NUMERADOR | G2: DENOMINADOR
E10: Nº de familias evaluadas según riesgo familiar | G10: Total de familias Insciritas (población estimada/3,3)
D11: Resultado | E11: A JUNIO | F11: A DICBRE
A12: 04103-ANDACOLLO | B12: 105106-HOSPITAL ANDACOLLO | D12: =+E12/G12 -> 0 | G12: 2264
A13: 04106-VICUÑA | B13: 105107-HOSPITAL VICUÑA | D13: =+E13/G13 -> 0 | G13: 4174
A14: 04201-ILLAPEL | B14: 105103-HOSPITAL ILLAPEL | D14: =+E14/G14 -> 0 | G14: 5584
A15: 04203-LOS VILOS | B15: 105108-HOSPITAL LOS VILOS | D15: =+E15/G15 -> 0 | G15: 3993
A16: 04204-SALAMANCA | B16: 105104-HOSPITAL SALAMANCA | D16: =+E16/G16 -> 0 | G16: 3958
A17: 04302-COMBARBALÁ | B17: 105105-HOSPITAL COMBARBALA | D17: =+E17/G17 -> 0 | G17: 1443
B18: TOTAL HOSPITALES | E18: =SUM(E12:E17) -> 0 | F18: =SUM(F12:F17) -> 0 | G18: =SUM(G12:G17) -> 21416

Sheet META 3.1
A1: COMUNA | B1: ESTABLECIMIENTO | C1: CUMPLIMIENTO | D1: Indicador | E1: META 3.1: GESTION DE RECLAMOS EN APS
E2: NUMERADOR | R2: DENOMINADOR
E10: Nº total de reclamos respondidos con solución dentro de los plazos legales establecidos (15 días hábiles) | R10: Nº total de reclamos
D11: Resultado | E11: ENERO | F11: FEBRERO | G11: MARZO | H11: ABRIL | I11: MAYO | J11: JUNIO | K11: JULIO | L11: AGOSTO | M11: SEPBRE | N11: OCTBRE | O11: NOVBRE | P11: DICBRE | Q11: TOTAL | R11: ENERO | S11: FEBRERO | T11: MARZO | U11: ABRIL | V11: MAYO | W11: JUNIO | X11: JULIO | Y11: AGOSTO | Z11: SEPBRE | AA11: OCTBRE | AB11: NOVBRE | AC11: DICBRE | AD11: TOTAL
A12: 04103-ANDACOLLO | B12: 105106-HOSPITAL ANDACOLLO | C12: =+D12/Metas!H40 -> 1.0188487 | D12: =+Q12/AD12 -> 1 | E12: =IFERROR(VLOOKUP($B12,[1]NUM3.1!$H$3:$M$74,2,FALSE),0) -> 0 | F12: =IFERROR(VLOOKUP($B12,[1]NUM3.1!$H$3:$M$74,3,FALSE),0) -> 5 | G12: =IFERROR(VLOOKUP($B12,[1]NUM3.1!$H$3:$M$74,4,FALSE),0) -> 4 | H12: =IFERROR(VLOOKUP($B12,[1]NUM3.1!$H$3:$M$74,5,FALSE),0) -> 0 | Q12: =SUM(E12:P12) -> 9 | R12: =IFERROR(VLOOKUP($B12,[1]DEN3.1!$H$3:$M$74,2,FALSE),0) -> 0 | S12: =IFERROR(VLOOKUP($B12,[1]DEN3.1!$H$3:$M$74,3,FALSE),0) -> 5 | T12: =IFERROR(VLOOKUP($B12,[1]DEN3.1!$H$3:$M$74,4,FALSE),0) -> 4 | U12: =IFERROR(VLOOKUP($B12,[1]DEN3.1!$H$3:$M$74,5,FALSE),0) -> 0 | AD12: =SUM(R12:AC12) -> 9
A13: 04106-VICUÑA | B13: 105107-HOSPITAL VICUÑA | C13: =+D13/Metas!H41 -> 0.97066072 | D13: =+Q13/AD13 -> 0.95833333 | E13: =IFERROR(VLOOKUP($B13,[1]NUM3.1!$H$3:$M$74,2,FALSE),0) -> 28 | F13: =IFERROR(VLOOKUP($B13,[1]NUM3.1!$H$3:$M$74,3,FALSE),0) -> 28 | G13: =IFERROR(VLOOKUP($B13,[1]NUM3.1!$H$3:$M$74,4,FALSE),0) -> 4 | H13: =IFERROR(VLOOKUP($B13,[1]NUM3.1!$H$3:$M$74,5,FALSE),0) -> 9 | Q13: =SUM(E13:P13) -> 69 | R13: =IFERROR(VLOOKUP($B13,[1]DEN3.1!$H$3:$M$74,2,FALSE),0) -> 29 | S13: =IFERROR(VLOOKUP($B13,[1]DEN3.1!$H$3:$M$74,3,FALSE),0) -> 29 | T13: =IFERROR(VLOOKUP($B13,[1]DEN3.1!$H$3:$M$74,4,FALSE),0) -> 5 | U13: =IFERROR(VLOOKUP($B13,[1]DEN3.1!$H$3:$M$74,5,FALSE),0) -> 9 | AD13: =SUM(R13:AC13) -> 72
A14: 04201-ILLAPEL | B14: 105103-HOSPITAL ILLAPEL | C14: =+D14/Metas!H42 -> 1.0028149 | D14: =+Q14/AD14 -> 0.98275862 | E14: =IFERROR(VLOOKUP($B14,[1]NUM3.1!$H$3:$M$74,2,FALSE),0) -> 12 | F14: =IFERROR(VLOOKUP($B14,[1]NUM3.1!$H$3:$M$74,3,FALSE),0) -> 16 | G14: =IFERROR(VLOOKUP($B14,[1]NUM3.1!$H$3:$M$74,4,FALSE),0) -> 19 | H14: =IFERROR(VLOOKUP($B14,[1]NUM3.1!$H$3:$M$74,5,FALSE),0) -> 10 | Q14: =SUM(E14:P14) -> 57 | R14: =IFERROR(VLOOKUP($B14,[1]DEN3.1!$H$3:$M$74,2,FALSE),0) -> 13 | S14: =IFERROR(VLOOKUP($B14,[1]DEN3.1!$H$3:$M$74,3,FALSE),0) -> 16 | T14: =IFERROR(VLOOKUP($B14,[1]DEN3.1!$H$3:$M$74,4,FALSE),0) -> 19 | U14: =IFERROR(VLOOKUP($B14,[1]DEN3.1!$H$3:$M$74,5,FALSE),0) -> 10 | AD14: =SUM(R14:AC14) -> 58
A15: 04203-LOS VILOS | B15: 105108-HOSPITAL LOS VILOS | C15: =+D15/Metas!H43 -> 1.019368 | D15: =+Q15/AD15 -> 1 | E15: =IFERROR(VLOOKUP($B15,[1]NUM3.1!$H$3:$M$74,2,FALSE),0) -> 12 | F15: =IFERROR(VLOOKUP($B15,[1]NUM3.1!$H$3:$M$74,3,FALSE),0) -> 7 | G15: =IFERROR(VLOOKUP($B15,[1]NUM3.1!$H$3:$M$74,4,FALSE),0) -> 8 | H15: =IFERROR(VLOOKUP($B15,[1]NUM3.1!$H$3:$M$74,5,FALSE),0) -> 30 | Q15: =SUM(E15:P15) -> 57 | R15: =IFERROR(VLOOKUP($B15,[1]DEN3.1!$H$3:$M$74,2,FALSE),0) -> 12 | S15: =IFERROR(VLOOKUP($B15,[1]DEN3.1!$H$3:$M$74,3,FALSE),0) -> 7 | T15: =IFERROR(VLOOKUP($B15,[1]DEN3.1!$H$3:$M$74,4,FALSE),0) -> 8 | U15: =IFERROR(VLOOKUP($B15,[1]DEN3.1!$H$3:$M$74,5,FALSE),0) -> 30 | AD15: =SUM(R15:AC15) -> 57
A16: 04204-SALAMANCA | B16: 105104-HOSPITAL SALAMANCA | C16: =+D16/Metas!H44 -> 0.77287876 | D16: =+Q16/AD16 -> 0.75757576 | E16: =IFERROR(VLOOKUP($B16,[1]NUM3.1!$H$3:$M$74,2,FALSE),0) -> 4 | F16: =IFERROR(VLOOKUP($B16,[1]NUM3.1!$H$3:$M$74,3,FALSE),0) -> 6 | G16: =IFERROR(VLOOKUP($B16,[1]NUM3.1!$H$3:$M$74,4,FALSE),0) -> 14 | H16: =IFERROR(VLOOKUP($B16,[1]NUM3.1!$H$3:$M$74,5,FALSE),0) -> 1 | Q16: =SUM(E16:P16) -> 25 | R16: =IFERROR(VLOOKUP($B16,[1]DEN3.1!$H$3:$M$74,2,FALSE),0) -> 8 | S16: =IFERROR(VLOOKUP($B16,[1]DEN3.1!$H$3:$M$74,3,FALSE),0) -> 7 | T16: =IFERROR(VLOOKUP($B16,[1]DEN3.1!$H$3:$M$74,4,FALSE),0) -> 16 | U16: =IFERROR(VLOOKUP($B16,[1]DEN3.1!$H$3:$M$74,5,FALSE),0) -> 2 | AD16: =SUM(R16:AC16) -> 33
A17: 04302-COMBARBALÁ | B17: 105105-HOSPITAL COMBARBALA | C17: =+D17/Metas!H45 -> 1.0194719 | D17: =+Q17/AD17 -> 1 | E17: =IFERROR(VLOOKUP($B17,[1]NUM3.1!$H$3:$M$74,2,FALSE),0) -> 20 | F17: =IFERROR(VLOOKUP($B17,[1]NUM3.1!$H$3:$M$74,3,FALSE),0) -> 20 | G17: =IFERROR(VLOOKUP($B17,[1]NUM3.1!$H$3:$M$74,4,FALSE),0) -> 7 | H17: =IFERROR(VLOOKUP($B17,[1]NUM3.1!$H$3:$M$74,5,FALSE),0) -> 10 | Q17: =SUM(E17:P17) -> 57 | R17: =IFERROR(VLOOKUP($B17,[1]DEN3.1!$H$3:$M$74,2,FALSE),0) -> 20 | S17: =IFERROR(VLOOKUP($B17,[1]DEN3.1!$H$3:$M$74,3,FALSE),0) -> 20 | T17: =IFERROR(VLOOKUP($B17,[1]DEN3.1!$H$3:$M$74,4,FALSE),0) -> 7 | U17: =IFERROR(VLOOKUP($B17,[1]DEN3.1!$H$3:$M$74,5,FALSE),0) -> 10 | AD17: =SUM(R17:AC17) -> 57
B18: TOTAL HOSPITALES | E18: =SUM(E12:E17) -> 76 | F18: =SUM(F12:F17) -> 82 | G18: =SUM(G12:G17) -> 56 | H18: =SUM(H12:H17) -> 60 | I18: =SUM(I12:I17) -> 0 | J18: =SUM(J12:J17) -> 0 | K18: =SUM(K12:K17) -> 0 | L18: =SUM(L12:L17) -> 0 | ... AD18: =SUM(AD12:AD17) -> 286

Sheet META 5 
A1: COMUNA | B1: ESTABLECIMIENTO | C1: CUMPLIMIENTO | D1: Indicador | E1: META 5: TASA DE CONSULTAS DE MORBILIDAD Y CONTROLES MEDICOS POR HABITANTE/AÑO
E2: NUMERADOR | R2: DENOMINADOR
E10: Nº de consultas de morbilidad y controles médicos realizadas | R10: Población estimada
D11: Resultado | E11: ENERO | F11: FEBRERO | G11: MARZO | H11: ABRIL | I11: MAYO | J11: JUNIO | K11: JULIO | L11: AGOSTO | M11: SEPBRE | N11: OCTBRE | O11: NOVBRE | P11: DICBRE | Q11: TOTAL
A12: 04103-ANDACOLLO | B12: 105106-HOSPITAL ANDACOLLO | C12: =+D12/Metas!I40 -> 1.8093426 | D12: =+Q12/R12 -> 0.51566265 | E12: =VLOOKUP($B12,'[1]NUM 5 NUEVO '!$H$3:$M$162,2,FALSE) -> 831 | F12: =VLOOKUP($B12,'[1]NUM 5 NUEVO '!$H$3:$M$162,3,FALSE) -> 819 | G12: =VLOOKUP($B12,'[1]NUM 5 NUEVO '!$H$3:$M$162,4,FALSE) -> 1054 | H12: =VLOOKUP($B12,'[1]NUM 5 NUEVO '!$H$3:$M$162,5,FALSE) -> 1148 | Q12: =SUM(E12:P12) -> 3852 | R12: 7470
A13: 04106-VICUÑA | B13: 105107-HOSPITAL VICUÑA | C13: =+D13/Metas!I41 -> 1.6964711 | D13: =+Q13/R13 -> 0.38170599 | E13: =VLOOKUP($B13,'[1]NUM 5 NUEVO '!$H$3:$M$162,2,FALSE) -> 1547 | F13: =VLOOKUP($B13,'[1]NUM 5 NUEVO '!$H$3:$M$162,3,FALSE) -> 1467 | G13: =VLOOKUP($B13,'[1]NUM 5 NUEVO '!$H$3:$M$162,4,FALSE) -> 1080 | H13: =VLOOKUP($B13,'[1]NUM 5 NUEVO '!$H$3:$M$162,5,FALSE) -> 1164 | Q13: =SUM(E13:P13) -> 5258 | R13: 13775
A14: 04201-ILLAPEL | B14: 105103-HOSPITAL ILLAPEL | C14: =+D14/Metas!I42 -> 2.1752612 | D14: =+Q14/R14 -> 0.45680486 | E14: =VLOOKUP($B14,'[1]NUM 5 NUEVO '!$H$3:$M$162,2,FALSE) -> 2083 | F14: =VLOOKUP($B14,'[1]NUM 5 NUEVO '!$H$3:$M$162,3,FALSE) -> 1746 | G14: =VLOOKUP($B14,'[1]NUM 5 NUEVO '!$H$3:$M$162,4,FALSE) -> 2559 | H14: =VLOOKUP($B14,'[1]NUM 5 NUEVO '!$H$3:$M$162,5,FALSE) -> 2030 | Q14: =SUM(E14:P14) -> 8418 | R14: 18428
A15: 04203-LOS VILOS | B15: 105108-HOSPITAL LOS VILOS | C15: =+D15/Metas!I43 -> 2.2040635 | D15: =+Q15/R15 -> 0.59509715 | E15: =VLOOKUP($B15,'[1]NUM 5 NUEVO '!$H$3:$M$162,2,FALSE) -> 1731 | F15: =VLOOKUP($B15,'[1]NUM 5 NUEVO '!$H$3:$M$162,3,FALSE) -> 2006 | G15: =VLOOKUP($B15,'[1]NUM 5 NUEVO '!$H$3:$M$162,4,FALSE) -> 2322 | H15: =VLOOKUP($B15,'[1]NUM 5 NUEVO '!$H$3:$M$162,5,FALSE) -> 1782 | Q15: =SUM(E15:P15) -> 7841 | R15: 13176
A16: 04204-SALAMANCA | B16: 105104-HOSPITAL SALAMANCA | C16: =+D16/Metas!I44 -> 1.804173 | D16: =+Q16/R16 -> 0.43300153 | E16: =VLOOKUP($B16,'[1]NUM 5 NUEVO '!$H$3:$M$162,2,FALSE) -> 1566 | F16: =VLOOKUP($B16,'[1]NUM 5 NUEVO '!$H$3:$M$162,3,FALSE) -> 1451 | G16: =VLOOKUP($B16,'[1]NUM 5 NUEVO '!$H$3:$M$162,4,FALSE) -> 1331 | H16: =VLOOKUP($B16,'[1]NUM 5 NUEVO '!$H$3:$M$162,5,FALSE) -> 1307 | Q16: =SUM(E16:P16) -> 5655 | R16: 13060
A17: 04302-COMBARBALÁ | B17: 105105-HOSPITAL COMBARBALA | C17: =+D17/Metas!I45 -> 4.0107775 | D17: =+Q17/R17 -> 1.2032333 | E17: =VLOOKUP($B17,'[1]NUM 5 NUEVO '!$H$3:$M$162,2,FALSE) -> 1884 | F17: =VLOOKUP($B17,'[1]NUM 5 NUEVO '!$H$3:$M$162,3,FALSE) -> 1511 | G17: =VLOOKUP($B17,'[1]NUM 5 NUEVO '!$H$3:$M$162,4,FALSE) -> 1154 | H17: =VLOOKUP($B17,'[1]NUM 5 NUEVO '!$H$3:$M$162,5,FALSE) -> 1182 | Q17: =SUM(E17:P17) -> 5731 | R17: 4763
B18: TOTAL HOSPITALES | E18: =SUM(E12:E17) -> 9642 | F18: =SUM(F12:F17) -> 9000 | G18: =SUM(G12:G17) -> 9500 | H18: =SUM(H12:H17) -> 8613 | I18: =SUM(I12:I17) -> 0 | J18: =SUM(J12:J17) -> 0 | K18: =SUM(K12:K17) -> 0 | L18: =SUM(L12:L17) -> 0 | ... Q18: =SUM(Q12:Q17) -> 36755 | R18: =SUM(R12:S17) -> 70672

Sheet META 6
A1: COMUNA | B1: ESTABLECIMIENTO | C1: CUMPLIMIENTO | D1: Indicador | E1: META 6: SOLICITUDES DE INTERCONSULTAS A ESPECIALIDAD NIVEL SECUNDARIO DESDE LA APS
E2: NUMERADOR | R2: DENOMINADOR
E10: Nº de SIC a especialidad médica en el nivel secundario | R10: N° Total de Consultas y Controles Médicos en APS
D11: Resultado | E11: ENERO | F11: FEBRERO | G11: MARZO | H11: ABRIL | I11: MAYO | J11: JUNIO | K11: JULIO | L11: AGOSTO | M11: SEPBRE | N11: OCTBRE | O11: NOVBRE | P11: DICBRE | Q11: TOTAL | R11: ENERO | S11: FEBRERO | T11: MARZO | U11: ABRIL | V11: MAYO | W11: JUNIO | X11: JULIO | Y11: AGOSTO | Z11: SEPBRE | AA11: OCTBRE | AB11: NOVBRE | AC11: DICBRE | AD11: TOTAL
A12: 04103-ANDACOLLO | B12: 105106-HOSPITAL ANDACOLLO | C12: =Metas!J40/D12 -> 0.97766497 | D12: =+Q12/AD12 -> 0.10228453 | E12: =IFERROR(VLOOKUP($B12,[1]NUM6!$H$3:$M$138,2,FALSE),0) -> 84 | F12: =IFERROR(VLOOKUP($B12,[1]NUM6!$H$3:$M$138,3,FALSE),0) -> 93 | G12: =IFERROR(VLOOKUP($B12,[1]NUM6!$H$3:$M$138,4,FALSE),0) -> 129 | H12: =IFERROR(VLOOKUP($B12,[1]NUM6!$H$3:$M$138,5,FALSE),0) -> 88 | Q12: =SUM(E12:P12) -> 394 | R12: =VLOOKUP($B12,'[1]NUM 5 NUEVO '!$H$3:$M$162,2,FALSE) -> 831 | S12: =VLOOKUP($B12,'[1]NUM 5 NUEVO '!$H$3:$M$162,3,FALSE) -> 819 | T12: =VLOOKUP($B12,'[1]NUM 5 NUEVO '!$H$3:$M$162,4,FALSE) -> 1054 | U12: =VLOOKUP($B12,'[1]NUM 5 NUEVO '!$H$3:$M$162,5,FALSE) -> 1148 | AD12: =SUM(R12:AC12) -> 3852
A13: 04106-VICUÑA | B13: 105107-HOSPITAL VICUÑA | C13: =Metas!J41/D13 -> 0.96832413 | D13: =+Q13/AD13 -> 0.10327121 | E13: =IFERROR(VLOOKUP($B13,[1]NUM6!$H$3:$M$138,2,FALSE),0) -> 166 | F13: =IFERROR(VLOOKUP($B13,[1]NUM6!$H$3:$M$138,3,FALSE),0) -> 147 | G13: =IFERROR(VLOOKUP($B13,[1]NUM6!$H$3:$M$138,4,FALSE),0) -> 115 | H13: =IFERROR(VLOOKUP($B13,[1]NUM6!$H$3:$M$138,5,FALSE),0) -> 115 | Q13: =SUM(E13:P13) -> 543 | R13: =VLOOKUP($B13,'[1]NUM 5 NUEVO '!$H$3:$M$162,2,FALSE) -> 1547 | S13: =VLOOKUP($B13,'[1]NUM 5 NUEVO '!$H$3:$M$162,3,FALSE) -> 1467 | T13: =VLOOKUP($B13,'[1]NUM 5 NUEVO '!$H$3:$M$162,4,FALSE) -> 1080 | U13: =VLOOKUP($B13,'[1]NUM 5 NUEVO '!$H$3:$M$162,5,FALSE) -> 1164 | AD13: =SUM(R13:AC13) -> 5258
A14: 04201-ILLAPEL | B14: 105103-HOSPITAL ILLAPEL | C14: =Metas!J42/D14 -> 0.64407039 | D14: =+Q14/AD14 -> 0.15526253 | E14: =IFERROR(VLOOKUP($B14,[1]NUM6!$H$3:$M$138,2,FALSE),0) -> 545 | F14: =IFERROR(VLOOKUP($B14,[1]NUM6!$H$3:$M$138,3,FALSE),0) -> 429 | G14: =IFERROR(VLOOKUP($B14,[1]NUM6!$H$3:$M$138,4,FALSE),0) -> 162 | H14: =IFERROR(VLOOKUP($B14,[1]NUM6!$H$3:$M$138,5,FALSE),0) -> 171 | Q14: =SUM(E14:P14) -> 1307 | R14: =VLOOKUP($B14,'[1]NUM 5 NUEVO '!$H$3:$M$162,2,FALSE) -> 2083 | S14: =VLOOKUP($B14,'[1]NUM 5 NUEVO '!$H$3:$M$162,3,FALSE) -> 1746 | T14: =VLOOKUP($B14,'[1]NUM 5 NUEVO '!$H$3:$M$162,4,FALSE) -> 2559 | U14: =VLOOKUP($B14,'[1]NUM 5 NUEVO '!$H$3:$M$162,5,FALSE) -> 2030 | AD14: =SUM(R14:AC14) -> 8418
A15: 04203-LOS VILOS | B15: 105108-HOSPITAL LOS VILOS | C15: =Metas!J43/D15 -> 2.0260982 | D15: =+Q15/AD15 -> 0.049355949 | E15: =IFERROR(VLOOKUP($B15,[1]NUM6!$H$3:$M$138,2,FALSE),0) -> 131 | F15: =IFERROR(VLOOKUP($B15,[1]NUM6!$H$3:$M$138,3,FALSE),0) -> 142 | G15: =IFERROR(VLOOKUP($B15,[1]NUM6!$H$3:$M$138,4,FALSE),0) -> 14 | H15: =IFERROR(VLOOKUP($B15,[1]NUM6!$H$3:$M$138,5,FALSE),0) -> 100 | Q15: =SUM(E15:P15) -> 387 | R15: =VLOOKUP($B15,'[1]NUM 5 NUEVO '!$H$3:$M$162,2,FALSE) -> 1731 | S15: =VLOOKUP($B15,'[1]NUM 5 NUEVO '!$H$3:$M$162,3,FALSE) -> 2006 | T15: =VLOOKUP($B15,'[1]NUM 5 NUEVO '!$H$3:$M$162,4,FALSE) -> 2322 | U15: =VLOOKUP($B15,'[1]NUM 5 NUEVO '!$H$3:$M$162,5,FALSE) -> 1782 | AD15: =SUM(R15:AC15) -> 7841
A16: 04204-SALAMANCA | B16: 105104-HOSPITAL SALAMANCA | C16: =Metas!J44/D16 -> 0.99847512 | D16: =+Q16/AD16 -> 0.11016799 | E16: =IFERROR(VLOOKUP($B16,[1]NUM6!$H$3:$M$138,2,FALSE),0) -> 165 | F16: =IFERROR(VLOOKUP($B16,[1]NUM6!$H$3:$M$138,3,FALSE),0) -> 173 | G16: =IFERROR(VLOOKUP($B16,[1]NUM6!$H$3:$M$138,4,FALSE),0) -> 175 | H16: =IFERROR(VLOOKUP($B16,[1]NUM6!$H$3:$M$138,5,FALSE),0) -> 110 | Q16: =SUM(E16:P16) -> 623 | R16: =VLOOKUP($B16,'[1]NUM 5 NUEVO '!$H$3:$M$162,2,FALSE) -> 1566 | S16: =VLOOKUP($B16,'[1]NUM 5 NUEVO '!$H$3:$M$162,3,FALSE) -> 1451 | T16: =VLOOKUP($B16,'[1]NUM 5 NUEVO '!$H$3:$M$162,4,FALSE) -> 1331 | U16: =VLOOKUP($B16,'[1]NUM 5 NUEVO '!$H$3:$M$162,5,FALSE) -> 1307 | AD16: =SUM(R16:AC16) -> 5655
A17: 04302-COMBARBALÁ | B17: 105105-HOSPITAL COMBARBALA | C17: =Metas!J45/D17 -> 2.7290476 | D17: =+Q17/AD17 -> 0.03664282 | E17: =IFERROR(VLOOKUP($B17,[1]NUM6!$H$3:$M$138,2,FALSE),0) -> 76 | F17: =IFERROR(VLOOKUP($B17,[1]NUM6!$H$3:$M$138,3,FALSE),0) -> 48 | G17: =IFERROR(VLOOKUP($B17,[1]NUM6!$H$3:$M$138,4,FALSE),0) -> 44 | H17: =IFERROR(VLOOKUP($B17,[1]NUM6!$H$3:$M$138,5,FALSE),0) -> 42 | Q17: =SUM(E17:P17) -> 210 | R17: =VLOOKUP($B17,'[1]NUM 5 NUEVO '!$H$3:$M$162,2,FALSE) -> 1884 | S17: =VLOOKUP($B17,'[1]NUM 5 NUEVO '!$H$3:$M$162,3,FALSE) -> 1511 | T17: =VLOOKUP($B17,'[1]NUM 5 NUEVO '!$H$3:$M$162,4,FALSE) -> 1154 | U17: =VLOOKUP($B17,'[1]NUM 5 NUEVO '!$H$3:$M$162,5,FALSE) -> 1182 | AD17: =SUM(R17:AC17) -> 5731
B18: TOTAL HOSPITALES | E18: =SUM(E12:E17) -> 1167 | F18: =SUM(F12:F17) -> 1032 | G18: =SUM(G12:G17) -> 639 | H18: =SUM(H12:H17) -> 626 | I18: =SUM(I12:I17) -> 0 | J18: =SUM(J12:J17) -> 0 | K18: =SUM(K12:K17) -> 0 | L18: =SUM(L12:L17) -> 0 | ... AD18: =SUM(AD12:AD17) -> 36755

Sheet META 7
A1: COMUNA | B1: ESTABLECIMIENTO | C1: CUMPLIMIENTO | D1: Indicador | E1: META 7: TASA DE VISITA DOMICILIARIA INTEGRAL
E2: NUMERADOR | R2: DENOMINADOR
E10: Nº de visitas domiciliarias integrales realizadas | R10: Nº de familias (población estimada / 4)
D11: Resultado | E11: ENERO | F11: FEBRERO | G11: MARZO | H11: ABRIL | I11: MAYO | J11: JUNIO | K11: JULIO | L11: AGOSTO | M11: SEPBRE | N11: OCTBRE | O11: NOVBRE | P11: DICBRE | Q11: TOTAL
A12: 04103-ANDACOLLO | B12: 105106-HOSPITAL ANDACOLLO | C12: =+D12/Metas!K40 -> 1.1614972 | D12: =+Q12/R12 -> 0.1254417 | E12: =IFERROR(VLOOKUP($B12,[1]NUM7!$H$3:$M$147,2,FALSE),0) -> 85 | F12: =IFERROR(VLOOKUP($B12,[1]NUM7!$H$3:$M$147,3,FALSE),0) -> 57 | G12: =IFERROR(VLOOKUP($B12,[1]NUM7!$H$3:$M$147,4,FALSE),0) -> 68 | H12: =IFERROR(VLOOKUP($B12,[1]NUM7!$H$3:$M$147,5,FALSE),0) -> 74 | Q12: =SUM(E12:P12) -> 284 | R12: 2264
A13: 04106-VICUÑA | B13: 105107-HOSPITAL VICUÑA | C13: =+D13/Metas!K41 -> 1.0889925 | D13: =+Q13/R13 -> 0.035936751 | E13: =IFERROR(VLOOKUP($B13,[1]NUM7!$H$3:$M$147,2,FALSE),0) -> 44 | F13: =IFERROR(VLOOKUP($B13,[1]NUM7!$H$3:$M$147,3,FALSE),0) -> 32 | G13: =IFERROR(VLOOKUP($B13,[1]NUM7!$H$3:$M$147,4,FALSE),0) -> 37 | H13: =IFERROR(VLOOKUP($B13,[1]NUM7!$H$3:$M$147,5,FALSE),0) -> 37 | Q13: =SUM(E13:P13) -> 150 | R13: 4174
A14: 04201-ILLAPEL | B14: 105103-HOSPITAL ILLAPEL | C14: =+D14/Metas!K42 -> 1.9719725 | D14: =+Q14/R14 -> 0.085780802 | E14: =IFERROR(VLOOKUP($B14,[1]NUM7!$H$3:$M$147,2,FALSE),0) -> 129 | F14: =IFERROR(VLOOKUP($B14,[1]NUM7!$H$3:$M$147,3,FALSE),0) -> 162 | G14: =IFERROR(VLOOKUP($B14,[1]NUM7!$H$3:$M$147,4,FALSE),0) -> 109 | H14: =IFERROR(VLOOKUP($B14,[1]NUM7!$H$3:$M$147,5,FALSE),0) -> 79 | Q14: =SUM(E14:P14) -> 479 | R14: 5584
A15: 04203-LOS VILOS | B15: 105108-HOSPITAL LOS VILOS | C15: =+D15/Metas!K43 -> 3.2405194 | D15: =+Q15/R15 -> 0.10693714 | E15: =IFERROR(VLOOKUP($B15,[1]NUM7!$H$3:$M$147,2,FALSE),0) -> 81 | F15: =IFERROR(VLOOKUP($B15,[1]NUM7!$H$3:$M$147,3,FALSE),0) -> 92 | G15: =IFERROR(VLOOKUP($B15,[1]NUM7!$H$3:$M$147,4,FALSE),0) -> 164 | H15: =IFERROR(VLOOKUP($B15,[1]NUM7!$H$3:$M$147,5,FALSE),0) -> 90 | Q15: =SUM(E15:P15) -> 427 | R15: 3993
A16: 04204-SALAMANCA | B16: 105104-HOSPITAL SALAMANCA | C16: =+D16/Metas!K44 -> 0.21437212 | D16: =+Q16/R16 -> 0.0070742799 | E16: =IFERROR(VLOOKUP($B16,[1]NUM7!$H$3:$M$147,2,FALSE),0) -> 7 | F16: =IFERROR(VLOOKUP($B16,[1]NUM7!$H$3:$M$147,3,FALSE),0) -> 7 | G16: =IFERROR(VLOOKUP($B16,[1]NUM7!$H$3:$M$147,4,FALSE),0) -> 10 | H16: =IFERROR(VLOOKUP($B16,[1]NUM7!$H$3:$M$147,5,FALSE),0) -> 4 | Q16: =SUM(E16:P16) -> 28 | R16: 3958
A17: 04302-COMBARBALÁ | B17: 105105-HOSPITAL COMBARBALA | C17: =+D17/Metas!K45 -> 2.9025681 | D17: =+Q17/R17 -> 0.2002772 | E17: =IFERROR(VLOOKUP($B17,[1]NUM7!$H$3:$M$147,2,FALSE),0) -> 62 | F17: =IFERROR(VLOOKUP($B17,[1]NUM7!$H$3:$M$147,3,FALSE),0) -> 75 | G17: =IFERROR(VLOOKUP($B17,[1]NUM7!$H$3:$M$147,4,FALSE),0) -> 94 | H17: =IFERROR(VLOOKUP($B17,[1]NUM7!$H$3:$M$147,5,FALSE),0) -> 58 | Q17: =SUM(E17:P17) -> 289 | R17: 1443
B18: TOTAL HOSPITALES | E18: =SUM(E12:E17) -> 408 | F18: =SUM(F12:F17) -> 425 | G18: =SUM(G12:G17) -> 482 | H18: =SUM(H12:H17) -> 342 | I18: =SUM(I12:I17) -> 0 | J18: =SUM(J12:J17) -> 0 | K18: =SUM(K12:K17) -> 0 | L18: =SUM(L12:L17) -> 0 | ... Q18: =SUM(Q12:Q17) -> 1657 | R18: =SUM(R12:S17) -> 21416

Sheet META 8.1
A1: COMUNA | B1: ESTABLECIMIENTO | C1: CUMPLIMIENTO | D1: Indicador | E1: META 8.1: COBERTURA EXAMEN DE MEDICINA PREVENTIVA (EMP), EN HOMBRES DE 20 A 64 AÑOS
E2: NUMERADOR | R2: DENOMINADOR
E10: Nº Examen de Medicina Preventiva (EMP) realizado en población masculina de 20 a 64 años | R10: Población masculina de 20 a 64 años estimada, menos población bajo control en Programa Salud Cardiovascular | S10: Población masculina de 20 a 64 años bajo control en programa de salud cardiovascular | Y10: Población masculina de 20 a 64 años estimada | Z10: Ingresos de población masculina al PSCV de 20 y 64 años | AM10: Egresos de población masculina al PSCV de 20 y 64 años
D11: Resultado | E11: ENERO | F11: FEBRERO | G11: MARZO | H11: ABRIL | I11: MAYO | J11: JUNIO | K11: JULIO | L11: AGOSTO | M11: SEPBRE | N11: OCTBRE | O11: NOVBRE | P11: DICBRE | Q11: TOTAL | S11: A DIC 2016 | T11: A ABRIL | U11: A JUNIO | V11: A JULIO | W11: A OCTBRE | X11: A DICBRE | Y11: AÑO 2016 | Z11: ENERO | AA11: FEBRERO | AB11: MARZO | AC11: ABRIL | AD11: MAYO | AE11: JUNIO | AF11: JULIO | AG11: AGOSTO | AH11: SEPBRE | AI11: OCTBRE | AJ11: NOVBRE | AK11: DICBRE | AL11: TOTAL | AM11: ENERO | AN11: FEBRERO | AO11: MARZO | AP11: ABRIL | AQ11: MAYO | AR11: JUNIO | AS11: JULIO | AT11: AGOSTO | AU11: SEPBRE | AV11: OCTBRE | AW11: NOVBRE | AX11: DICBRE | AY11: TOTAL
A12: 04103-ANDACOLLO | B12: 105106-HOSPITAL ANDACOLLO | C12: =+D12/Metas!L40 -> 0.46175851 | D12: =+Q12/R12 -> 0.023549684 | E12: =IFERROR(VLOOKUP($B12,[1]NUM8.1!$H$3:$M$157,2,FALSE),0) -> 9 | F12: =IFERROR(VLOOKUP($B12,[1]NUM8.1!$H$3:$M$157,3,FALSE),0) -> 4 | G12: =IFERROR(VLOOKUP($B12,[1]NUM8.1!$H$3:$M$157,4,FALSE),0) -> 8 | H12: =IFERROR(VLOOKUP($B12,[1]NUM8.1!$H$3:$M$157,5,FALSE),0) -> 20 | Q12: =SUM(E12:P12) -> 41 | R12: =+Y12-T12 -> 1741 | S12: =IFERROR(VLOOKUP($B12,[1]DEN8.1!$H$3:$J$159,2,FALSE),0) -> 258 | T12: =+S12+(Z12+AA12+AB12+AC12)-(AM12+AN12+AO12+AP12) -> 268 | V12: =+U12+(AF12)-(AS12) -> 0 | W12: =+U12+(AF12+AG12+AH12+AI12)-(AS12+AT12+AU12+AV12) -> 0 | Y12: 2009 | Z12: =IFERROR(VLOOKUP($B12,'[1]ACT DEN8.1'!$H$3:$M$117,2,FALSE),0) -> 6 | AA12: =IFERROR(VLOOKUP($B12,'[1]ACT DEN8.1'!$H$3:$M$117,3,FALSE),0) -> 3 | AB12: =IFERROR(VLOOKUP($B12,'[1]ACT DEN8.1'!$H$3:$M$117,4,FALSE),0) -> 5 | AC12: =IFERROR(VLOOKUP($B12,'[1]ACT DEN8.1'!$H$3:$M$117,5,FALSE),0) -> 4 | AL12: =SUM(Z12:AK12) -> 18 | AM12: =IFERROR(VLOOKUP($B12,'[1]ACT DEN8.1'!$AA$3:$AF$90,2,FALSE),0) -> 3 | AN12: =IFERROR(VLOOKUP($B12,'[1]ACT DEN8.1'!$AA$3:$AF$90,3,FALSE),0) -> 1 | AO12: =IFERROR(VLOOKUP($B12,'[1]ACT DEN8.1'!$AA$3:$AF$90,4,FALSE),0) -> 1 | AP12: =IFERROR(VLOOKUP($B12,'[1]ACT DEN8.1'!$AA$3:$AF$90,5,FALSE),0) -> 3 | AY12: =SUM(AM12:AX12) -> 8
A13: 04106-VICUÑA | B13: 105107-HOSPITAL VICUÑA | C13: =+D13/Metas!L41 -> 0.6235682 | D13: =+Q13/R13 -> 0.012168933 | E13: =IFERROR(VLOOKUP($B13,[1]NUM8.1!$H$3:$M$157,2,FALSE),0) -> 11 | F13: =IFERROR(VLOOKUP($B13,[1]NUM8.1!$H$3:$M$157,3,FALSE),0) -> 6 | G13: =IFERROR(VLOOKUP($B13,[1]NUM8.1!$H$3:$M$157,4,FALSE),0) -> 10 | H13: =IFERROR(VLOOKUP($B13,[1]NUM8.1!$H$3:$M$157,5,FALSE),0) -> 7 | Q13: =SUM(E13:P13) -> 34 | R13: =+Y13-T13 -> 2794 | S13: =IFERROR(VLOOKUP($B13,[1]DEN8.1!$H$3:$J$159,2,FALSE),0) -> 341 | T13: =+S13+(Z13+AA13+AB13+AC13)-(AM13+AN13+AO13+AP13) -> 353 | V13: =+U13+(AF13)-(AS13) -> 0 | W13: =+U13+(AF13+AG13+AH13+AI13)-(AS13+AT13+AU13+AV13) -> 0 | Y13: 3147 | Z13: =IFERROR(VLOOKUP($B13,'[1]ACT DEN8.1'!$H$3:$M$117,2,FALSE),0) -> 3 | AA13: =IFERROR(VLOOKUP($B13,'[1]ACT DEN8.1'!$H$3:$M$117,3,FALSE),0) -> 2 | AB13: =IFERROR(VLOOKUP($B13,'[1]ACT DEN8.1'!$H$3:$M$117,4,FALSE),0) -> 4 | AC13: =IFERROR(VLOOKUP($B13,'[1]ACT DEN8.1'!$H$3:$M$117,5,FALSE),0) -> 3 | AL13: =SUM(Z13:AK13) -> 12 | AM13: =IFERROR(VLOOKUP($B13,'[1]ACT DEN8.1'!$AA$3:$AF$90,2,FALSE),0) -> 0 | AN13: =IFERROR(VLOOKUP($B13,'[1]ACT DEN8.1'!$AA$3:$AF$90,3,FALSE),0) -> 0 | AO13: =IFERROR(VLOOKUP($B13,'[1]ACT DEN8.1'!$AA$3:$AF$90,4,FALSE),0) -> 0 | AP13: =IFERROR(VLOOKUP($B13,'[1]ACT DEN8.1'!$AA$3:$AF$90,5,FALSE),0) -> 0 | AY13: =SUM(AM13:AX13) -> 0
A14: 04201-ILLAPEL | B14: 105103-HOSPITAL ILLAPEL | C14: =+D14/Metas!L42 -> 1.6951006 | D14: =+Q14/R14 -> 0.040682415 | E14: =IFERROR(VLOOKUP($B14,[1]NUM8.1!$H$3:$M$157,2,FALSE),0) -> 56 | F14: =IFERROR(VLOOKUP($B14,[1]NUM8.1!$H$3:$M$157,3,FALSE),0) -> 27 | G14: =IFERROR(VLOOKUP($B14,[1]NUM8.1!$H$3:$M$157,4,FALSE),0) -> 58 | H14: =IFERROR(VLOOKUP($B14,[1]NUM8.1!$H$3:$M$157,5,FALSE),0) -> 45 | Q14: =SUM(E14:P14) -> 186 | R14: =+Y14-T14 -> 4572 | S14: =IFERROR(VLOOKUP($B14,[1]DEN8.1!$H$3:$J$159,2,FALSE),0) -> 456 | T14: =+S14+(Z14+AA14+AB14+AC14)-(AM14+AN14+AO14+AP14) -> 453 | V14: =+U14+(AF14)-(AS14) -> 0 | W14: =+U14+(AF14+AG14+AH14+AI14)-(AS14+AT14+AU14+AV14) -> 0 | Y14: 5025 | Z14: =IFERROR(VLOOKUP($B14,'[1]ACT DEN8.1'!$H$3:$M$117,2,FALSE),0) -> 5 | AA14: =IFERROR(VLOOKUP($B14,'[1]ACT DEN8.1'!$H$3:$M$117,3,FALSE),0) -> 2 | AB14: =IFERROR(VLOOKUP($B14,'[1]ACT DEN8.1'!$H$3:$M$117,4,FALSE),0) -> 1 | AC14: =IFERROR(VLOOKUP($B14,'[1]ACT DEN8.1'!$H$3:$M$117,5,FALSE),0) -> 2 | AL14: =SUM(Z14:AK14) -> 10 | AM14: =IFERROR(VLOOKUP($B14,'[1]ACT DEN8.1'!$AA$3:$AF$90,2,FALSE),0) -> 4 | AN14: =IFERROR(VLOOKUP($B14,'[1]ACT DEN8.1'!$AA$3:$AF$90,3,FALSE),0) -> 3 | AO14: =IFERROR(VLOOKUP($B14,'[1]ACT DEN8.1'!$AA$3:$AF$90,4,FALSE),0) -> 6 | AP14: =IFERROR(VLOOKUP($B14,'[1]ACT DEN8.1'!$AA$3:$AF$90,5,FALSE),0) -> 0 | AY14: =SUM(AM14:AX14) -> 13
A15: 04203-LOS VILOS | B15: 105108-HOSPITAL LOS VILOS | C15: =+D15/Metas!L43 -> 0.64363574 | D15: =+Q15/R15 -> 0.012570206 | E15: =IFERROR(VLOOKUP($B15,[1]NUM8.1!$H$3:$M$157,2,FALSE),0) -> 6 | F15: =IFERROR(VLOOKUP($B15,[1]NUM8.1!$H$3:$M$157,3,FALSE),0) -> 5 | G15: =IFERROR(VLOOKUP($B15,[1]NUM8.1!$H$3:$M$157,4,FALSE),0) -> 28 | H15: =IFERROR(VLOOKUP($B15,[1]NUM8.1!$H$3:$M$157,5,FALSE),0) -> 8 | Q15: =SUM(E15:P15) -> 47 | R15: =+Y15-T15 -> 3739 | S15: =IFERROR(VLOOKUP($B15,[1]DEN8.1!$H$3:$J$159,2,FALSE),0) -> 357 | T15: =+S15+(Z15+AA15+AB15+AC15)-(AM15+AN15+AO15+AP15) -> 358 | V15: =+U15+(AF15)-(AS15) -> 0 | W15: =+U15+(AF15+AG15+AH15+AI15)-(AS15+AT15+AU15+AV15) -> 0 | Y15: 4097 | Z15: =IFERROR(VLOOKUP($B15,'[1]ACT DEN8.1'!$H$3:$M$117,2,FALSE),0) -> 3 | AA15: =IFERROR(VLOOKUP($B15,'[1]ACT DEN8.1'!$H$3:$M$117,3,FALSE),0) -> 2 | AB15: =IFERROR(VLOOKUP($B15,'[1]ACT DEN8.1'!$H$3:$M$117,4,FALSE),0) -> 5 | AC15: =IFERROR(VLOOKUP($B15,'[1]ACT DEN8.1'!$H$3:$M$117,5,FALSE),0) -> 5 | AL15: =SUM(Z15:AK15) -> 15 | AM15: =IFERROR(VLOOKUP($B15,'[1]ACT DEN8.1'!$AA$3:$AF$90,2,FALSE),0) -> 3 | AN15: =IFERROR(VLOOKUP($B15,'[1]ACT DEN8.1'!$AA$3:$AF$90,3,FALSE),0) -> 6 | AO15: =IFERROR(VLOOKUP($B15,'[1]ACT DEN8.1'!$AA$3:$AF$90,4,FALSE),0) -> 5 | AP15: =IFERROR(VLOOKUP($B15,'[1]ACT DEN8.1'!$AA$3:$AF$90,5,FALSE),0) -> 0 | AY15: =SUM(AM15:AX15) -> 14
A16: 04204-SALAMANCA | B16: 105104-HOSPITAL SALAMANCA | C16: =+D16/Metas!L44 -> 0.72349351 | D16: =+Q16/R16 -> 0.014118976 | E16: =IFERROR(VLOOKUP($B16,[1]NUM8.1!$H$3:$M$157,2,FALSE),0) -> 25 | F16: =IFERROR(VLOOKUP($B16,[1]NUM8.1!$H$3:$M$157,3,FALSE),0) -> 7 | G16: =IFERROR(VLOOKUP($B16,[1]NUM8.1!$H$3:$M$157,4,FALSE),0) -> 19 | H16: =IFERROR(VLOOKUP($B16,[1]NUM8.1!$H$3:$M$157,5,FALSE),0) -> 24 | Q16: =SUM(E16:P16) -> 75 | R16: =+Y16-T16 -> 5312 | S16: =IFERROR(VLOOKUP($B16,[1]DEN8.1!$H$3:$J$159,2,FALSE),0) -> 239 | T16: =+S16+(Z16+AA16+AB16+AC16)-(AM16+AN16+AO16+AP16) -> 255 | V16: =+U16+(AF16)-(AS16) -> 0 | W16: =+U16+(AF16+AG16+AH16+AI16)-(AS16+AT16+AU16+AV16) -> 0 | Y16: 5567 | Z16: =IFERROR(VLOOKUP($B16,'[1]ACT DEN8.1'!$H$3:$M$117,2,FALSE),0) -> 11 | AA16: =IFERROR(VLOOKUP($B16,'[1]ACT DEN8.1'!$H$3:$M$117,3,FALSE),0) -> 6 | AB16: =IFERROR(VLOOKUP($B16,'[1]ACT DEN8.1'!$H$3:$M$117,4,FALSE),0) -> 5 | AC16: =IFERROR(VLOOKUP($B16,'[1]ACT DEN8.1'!$H$3:$M$117,5,FALSE),0) -> 5 | AL16: =SUM(Z16:AK16) -> 27 | AM16: =IFERROR(VLOOKUP($B16,'[1]ACT DEN8.1'!$AA$3:$AF$90,2,FALSE),0) -> 0 | AN16: =IFERROR(VLOOKUP($B16,'[1]ACT DEN8.1'!$AA$3:$AF$90,3,FALSE),0) -> 4 | AO16: =IFERROR(VLOOKUP($B16,'[1]ACT DEN8.1'!$AA$3:$AF$90,4,FALSE),0) -> 6 | AP16: =IFERROR(VLOOKUP($B16,'[1]ACT DEN8.1'!$AA$3:$AF$90,5,FALSE),0) -> 1 | AY16: =SUM(AM16:AX16) -> 11
A17: 04302-COMBARBALÁ | B17: 105105-HOSPITAL COMBARBALA | C17: =+D17/Metas!L45 -> 2.1888006 | D17: =+Q17/R17 -> 0.049445005 | E17: =IFERROR(VLOOKUP($B17,[1]NUM8.1!$H$3:$M$157,2,FALSE),0) -> 29 | F17: =IFERROR(VLOOKUP($B17,[1]NUM8.1!$H$3:$M$157,3,FALSE),0) -> 5 | G17: =IFERROR(VLOOKUP($B17,[1]NUM8.1!$H$3:$M$157,4,FALSE),0) -> 10 | H17: =IFERROR(VLOOKUP($B17,[1]NUM8.1!$H$3:$M$157,5,FALSE),0) -> 5 | Q17: =SUM(E17:P17) -> 49 | R17: =+Y17-T17 -> 991 | S17: =IFERROR(VLOOKUP($B17,[1]DEN8.1!$H$3:$J$159,2,FALSE),0) -> 206 | T17: =+S17+(Z17+AA17+AB17+AC17)-(AM17+AN17+AO17+AP17) -> 211 | V17: =+U17+(AF17)-(AS17) -> 0 | W17: =+U17+(AF17+AG17+AH17+AI17)-(AS17+AT17+AU17+AV17) -> 0 | Y17: 1202 | Z17: =IFERROR(VLOOKUP($B17,'[1]ACT DEN8.1'!$H$3:$M$117,2,FALSE),0) -> 5 | AA17: =IFERROR(VLOOKUP($B17,'[1]ACT DEN8.1'!$H$3:$M$117,3,FALSE),0) -> 5 | AB17: =IFERROR(VLOOKUP($B17,'[1]ACT DEN8.1'!$H$3:$M$117,4,FALSE),0) -> 2 | AC17: =IFERROR(VLOOKUP($B17,'[1]ACT DEN8.1'!$H$3:$M$117,5,FALSE),0) -> 2 | AL17: =SUM(Z17:AK17) -> 14 | AM17: =IFERROR(VLOOKUP($B17,'[1]ACT DEN8.1'!$AA$3:$AF$90,2,FALSE),0) -> 2 | AN17: =IFERROR(VLOOKUP($B17,'[1]ACT DEN8.1'!$AA$3:$AF$90,3,FALSE),0) -> 0 | AO17: =IFERROR(VLOOKUP($B17,'[1]ACT DEN8.1'!$AA$3:$AF$90,4,FALSE),0) -> 6 | AP17: =IFERROR(VLOOKUP($B17,'[1]ACT DEN8.1'!$AA$3:$AF$90,5,FALSE),0) -> 1 | AY17: =SUM(AM17:AX17) -> 9
B18: TOTAL HOSPITALES | E18: =SUM(E12:E17) -> 136 | F18: =SUM(F12:F17) -> 54 | G18: =SUM(G12:G17) -> 133 | H18: =SUM(H12:H17) -> 109 | I18: =SUM(I12:I17) -> 0 | J18: =SUM(J12:J17) -> 0 | K18: =SUM(K12:K17) -> 0 | L18: =SUM(L12:L17) -> 0 | ... AY18: =SUM(AY12:AY17) -> 55

Sheet META 8.2
A1: COMUNA | B1: ESTABLECIMIENTO | C1: CUMPLIMIENTO | D1: Indicador | E1: META 8.2: COBERTURA EXAMEN DE MEDICINA PREVENTIVA (EMP), EN MUJERES DE 45 A 64 AÑOS
E2: NUMERADOR | R2: DENOMINADOR
E10: Nº Examen de Medicina Preventiva (EMP) realizado en población femenina de 45 a 64 años | R10: Población femenina de 45 a 64 años estimada, menos población bajo control en Programa Salud Cardiovascular | S10: Población femenina de 45 a 64 años bajo control en Programa Salud Cardiovascular | Y10: Población femenina de 45 a 64 años estimada | Z10: Ingresos de población femenina al PSCV de 45 y 65 años | AM10: Egresos de población Femenina al PSCV de 45 a 65 años
D11: Resultado | E11: ENERO | F11: FEBRERO | G11: MARZO | H11: ABRIL | I11: MAYO | J11: JUNIO | K11: JULIO | L11: AGOSTO | M11: SEPBRE | N11: OCTBRE | O11: NOVBRE | P11: DICBRE | Q11: TOTAL | S11: A DIC 2016 | T11: A ABRIL | U11: A JUNIO | V11: A JULIO | W11: A OCTBRE | X11: A DICBRE | Y11: AÑO 2016 | Z11: ENERO | AA11: FEBRERO | AB11: MARZO | AC11: ABRIL | AD11: MAYO | AE11: JUNIO | AF11: JULIO | AG11: AGOSTO | AH11: SEPBRE | AI11: OCTBRE | AJ11: NOVBRE | AK11: DICBRE | AL11: TOTAL | AM11: ENERO | AN11: FEBRERO | AO11: MARZO | AP11: ABRIL | AQ11: MAYO | AR11: JUNIO | AS11: JULIO | AT11: AGOSTO | AU11: SEPBRE | AV11: OCTBRE | AW11: NOVBRE | AX11: DICBRE | AY11: TOTAL
A12: 04103-ANDACOLLO | B12: 105106-HOSPITAL ANDACOLLO | C12: =+D12/Metas!M40 -> 2.2463448 | D12: =+Q12/R12 -> 0.10785824 | E12: =IFERROR(VLOOKUP($B12,[1]NUM8.2!$H$3:$M$157,2,FALSE),0) -> 16 | F12: =IFERROR(VLOOKUP($B12,[1]NUM8.2!$H$3:$M$157,3,FALSE),0) -> 17 | G12: =IFERROR(VLOOKUP($B12,[1]NUM8.2!$H$3:$M$157,4,FALSE),0) -> 11 | H12: =IFERROR(VLOOKUP($B12,[1]NUM8.2!$H$3:$M$157,5,FALSE),0) -> 26 | Q12: =SUM(E12:P12) -> 70 | R12: =+Y12-T12 -> 649 | S12: =IFERROR(VLOOKUP($B12,[2]DEN8.2!$H$3:$J$159,2,FALSE),0) -> 378 | T12: =+S12+(Z12+AA12+AB12+AC12)-(AM12+AN12+AO12+AP12) -> 385 | V12: =+U12+(AF12)-(AS12) -> 0 | W12: =+U12+(AF12+AG12+AH12+AI12)-(AS12+AT12+AU12+AV12) -> 0 | Y12: 1034 | Z12: =IFERROR(VLOOKUP($B12,'[1]ACT DEN8.2'!$H$3:$M$117,2,FALSE),0) -> 1 | AA12: =IFERROR(VLOOKUP($B12,'[1]ACT DEN8.2'!$H$3:$M$117,3,FALSE),0) -> 2 | AB12: =IFERROR(VLOOKUP($B12,'[1]ACT DEN8.2'!$H$3:$M$117,4,FALSE),0) -> 5 | AC12: =IFERROR(VLOOKUP($B12,'[1]ACT DEN8.2'!$H$3:$M$117,5,FALSE),0) -> 5 | AL12: =SUM(Z12:AK12) -> 13 | AM12: =IFERROR(VLOOKUP($B12,'[1]ACT DEN8.2'!$AA$3:$AF$90,2,FALSE),0) -> 1 | AN12: =IFERROR(VLOOKUP($B12,'[1]ACT DEN8.2'!$AA$3:$AF$90,3,FALSE),0) -> 1 | AO12: =IFERROR(VLOOKUP($B12,'[1]ACT DEN8.2'!$AA$3:$AF$90,4,FALSE),0) -> 4 | AP12: =IFERROR(VLOOKUP($B12,'[1]ACT DEN8.2'!$AA$3:$AF$90,5,FALSE),0) -> 0 | AY12: =SUM(AM12:AX12) -> 6
A13: 04106-VICUÑA | B13: 105107-HOSPITAL VICUÑA | C13: =+D13/Metas!M41 -> 0.76611841 | D13: =+Q13/R13 -> 0.029878618 | E13: =IFERROR(VLOOKUP($B13,[1]NUM8.2!$H$3:$M$157,2,FALSE),0) -> 11 | F13: =IFERROR(VLOOKUP($B13,[1]NUM8.2!$H$3:$M$157,3,FALSE),0) -> 6 | G13: =IFERROR(VLOOKUP($B13,[1]NUM8.2!$H$3:$M$157,4,FALSE),0) -> 13 | H13: =IFERROR(VLOOKUP($B13,[1]NUM8.2!$H$3:$M$157,5,FALSE),0) -> 2 | Q13: =SUM(E13:P13) -> 32 | R13: =+Y13-T13 -> 1071 | S13: =IFERROR(VLOOKUP($B13,[2]DEN8.2!$H$3:$J$159,2,FALSE),0) -> 586 | T13: =+S13+(Z13+AA13+AB13+AC13)-(AM13+AN13+AO13+AP13) -> 611 | V13: =+U13+(AF13)-(AS13) -> 0 | W13: =+U13+(AF13+AG13+AH13+AI13)-(AS13+AT13+AU13+AV13) -> 0 | Y13: 1682 | Z13: =IFERROR(VLOOKUP($B13,'[1]ACT DEN8.2'!$H$3:$M$117,2,FALSE),0) -> 5 | AA13: =IFERROR(VLOOKUP($B13,'[1]ACT DEN8.2'!$H$3:$M$117,3,FALSE),0) -> 5 | AB13: =IFERROR(VLOOKUP($B13,'[1]ACT DEN8.2'!$H$3:$M$117,4,FALSE),0) -> 10 | AC13: =IFERROR(VLOOKUP($B13,'[1]ACT DEN8.2'!$H$3:$M$117,5,FALSE),0) -> 5 | AL13: =SUM(Z13:AK13) -> 25 | AM13: =IFERROR(VLOOKUP($B13,'[1]ACT DEN8.2'!$AA$3:$AF$90,2,FALSE),0) -> 0 | AN13: =IFERROR(VLOOKUP($B13,'[1]ACT DEN8.2'!$AA$3:$AF$90,3,FALSE),0) -> 0 | AO13: =IFERROR(VLOOKUP($B13,'[1]ACT DEN8.2'!$AA$3:$AF$90,4,FALSE),0) -> 0 | AP13: =IFERROR(VLOOKUP($B13,'[1]ACT DEN8.2'!$AA$3:$AF$90,5,FALSE),0) -> 0 | AY13: =SUM(AM13:AX13) -> 0
A14: 04201-ILLAPEL | B14: 105103-HOSPITAL ILLAPEL | C14: =+D14/Metas!M42 -> 1.4026382 | D14: =+Q14/R14 -> 0.05466081 | E14: =IFERROR(VLOOKUP($B14,[1]NUM8.2!$H$3:$M$157,2,FALSE),0) -> 25 | F14: =IFERROR(VLOOKUP($B14,[1]NUM8.2!$H$3:$M$157,3,FALSE),0) -> 34 | G14: =IFERROR(VLOOKUP($B14,[1]NUM8.2!$H$3:$M$157,4,FALSE),0) -> 26 | H14: =IFERROR(VLOOKUP($B14,[1]NUM8.2!$H$3:$M$157,5,FALSE),0) -> 27 | Q14: =SUM(E14:P14) -> 112 | R14: =+Y14-T14 -> 2049 | S14: =IFERROR(VLOOKUP($B14,[2]DEN8.2!$H$3:$J$159,2,FALSE),0) -> 516 | T14: =+S14+(Z14+AA14+AB14+AC14)-(AM14+AN14+AO14+AP14) -> 526 | V14: =+U14+(AF14)-(AS14) -> 0 | W14: =+U14+(AF14+AG14+AH14+AI14)-(AS14+AT14+AU14+AV14) -> 0 | Y14: 2575 | Z14: =IFERROR(VLOOKUP($B14,'[1]ACT DEN8.2'!$H$3:$M$117,2,FALSE),0) -> 5 | AA14: =IFERROR(VLOOKUP($B14,'[1]ACT DEN8.2'!$H$3:$M$117,3,FALSE),0) -> 4 | AB14: =IFERROR(VLOOKUP($B14,'[1]ACT DEN8.2'!$H$3:$M$117,4,FALSE),0) -> 11 | AC14: =IFERROR(VLOOKUP($B14,'[1]ACT DEN8.2'!$H$3:$M$117,5,FALSE),0) -> 2 | AL14: =SUM(Z14:AK14) -> 22 | AM14: =IFERROR(VLOOKUP($B14,'[1]ACT DEN8.2'!$AA$3:$AF$90,2,FALSE),0) -> 6 | AN14: =IFERROR(VLOOKUP($B14,'[1]ACT DEN8.2'!$AA$3:$AF$90,3,FALSE),0) -> 0 | AO14: =IFERROR(VLOOKUP($B14,'[1]ACT DEN8.2'!$AA$3:$AF$90,4,FALSE),0) -> 6 | AP14: =IFERROR(VLOOKUP($B14,'[1]ACT DEN8.2'!$AA$3:$AF$90,5,FALSE),0) -> 0 | AY14: =SUM(AM14:AX14) -> 12
A15: 04203-LOS VILOS | B15: 105108-HOSPITAL LOS VILOS | C15: =+D15/Metas!M43 -> 0.62998745 | D15: =+Q15/R15 -> 0.024626209 | E15: =IFERROR(VLOOKUP($B15,[1]NUM8.2!$H$3:$M$157,2,FALSE),0) -> 5 | F15: =IFERROR(VLOOKUP($B15,[1]NUM8.2!$H$3:$M$157,3,FALSE),0) -> 1 | G15: =IFERROR(VLOOKUP($B15,[1]NUM8.2!$H$3:$M$157,4,FALSE),0) -> 18 | H15: =IFERROR(VLOOKUP($B15,[1]NUM8.2!$H$3:$M$157,5,FALSE),0) -> 4 | Q15: =SUM(E15:P15) -> 28 | R15: =+Y15-T15 -> 1137 | S15: =IFERROR(VLOOKUP($B15,[2]DEN8.2!$H$3:$J$159,2,FALSE),0) -> 519 | T15: =+S15+(Z15+AA15+AB15+AC15)-(AM15+AN15+AO15+AP15) -> 510 | V15: =+U15+(AF15)-(AS15) -> 0 | W15: =+U15+(AF15+AG15+AH15+AI15)-(AS15+AT15+AU15+AV15) -> 0 | Y15: 1647 | Z15: =IFERROR(VLOOKUP($B15,'[1]ACT DEN8.2'!$H$3:$M$117,2,FALSE),0) -> 4 | AA15: =IFERROR(VLOOKUP($B15,'[1]ACT DEN8.2'!$H$3:$M$117,3,FALSE),0) -> 1 | AB15: =IFERROR(VLOOKUP($B15,'[1]ACT DEN8.2'!$H$3:$M$117,4,FALSE),0) -> 4 | AC15: =IFERROR(VLOOKUP($B15,'[1]ACT DEN8.2'!$H$3:$M$117,5,FALSE),0) -> 4 | AL15: =SUM(Z15:AK15) -> 13 | AM15: =IFERROR(VLOOKUP($B15,'[1]ACT DEN8.2'!$AA$3:$AF$90,2,FALSE),0) -> 3 | AN15: =IFERROR(VLOOKUP($B15,'[1]ACT DEN8.2'!$AA$3:$AF$90,3,FALSE),0) -> 5 | AO15: =IFERROR(VLOOKUP($B15,'[1]ACT DEN8.2'!$AA$3:$AF$90,4,FALSE),0) -> 7 | AP15: =IFERROR(VLOOKUP($B15,'[1]ACT DEN8.2'!$AA$3:$AF$90,5,FALSE),0) -> 7 | AY15: =SUM(AM15:AX15) -> 22
A16: 04204-SALAMANCA | B16: 105104-HOSPITAL SALAMANCA | C16: =+D16/Metas!M44 -> 2.2102099 | D16: =+Q16/R16 -> 0.086065574 | E16: =IFERROR(VLOOKUP($B16,[1]NUM8.2!$H$3:$M$157,2,FALSE),0) -> 36 | F16: =IFERROR(VLOOKUP($B16,[1]NUM8.2!$H$3:$M$157,3,FALSE),0) -> 6 | G16: =IFERROR(VLOOKUP($B16,[1]NUM8.2!$H$3:$M$157,4,FALSE),0) -> 5 | H16: =IFERROR(VLOOKUP($B16,[1]NUM8.2!$H$3:$M$157,5,FALSE),0) -> 16 | Q16: =SUM(E16:P16) -> 63 | R16: =+Y16-T16 -> 732 | S16: =IFERROR(VLOOKUP($B16,[2]DEN8.2!$H$3:$J$159,2,FALSE),0) -> 507 | T16: =+S16+(Z16+AA16+AB16+AC16)-(AM16+AN16+AO16+AP16) -> 503 | V16: =+U16+(AF16)-(AS16) -> 0 | W16: =+U16+(AF16+AG16+AH16+AI16)-(AS16+AT16+AU16+AV16) -> 0 | Y16: 1235 | Z16: =IFERROR(VLOOKUP($B16,'[1]ACT DEN8.2'!$H$3:$M$117,2,FALSE),0) -> 9 | AA16: =IFERROR(VLOOKUP($B16,'[1]ACT DEN8.2'!$H$3:$M$117,3,FALSE),0) -> 6 | AB16: =IFERROR(VLOOKUP($B16,'[1]ACT DEN8.2'!$H$3:$M$117,4,FALSE),0) -> 8 | AC16: =IFERROR(VLOOKUP($B16,'[1]ACT DEN8.2'!$H$3:$M$117,5,FALSE),0) -> 4 | AL16: =SUM(Z16:AK16) -> 27 | AM16: =IFERROR(VLOOKUP($B16,'[1]ACT DEN8.2'!$AA$3:$AF$90,2,FALSE),0) -> 22 | AN16: =IFERROR(VLOOKUP($B16,'[1]ACT DEN8.2'!$AA$3:$AF$90,3,FALSE),0) -> 1 | AO16: =IFERROR(VLOOKUP($B16,'[1]ACT DEN8.2'!$AA$3:$AF$90,4,FALSE),0) -> 1 | AP16: =IFERROR(VLOOKUP($B16,'[1]ACT DEN8.2'!$AA$3:$AF$90,5,FALSE),0) -> 7 | AY16: =SUM(AM16:AX16) -> 31
A17: 04302-COMBARBALÁ | B17: 105105-HOSPITAL COMBARBALA | C17: =+D17/Metas!M45 -> 0.48106157 | D17: =+Q17/R17 -> 0.02016129 | E17: =IFERROR(VLOOKUP($B17,[1]NUM8.2!$H$3:$M$157,2,FALSE),0) -> 2 | F17: =IFERROR(VLOOKUP($B17,[1]NUM8.2!$H$3:$M$157,3,FALSE),0) -> 4 | G17: =IFERROR(VLOOKUP($B17,[1]NUM8.2!$H$3:$M$157,4,FALSE),0) -> 3 | H17: =IFERROR(VLOOKUP($B17,[1]NUM8.2!$H$3:$M$157,5,FALSE),0) -> 1 | Q17: =SUM(E17:P17) -> 10 | R17: =+Y17-T17 -> 496 | S17: =IFERROR(VLOOKUP($B17,[2]DEN8.2!$H$3:$J$159,2,FALSE),0) -> 261 | T17: =+S17+(Z17+AA17+AB17+AC17)-(AM17+AN17+AO17+AP17) -> 266 | V17: =+U17+(AF17)-(AS17) -> 0 | W17: =+U17+(AF17+AG17+AH17+AI17)-(AS17+AT17+AU17+AV17) -> 0 | Y17: 762 | Z17: =IFERROR(VLOOKUP($B17,'[1]ACT DEN8.2'!$H$3:$M$117,2,FALSE),0) -> 2 | AA17: =IFERROR(VLOOKUP($B17,'[1]ACT DEN8.2'!$H$3:$M$117,3,FALSE),0) -> 2 | AB17: =IFERROR(VLOOKUP($B17,'[1]ACT DEN8.2'!$H$3:$M$117,4,FALSE),0) -> 2 | AC17: =IFERROR(VLOOKUP($B17,'[1]ACT DEN8.2'!$H$3:$M$117,5,FALSE),0) -> 7 | AL17: =SUM(Z17:AK17) -> 13 | AM17: =IFERROR(VLOOKUP($B17,'[1]ACT DEN8.2'!$AA$3:$AF$90,2,FALSE),0) -> 4 | AN17: =IFERROR(VLOOKUP($B17,'[1]ACT DEN8.2'!$AA$3:$AF$90,3,FALSE),0) -> 0 | AO17: =IFERROR(VLOOKUP($B17,'[1]ACT DEN8.2'!$AA$3:$AF$90,4,FALSE),0) -> 4 | AP17: =IFERROR(VLOOKUP($B17,'[1]ACT DEN8.2'!$AA$3:$AF$90,5,FALSE),0) -> 0 | AY17: =SUM(AM17:AX17) -> 8
B18: TOTAL HOSPITALES | E18: =SUM(E12:E17) -> 95 | F18: =SUM(F12:F17) -> 68 | G18: =SUM(G12:G17) -> 76 | H18: =SUM(H12:H17) -> 76 | I18: =SUM(I12:I17) -> 0 | J18: =SUM(J12:J17) -> 0 | K18: =SUM(K12:K17) -> 0 | L18: =SUM(L12:L17) -> 0 | ... AY18: =SUM(AY12:AY17) -> 79

Sheet META 8.3
A1: COMUNA | B1: ESTABLECIMIENTO | C1: CUMPLIMIENTO | D1: Indicador | E1: META 8.3: COBERTURA EXAMEN DE MEDICINA PREVENTIVA (EMPAM) EN PERSONAS DE 65 AÑOS Y MÁS
E2: NUMERADOR | R2: DENOMINADOR
E10: N° de adultos de 65 y más años con Examen de Medicina Preventiva | R10: Nº de adultos de 65 y más años estimados
D11: Resultado | E11: ENERO | F11: FEBRERO | G11: MARZO | H11: ABRIL | I11: MAYO | J11: JUNIO | K11: JULIO | L11: AGOSTO | M11: SEPBRE | N11: OCTBRE | O11: NOVBRE | P11: DICBRE | Q11: TOTAL
A12: 04103-ANDACOLLO | B12: 105106-HOSPITAL ANDACOLLO | C12: =+D12/Metas!N40 -> 2.1666039 | D12: =+Q12/R12 -> 0.13002874 | E12: =IFERROR(VLOOKUP($B12,[1]NUM8.3!$H$3:$M$157,2,FALSE),0) -> 51 | F12: =IFERROR(VLOOKUP($B12,[1]NUM8.3!$H$3:$M$157,3,FALSE),0) -> 47 | G12: =IFERROR(VLOOKUP($B12,[1]NUM8.3!$H$3:$M$157,4,FALSE),0) -> 51 | H12: =IFERROR(VLOOKUP($B12,[1]NUM8.3!$H$3:$M$157,5,FALSE),0) -> 32 | Q12: =SUM(E12:P12) -> 181 | R12: 1392
A13: 04106-VICUÑA | B13: 105107-HOSPITAL VICUÑA | C13: =+D13/Metas!N41 -> 0.70693706 | D13: =+Q13/R13 -> 0.042437432 | E13: =IFERROR(VLOOKUP($B13,[1]NUM8.3!$H$3:$M$157,2,FALSE),0) -> 44 | F13: =IFERROR(VLOOKUP($B13,[1]NUM8.3!$H$3:$M$157,3,FALSE),0) -> 5 | G13: =IFERROR(VLOOKUP($B13,[1]NUM8.3!$H$3:$M$157,4,FALSE),0) -> 24 | H13: =IFERROR(VLOOKUP($B13,[1]NUM8.3!$H$3:$M$157,5,FALSE),0) -> 5 | Q13: =SUM(E13:P13) -> 78 | R13: 1838
A14: 04201-ILLAPEL | B14: 105103-HOSPITAL ILLAPEL | C14: =+D14/Metas!N42 -> 5.2870829 | D14: =+Q14/R14 -> 0.41818182 | E14: =IFERROR(VLOOKUP($B14,[1]NUM8.3!$H$3:$M$157,2,FALSE),0) -> 110 | F14: =IFERROR(VLOOKUP($B14,[1]NUM8.3!$H$3:$M$157,3,FALSE),0) -> 122 | G14: =IFERROR(VLOOKUP($B14,[1]NUM8.3!$H$3:$M$157,4,FALSE),0) -> 145 | H14: =IFERROR(VLOOKUP($B14,[1]NUM8.3!$H$3:$M$157,5,FALSE),0) -> 129 | Q14: =SUM(E14:P14) -> 506 | R14: 1210
A15: 04203-LOS VILOS | B15: 105108-HOSPITAL LOS VILOS | C15: =+D15/Metas!N43 -> 2.3987327 | D15: =+Q15/R15 -> 0.14392396 | E15: =IFERROR(VLOOKUP($B15,[1]NUM8.3!$H$3:$M$157,2,FALSE),0) -> 44 | F15: =IFERROR(VLOOKUP($B15,[1]NUM8.3!$H$3:$M$157,3,FALSE),0) -> 35 | G15: =IFERROR(VLOOKUP($B15,[1]NUM8.3!$H$3:$M$157,4,FALSE),0) -> 48 | H15: =IFERROR(VLOOKUP($B15,[1]NUM8.3!$H$3:$M$157,5,FALSE),0) -> 85 | Q15: =SUM(E15:P15) -> 212 | R15: 1473
A16: 04204-SALAMANCA | B16: 105104-HOSPITAL SALAMANCA | C16: =+D16/Metas!N44 -> 0.85390947 | D16: =+Q16/R16 -> 0.051234568 | E16: =IFERROR(VLOOKUP($B16,[1]NUM8.3!$H$3:$M$157,2,FALSE),0) -> 16 | F16: =IFERROR(VLOOKUP($B16,[1]NUM8.3!$H$3:$M$157,3,FALSE),0) -> 21 | G16: =IFERROR(VLOOKUP($B16,[1]NUM8.3!$H$3:$M$157,4,FALSE),0) -> 31 | H16: =IFERROR(VLOOKUP($B16,[1]NUM8.3!$H$3:$M$157,5,FALSE),0) -> 15 | Q16: =SUM(E16:P16) -> 83 | R16: 1620
A17: 04302-COMBARBALÁ | B17: 105105-HOSPITAL COMBARBALA | C17: =+D17/Metas!N45 -> 1.3992604 | D17: =+Q17/R17 -> 0.092980857 | E17: =IFERROR(VLOOKUP($B17,[1]NUM8.3!$H$3:$M$157,2,FALSE),0) -> 28 | F17: =IFERROR(VLOOKUP($B17,[1]NUM8.3!$H$3:$M$157,3,FALSE),0) -> 30 | G17: =IFERROR(VLOOKUP($B17,[1]NUM8.3!$H$3:$M$157,4,FALSE),0) -> 22 | H17: =IFERROR(VLOOKUP($B17,[1]NUM8.3!$H$3:$M$157,5,FALSE),0) -> 22 | Q17: =SUM(E17:P17) -> 102 | R17: 1097
B18: TOTAL HOSPITALES | E18: =SUM(E12:E17) -> 293 | F18: =SUM(F12:F17) -> 260 | G18: =SUM(G12:G17) -> 321 | H18: =SUM(H12:H17) -> 288 | I18: =SUM(I12:I17) -> 0 | J18: =SUM(J12:J17) -> 0 | K18: =SUM(K12:K17) -> 0 | L18: =SUM(L12:L17) -> 0 | ... Q18: =SUM(Q12:Q17) -> 1162 | R18: =SUM(R12:S17) -> 8630

Sheet META 9
A1: COMUNA | B1: ESTABLECIMIENTO | C1: CUMPLIMIENTO | D1: Indicador | E1: META 9: COBERTURA DE EVALUACIÓN DEL DESARROLLO PSICOMOTOR DE NIÑOS Y NIÑAS DE 12 A 23 MESES BAJO CONTROL
E2: NUMERADOR | R2: DENOMINADOR
E10: Niños y niñas 12 a 23 con Evaluación del Desarrollo Psicomotor | R10: Niños y Niñas entre 12 a 23 meses bajo control
D11: Resultado | E11: ENERO | F11: FEBRERO | G11: MARZO | H11: ABRIL | I11: MAYO | J11: JUNIO | K11: JULIO | L11: AGOSTO | M11: SEPBRE | N11: OCTBRE | O11: NOVBRE | P11: DICBRE | Q11: TOTAL | R11: A DIC 2016 | S11: A MARZO | T11: A JUNIO | U11: A AGOSTO | V11: A OCTBRE | W11: A DICBRE
A12: 04103-ANDACOLLO | B12: 105106-HOSPITAL ANDACOLLO | C12: =+D12/Metas!O40 -> 0.29461279 | D12: =+Q12/R12 -> 0.26515152 | E12: =IFERROR(VLOOKUP($B12,[1]NUM9!$H$3:$M$149,2,FALSE),0) -> 12 | F12: =IFERROR(VLOOKUP($B12,[1]NUM9!$H$3:$M$149,3,FALSE),0) -> 7 | G12: =IFERROR(VLOOKUP($B12,[1]NUM9!$H$3:$M$149,4,FALSE),0) -> 7 | H12: =IFERROR(VLOOKUP($B12,[1]NUM9!$H$3:$M$149,5,FALSE),0) -> 9 | Q12: =SUM(E12:P12) -> 35 | R12: =IFERROR(VLOOKUP($B12,[2]DEN9!$H$3:$J$158,2,FALSE),0) -> 132
A13: 04106-VICUÑA | B13: 105107-HOSPITAL VICUÑA | C13: =+D13/Metas!O41 -> 0.17736046 | D13: =+Q13/R13 -> 0.15962441 | E13: =IFERROR(VLOOKUP($B13,[1]NUM9!$H$3:$M$149,2,FALSE),0) -> 13 | F13: =IFERROR(VLOOKUP($B13,[1]NUM9!$H$3:$M$149,3,FALSE),0) -> 9 | G13: =IFERROR(VLOOKUP($B13,[1]NUM9!$H$3:$M$149,4,FALSE),0) -> 7 | H13: =IFERROR(VLOOKUP($B13,[1]NUM9!$H$3:$M$149,5,FALSE),0) -> 5 | Q13: =SUM(E13:P13) -> 34 | R13: =IFERROR(VLOOKUP($B13,[2]DEN9!$H$3:$J$158,2,FALSE),0) -> 213
A14: 04201-ILLAPEL | B14: 105103-HOSPITAL ILLAPEL | C14: =+D14/Metas!O42 -> 0.3483887 | D14: =+Q14/R14 -> 0.32748538 | E14: =IFERROR(VLOOKUP($B14,[1]NUM9!$H$3:$M$149,2,FALSE),0) -> 14 | F14: =IFERROR(VLOOKUP($B14,[1]NUM9!$H$3:$M$149,3,FALSE),0) -> 17 | G14: =IFERROR(VLOOKUP($B14,[1]NUM9!$H$3:$M$149,4,FALSE),0) -> 15 | H14: =IFERROR(VLOOKUP($B14,[1]NUM9!$H$3:$M$149,5,FALSE),0) -> 10 | Q14: =SUM(E14:P14) -> 56 | R14: =IFERROR(VLOOKUP($B14,[2]DEN9!$H$3:$J$158,2,FALSE),0) -> 171
